Workbook
Name \B: [1]FTI!$A$624
Name \P: #REF!
Name \Q: [2]B!#REF!
Name \Z: #REF!
Name _______usd08: 40
Name ______usd08: 40
Name _____usd08: 40
Name ____usd08: 40
Name ___INDEX_SHEET___ASAP_Utilities: #REF!
Name __usd08: 40
Name _fax1: [3]HALMODEL!$A$176:$L$365,[3]HALMODEL!$A$387:$L$429,[3]HALMODEL!$A$436:$L$472
Name _T_CA_CASH_Y05: [6]em!$AF$518
Name _T_EQ_SHAREHOLD_Y02: [6]em!$Z$549
Name _T_PLN_DEPR_Y05: [6]em!$AF$418
Name _T_PLN_EXP_OTHER_Y00: [7]em!$V$410
Name _T_PLN_EXP_OTHER_Y01: [7]em!$X$410
Name _T_PLN_EXP_OTHER_Y02: [7]em!$Z$410
Name _T_PLN_EXP_OTHER_Y03: [7]em!$AB$410
Name _T_PLN_EXP_OTHER_Y04: [7]em!$AD$410
Name _T_PLN_EXP_OTHER_Y05: [7]em!$AF$410
Name _T_PLN_INT_OTHER_Y02: [6]em!$Z$415
Name _T_PLN_INT_OTHER_Y03: [6]em!$AB$415
Name _T_PLN_INT_OTHER_Y04: [6]em!$AD$415
Name _T_PLN_INT_OTHER_Y05: [6]em!$AF$415
Name _T_PLN_TAX_Y02: [6]em!$Z$428
Name _T_PLN_TAX_Y03: [6]em!$AB$428
Name _T_PLN_TAX_Y04: [6]em!$AD$428
Name _T_PLN_TAX_Y05: [6]em!$AF$428
Name _UP15: #REF!
Name _UP15: #REF!
Name _UP2: #REF!
Name _UP2: #REF!
Name _UP3: #REF!
Name _UP3: #REF!
Name _UP4: #REF!
Name _UP5: #REF!
Name _UP6: #REF!
Name _usd08: 40
Name _yr888990: [8]FRGNRG!$A$268:$P$331
Name _yr919293: [8]FRGNRG!$A$336:$T$395
Name _yr94: [8]FRGNRG!$A$396:$O$589
Name a: #REF!
Name a: #REF!
Name aaaa: #REF!
Name abe: [9]divmargins!$C$12:$E$32
Name ACNLC: #N/A
Name AcqName: #REF!
Name Acquiror: #REF!
Name Acquiror_Book_Value: #REF!
Name Acquiror_CapEx_Year1: #REF!
Name Acquiror_CapEx_Year2: #REF!
Name additional_charge: [10]Template!$D$257:$T$257
Name adj_net_profit_ex_eo_forex_Q: #REF!
Name adj_net_profit_ex_eo_forex_Q: #REF!
Name adj_net_profit_ex_eo_Q: #REF!
Name adj_net_profit_ex_eo_Q: #REF!
Name ADJ_TRIAL: [11]TRIAL!$A$1:$D$354
Name ADJTRIAL: [12]TB!$F$4:$J$871
Name adjusted_eps: [10]Template!$D$161:$T$161
Name Adjusted_Net_Operating_Profit: [13]NOPAT_VDF!$C$26:$AU$26

Sheet Conso_BS
A1: PARTICULARS | B1: 40238 | C1: 40603 | D1: 40969 | E1: 41334 | F1: 41699 | G1: 42064 | H1: 42430 | I1: 42795 | J1: 43160 | K1: 43525 | L1: 43891
A2: EQUITY AND LIABILITIES
A3: Share Capital | B3: 93.12 | C3: 93.43 | D3: 93.48 | E3: 93.48 | F3: 91.49 | G3: 91.49 | H3: 91.49 | I3: 91.5 | J3: =+I3 -> 91.5 | K3: =+J3 -> 91.5 | L3: =+K3 -> 91.5
A4: Share Warrants & Outstandings | B4: 22.34 | C4: 1.79 | D4: 0 | E4: 0 | F4: 102 | G4: 23.52
A5: Total Reserves | B5: 10301.32 | C5: 14015.08 | D5: 18017.62 | E5: 21158.78 | F5: 22417.05 | G5: 20927.06 | H5: 32344.61 | I5: =+'Reserves & Surplus'!C8 -> 29959.03 | J5: =+'Reserves & Surplus'!D8 -> 28419.197 | K5: =+'Reserves & Surplus'!E8 -> 28981.758 | L5: =+'Reserves & Surplus'!F8 -> 29635.585
A6: Shareholder's Funds | B6: 10416.78 | C6: 14110.3 | D6: 18111.1 | E6: 21252.26 | F6: 22610.54 | G6: 21042.07 | H6: =SUM(H3:H5) -> 32436.1 | I6: =SUM(I3:I5) -> 30050.53 | J6: =SUM(J3:J5) -> 28510.697 | K6: =SUM(K3:K5) -> 29073.258 | L6: =SUM(L3:L5) -> 29727.085
A8: Minority Interest | B8: 165.91 | C8: 233.45 | D8: 307.1 | E8: 557.27 | F8: 1080.22 | G8: 857.25 | H8: 899.83 | I8: 646.71 | J8: =+I8+Conso_PL!J48 -> 644.83444 | K8: =+J8+Conso_PL!K48 -> 664.21305 | L8: =800.28+Conso_PL!L48 -> 820.58139
A10: Long-Term Borrowings
A11: Long Term loans | B11: 8604.29 | C11: 7377.64 | D11: 11179.63 | E11: 15401.64 | F11: 25900.25 | G11: 35613.94 | H11: 36353 | I11: 32598.34 | J11: =+'Debt repayment & interest cost'!E19 -> 28398.06 | K11: =+'Debt repayment & interest cost'!F19 -> 23944.55 | L11: =+'Debt repayment & interest cost'!G19 -> 21099.55
A12: Deferred Tax Assets / Liabilities | B12: 845.47 | C12: 1005.48 | D12: 1191.95 | E12: 1336.54 | F12: 1472.67 | G12: 2018.47 | H12: 6621.15 | I12: 5358.63 | J12: =+'BS Working'!I87 -> 4913.8 | K12: =+'BS Working'!J87 -> 4945.8742 | L12: =+'BS Working'!K87 -> 4484.5981
A13: Other Long Term Liabilities | C13: 141.25 | D13: 142.06 | E13: 561.79 | F13: 166.8 | G13: 213.9 | H13: 93.7 | I13: =673.21+0.27 -> 673.48 | J13: =+I13 -> 673.48 | K13: =+J13 -> 673.48 | L13: =+K13 -> 673.48
A14: Long Term Trade Payables | I14: 90.88 | J14: =+I14 -> 90.88 | K14: =+J14 -> 90.88 | L14: =+K14 -> 90.88
A15: Long Term Provisions | C15: 19.47 | D15: 33.54 | E15: 32.71 | F15: 126.69 | G15: 159.32 | H15: 195.73 | I15: 307.21 | J15: =+'BS Working'!I50 -> 325.72046 | K15: =+'BS Working'!J50 -> 403.40967 | L15: =+'BS Working'!K50 -> 424.46332
A16: Total Non-Current Liabilities | B16: 9449.76 | C16: 8543.84 | D16: 12547.18 | E16: 17332.68 | F16: 27666.41 | G16: 38005.63 | H16: =SUM(H8:H15) -> 44163.41 | I16: =SUM(I8:I15) -> 39675.25 | J16: =SUM(J11:J15) -> 34401.94 | K16: =SUM(K11:K15) -> 30058.194 | L16: =SUM(L11:L15) -> 26772.971
A18: Current Liabilities
A19: Trade Payables | B19: 2265.67 | C19: 933.55 | D19: 1251.36 | E19: 1398.2 | F19: 2601.58 | G19: 2053.29 | H19: 2317.74 | I19: 2937.82 | J19: =+'BS Working'!I16 -> 4127.0461 | K19: =+'BS Working'!J16 -> 4906.9521 | L19: =+'BS Working'!K16 -> 5163.0423
A20: Other Current Liabilities | B20: 772.07 | C20: 3254.99 | D20: 4110.16 | E20: 3401.25 | F20: 6212.68 | G20: 6571.14 | H20: 6432.52 | I20: =8835.79+1675.9+0.11 -> 10511.8 | J20: =+'BS Working'!I29 -> 11448.426 | K20: =+'BS Working'!J29 -> 12313.383 | L20: =+'BS Working'!K29 -> 12563.403
A21: Short Term Borrowings | C21: 5925.98 | D21: 4569.31 | E21: 8247.18 | F21: 8329.58 | G21: 6852.34 | H21: 7777.95 | I21: 7360.1 | J21: =+I21 -> 7360.1 | K21: =+J21 -> 7360.1 | L21: =+K21 -> 7360.1
A22: Short Term Provisions | B22: 2052.22 | C22: 3086.79 | D22: 4111.33 | E22: 4883.8 | F22: 412.43 | G22: 154.89 | H22: =64.8+0.9 -> 65.7 | I22: 62.43 | J22: =+'BS Working'!I34 -> 120.50975 | K22: =+'BS Working'!J34 -> 149.25313 | L22: =+'BS Working'!K34 -> 157.04254
A23: Total Current Liabilities | B23: 5089.96 | C23: 13201.31 | D23: 14042.16 | E23: 17930.43 | F23: 17556.27 | G23: 15631.66 | H23: =SUM(H19:H22) -> 16593.91 | I23: =SUM(I19:I22) -> 20872.15 | J23: =SUM(J19:J22) -> 23056.082 | K23: =SUM(K19:K22) -> 24729.688 | L23: =SUM(L19:L22) -> 25243.588
A25: Total Liabilities | B25: 25122.41 | C25: 36088.9 | D25: 45007.54 | E25: 57072.64 | F25: 68913.44 | G25: 75536.61 | H25: =H6+H16+H23 -> 93193.42 | I25: =+I6+I16+I23 -> 90597.93 | J25: =+J6+J16+J23+J8 -> 86613.554 | K25: =+K6+K16+K23+K8 -> 84525.353 | L25: =+L6+L16+L23+L8 -> 82564.226
A27: ASSETS
A29: Non-Current Assets
A30: Gross Block | B30: 13263.17 | C30: 19377.4 | D30: 22421.81 | E30: 26857.44 | F30: 47257.62 | G30: 61771.95 | H30: 84142.75 | I30: 86131.53 | J30: =+'BS Working'!I61 -> 86431.53 | K30: =+'BS Working'!J61 -> 89785.396 | L30: =+'BS Working'!K61 -> 90085.396
A31: Less: Accumulated Depreciation | B31: 3265.08 | C31: 4432.12 | D31: 5836.03 | E31: 7428.54 | F31: 12268.67 | G31: 15128.6 | H31: 22930.03 | I31: 23942.01 | J31: =+'BS Working'!I62 -> 29404.48 | K31: =+'BS Working'!J62 -> 32386.109 | L31: =+'BS Working'!K62 -> 38039.444
A32: Less: Impairment of Assets
A33: Net Block | B33: 9998.09 | C33: 14945.28 | D33: 16585.78 | E33: 19428.9 | F33: 34988.95 | G33: 46643.35 | H33: =+H30-H31 -> 61212.72 | I33: =+I30-I31 -> 62189.52 | J33: =+J30-J31 -> 57027.05 | K33: =+K30-K31 -> 57399.287 | L33: =+L30-L31 -> 52045.953
A35: Intangible assets | H35: =+'BS Working'!G81 -> 3277.43 | I35: =+'BS Working'!H81 -> 3143.23 | J35: =+'BS Working'!I81 -> 3014.525 | K35: =+'BS Working'!J81 -> 2891.0901 | L35: =+'BS Working'!K81 -> 2772.7095
A36: Capital Work in Progress | B36: 6839.07 | C36: 8264.57 | D36: 11979.29 | E36: 16350.7 | F36: 14749.56 | G36: 6094.15 | H36: 10702.7 | I36: 8713.98 | J36: =+I36 -> 8713.98 | K36: 0 | L36: 0
A37: Intangible assets under development | C37: 20.41 | D37: 179.9 | E37: 1147.45 | F37: 1419.57 | G37: 1672.24 | H37: 1124.1 | I37: 1002.19 | J37: =+I37 -> 1002.19 | K37: =+J37 -> 1002.19 | L37: =+K37 -> 1002.19
A38: Pre-operative Expenses pending | B38: 1107.9 | C38: 1095.96 | D38: 1492.76 | E38: 1732.14 | F38: 1642.04 | G38: 1301.58 | J38: -0.29 | L38: -8.16
A39: Non Current Investments | B39: 262.96 | C39: 297.88 | D39: 377.62 | E39: 808.86 | F39: 341.83 | G39: 352.79 | H39: =32.42+548.45+359.36-0.5 -> 939.73 | I39: =31.9+566.99 -> 598.89 | J39: =+I39 -> 598.89 | K39: =+J39-4.14 -> 594.75 | L39: =+K39 -> 594.75
A40: Long Term Loans & Advances | C40: 2221.32 | D40: 2180.94 | E40: 2421.43 | F40: 2819.84 | G40: 3469.95 | H40: =1028.42+66.9+511.42+0.45 -> 1607.19 | I40: =0.45+367.66+484.8+36.81+508.85 -> 1398.57 | J40: =+I40 -> 1398.57 | K40: =+J40 -> 1398.57 | L40: =+K40 -> 1398.57
A41: Other Non Current Assets | C41: 14.39 | D41: 14.24 | E41: 1.95 | F41: 0.64 | G41: 46.97 | H41: 1597.74 | I41: 617.51 | J41: =+I41 -> 617.51 | K41: =+J41 -> 617.51 | L41: =+K41 -> 617.51
A42: Total Non-Current Assets | B42: 18208.02 | C42: 26859.81 | D42: 32810.53 | E42: 41891.43 | F42: 55962.43 | G42: 59581.03 | H42: =SUM(H35:H41) -> 19248.89 | I42: =SUM(I35:I41) -> 15474.37 | J42: =SUM(J35:J41) -> 15345.375 | K42: =SUM(K35:K41) -> 6504.1101 | L42: =SUM(L35:L41) -> 6377.5695
A44: Current Assets Loans & Advances
A45: Currents Investments | B45: 55.51 | F45: 0.04 | G45: 1432.4 | H45: 0.03 | I45: 0.38 | J45: =+I45 -> 0.38 | K45: =+J45 -> 0.38 | L45: =+K45 -> 0.38
A46: Inventories | B46: 1430.82 | C46: 2773.43 | D46: 3579.53 | E46: 4524.17 | F46: 4881.24 | G46: 4848.69 | H46: 3254.1 | I46: 3599.26 | J46: =+'BS Working'!I10 -> 5365.1599 | K46: =+'BS Working'!J10 -> 6644.831 | L46: =+'BS Working'!K10 -> 6991.6198
A47: Sundry Debtors | B47: 753.32 | C47: 1153.7 | D47: 1306.75 | E47: 1954.13 | F47: 1772.41 | G47: 1690.7 | H47: 1429.18 | I47: 1716.62 | J47: =+'BS Working'!I4 -> 2558.7686 | K47: =+'BS Working'!J4 -> 3066.8451 | L47: =+'BS Working'!K4 -> 3226.9014
A48: Cash and Bank | B48: 112.77 | C48: 463.99 | D48: 149.21 | E48: 200.13 | F48: 1015.28 | G48: 1139.07 | H48: =502.46+117.92 -> 620.38 | I48: =+Conso_CF!I67 -> 477.21043 | J48: =+Conso_CF!J67 -> 231.08256 | K48: =+Conso_CF!K67 -> 3372.6147 | L48: =+Conso_CF!L67 -> 4106.6425
...

Sheet Conso_CF
A1: Particulars | B1: 40238 | C1: 40603 | D1: 40969 | E1: 41334 | F1: 41699 | G1: 42064 | H1: 42430 | I1: 42795 | J1: 43160 | K1: 43525 | L1: 43891
A2: A. CASH FLOW FROM OPERATING ACTIVITIES
A4: Profit Before Tax | B4: 4553.45 | C4: 4988.02 | D4: 5188.6 | E4: 3833.45 | F4: 2512.01 | G4: -1542.75 | H4: -2674.93 | I4: =+Conso_PL!I42 -> -3042.8796 | J4: =+Conso_PL!J42 -> -238.92533 | K4: =+Conso_PL!K42 -> 2615.1096 | L4: =+Conso_PL!L42 -> 2586.1642
A6: Adjustment
A7: Depreciation | B7: 1043.02 | C7: 1151 | D7: 1386.47 | E7: 1539.22 | F7: 1829.2 | G7: 2732.83 | H7: 2819.39 | I7: =+Conso_BS!I31-Conso_BS!H31-'Reserves & Surplus'!C4 -> 907.66 | J7: =+Conso_BS!J31-Conso_BS!I31-'Reserves & Surplus'!D4 -> 4108.47 | K7: =+Conso_BS!K31-Conso_BS!J31-'Reserves & Surplus'!E4 -> 1627.6289 | L7: =+Conso_BS!L31-Conso_BS!K31-'Reserves & Surplus'!F4 -> 4299.3349
A8: Impairment | H8: 226.82
A9: Interest Expenses | B9: 357.58 | C9: 259.57 | D9: 360.04 | E9: 758.16 | F9: 1181.25 | G9: 2605.8 | H9: 3252.74 | I9: =+Conso_PL!I37 -> -3389.59 | J9: =+Conso_PL!J37 -> -3368.5865 | K9: =+Conso_PL!K37 -> -3031.936 | L9: =+Conso_PL!L37 -> -2681.6196
A10: Profit/Loss on sale of Fixed Assets | B10: -1.52 | C10: 3.35 | D10: -5.72 | E10: -3.62 | F10: 31.87 | G10: 20.63 | H10: -5.92
A11: Profit/Loss on sale of investments | B11: -10.48 | C11: -6.69 | D11: 92.05 | E11: 505.53 | F11: -5.1 | G11: -38.53 | H11: -174.76
A12: Dividend Received | B12: -0.86 | D12: -0.13 | E12: -0.25 | F12: -0.38 | G12: -3.76 | H12: -2.88 | I12: =+Conso_PL!I29*-1 -> -9.99 | J12: =+Conso_PL!J29*-1 -> -10 | K12: =+Conso_PL!K29*-1 -> -10 | L12: =+Conso_PL!L29*-1 -> -10
A13: Diminution in the value / Write off of Investments | D13: -11.54
A14: Effect of Exchange Rate Change | F14: -4.62 | G14: -408.6 | H14: -364.46
A15: Provision & Written Off | B15: -7.83 | C15: -7.39 | D15: -8.68 | E15: -1.13 | F15: -18.04 | G15: -97.36 | H15: -135.25
A16: Provision for doubtful debts & advances | B16: -0.1 | C16: -0.63 | D16: 0.1 | F16: 0.09 | G16: 52.61 | H16: 42.17
A17: Misc. Expenses written off | B17: 3.59 | C17: 14.97 | D17: 1.56
A18: Other Adjustments | F18: 0.24 | G18: 0.53
A19: Operating profit before working capital changes | B19: =+SUM(B4:B18) -> 5936.85 | C19: =+SUM(C4:C18) -> 6402.2 | D19: =+SUM(D4:D18) -> 7002.75 | E19: =+SUM(E4:E18) -> 6631.36 | F19: =+SUM(F4:F18) -> 5526.52 | G19: =+SUM(G4:G18) -> 3321.4 | H19: =+SUM(H4:H18) -> 2982.92 | I19: =+SUM(I4:I18) -> -5534.7996 | ... L19: =+SUM(L4:L18) -> 4193.8795
A21: Changes In working Capital
A22: Trade & Other receivables | B22: -253.29 | C22: -399.7 | D22: -153.05 | E22: -647.38 | F22: 181.63 | G22: -231.1 | H22: 257.24 | I22: =+Conso_BS!H47-Conso_BS!I47 -> -287.44 | J22: =+Conso_BS!I47-Conso_BS!J47 -> -842.14859 | K22: =+Conso_BS!J47-Conso_BS!K47 -> -508.07649 | L22: =+Conso_BS!K47-Conso_BS!L47 -> -160.05637
A23: Inventories | B23: -190.55 | C23: -1342.61 | D23: -806.1 | E23: -944.64 | F23: -357.07 | G23: 32.55 | H23: 1589.07 | I23: =+Conso_BS!H46-Conso_BS!I46 -> -345.16 | J23: =+Conso_BS!I46-Conso_BS!J46 -> -1765.8999 | K23: =+Conso_BS!J46-Conso_BS!K46 -> -1279.6711 | L23: =+Conso_BS!K46-Conso_BS!L46 -> -346.7888
A24: Loans & Advances | C24: -763.1 | D24: -1578.25 | E24: -926.74 | F24: -1129.6 | G24: -1076.28 | H24: -803.86 | I24: =+Conso_BS!H50-Conso_BS!I50 -> -516.76 | J24: =+Conso_BS!I50-Conso_BS!J50 -> -933.30853 | K24: =+Conso_BS!J50-Conso_BS!K50 -> -732.95621 | L24: =+Conso_BS!K50-Conso_BS!L50 -> -2083.1404
A25: Other Current Assets | I25: =+Conso_BS!H49-Conso_BS!I49 -> 804.32 | J25: =+Conso_BS!I49-Conso_BS!J49 -> 1988.1263 | K25: =+Conso_BS!J49-Conso_BS!K49 -> -718.58452 | L25: =+Conso_BS!K49-Conso_BS!L49 -> -194.73525
A26: Trade & Other payables | B26: 844.82 | C26: 625.49 | D26: 498.88 | E26: 198.05 | F26: 1121.15 | G26: -571.91 | H26: 415.83 | I26: =+Conso_BS!I19-Conso_BS!H19+Conso_BS!I14-Conso_BS!H14 -> 710.96 | J26: =+Conso_BS!J19-Conso_BS!I19+Conso_BS!J14-Conso_BS!I14 -> 1189.2261 | K26: =+Conso_BS!K19-Conso_BS!J19+Conso_BS!K14-Conso_BS!J14 -> 779.90602 | L26: =+Conso_BS!L19-Conso_BS!K19+Conso_BS!L14-Conso_BS!K14 -> 256.09019
A27: Increase / (Decrease) in other current Liabilities | F27: 71.2 | G27: 47.1 | H27: -92.27 | I27: =+Conso_BS!I20-Conso_BS!H20 -> 4079.28 | J27: =+Conso_BS!J20-Conso_BS!I20 -> 936.6259 | K27: =+Conso_BS!K20-Conso_BS!J20 -> 864.95708 | L27: =+Conso_BS!L20-Conso_BS!K20 -> 250.01997
A28: Short term provisions | I28: =+Conso_BS!I22-Conso_BS!H22 -> -3.27 | J28: =+Conso_BS!J22-Conso_BS!I22 -> 58.079746 | K28: =+Conso_BS!K22-Conso_BS!J22 -> 28.743381 | L28: =+Conso_BS!L22-Conso_BS!K22 -> 7.7894099
A29: Long term provisions | I29: =+Conso_BS!I15-Conso_BS!H15 -> 111.48 | J29: =+Conso_BS!J15-Conso_BS!I15 -> 18.510458 | K29: =+Conso_BS!K15-Conso_BS!J15 -> 77.689211 | L29: =+Conso_BS!L15-Conso_BS!K15 -> 21.053651
A30: Others
A31: Cash Flow after changes in Working Capital | B31: 6337.83 | C31: 4522.28 | D31: 4964.23 | E31: 4310.65 | F31: 5413.83 | G31: 1521.76 | H31: 4348.93 | I31: =SUM(I22:I29)+I19 -> -981.38957 | J31: =SUM(J22:J29)+J19 -> 1140.1697 | K31: =SUM(K22:K29)+K19 -> -287.19006 | L31: =SUM(L22:L29)+L19 -> 1944.1119
A32: Interest Paid
A33: Tax Paid | B33: -762.97 | C33: -1040.06 | D33: -1042.14 | E33: -788.35 | F33: -833.72 | G33: -339.28 | H33: -16.95 | I33: =-Conso_PL!I44 -> 502.68 | J33: =-Conso_PL!J44 -> 51.368945 | K33: =-Conso_PL!K44 -> -677.24856 | L33: =-Conso_PL!L44 -> -556.0253
A34: Other Direct Expenses paid
A35: Extra & Other Item
A36: Cash From Operating Activities | B36: 5574.86 | C36: 3482.22 | D36: 3922.09 | E36: 3522.3 | F36: 4580.11 | G36: 1182.48 | H36: 4331.98 | I36: =+I31+I33 -> -478.70957 | J36: =+J31+J33 -> 1191.5386 | K36: =+K31+K33 -> -964.43861 | L36: =+L31+L33 -> 1388.0866
A38: B. CASH FLOW FROM INVESTING ACTIVITIES
A39: Purchase of Fixed Assets | B39: -64.34 | C39: -1.11 | E39: -62.49 | F39: -13418.41 | G39: -5101.18 | H39: -3949.95 | I39: =+Conso_BS!H30-Conso_BS!I30 -> -1988.78 | J39: =+Conso_BS!I30-Conso_BS!J30 -> -300 | K39: =+Conso_BS!J30-Conso_BS!K30 -> -3353.8664 | L39: =+Conso_BS!K30-Conso_BS!L30 -> -300
A40: Sale of Fixed Assets | B40: 271.17 | C40: 380.69 | D40: 91.6 | E40: 22.16 | F40: 17.7 | G40: 50.83 | H40: 97.05 | I40: =+Conso_BS!H35-Conso_BS!I35+Conso_BS!H36-Conso_BS!I36+Conso_BS!H37-Conso_BS!I37 -> 2244.83 | J40: =+Conso_BS!I35-Conso_BS!J35+Conso_BS!I36-Conso_BS!J36+Conso_BS!I37-Conso_BS!J37 -> 128.70495 | K40: =+Conso_BS!J35-Conso_BS!K35+Conso_BS!J36-Conso_BS!K36+Conso_BS!J37-Conso_BS!K37 -> 8837.4149 | L40: =+Conso_BS!K35-Conso_BS!L35+Conso_BS!K36-Conso_BS!L36+Conso_BS!K37-Conso_BS!L37 -> 118.38065
A41: Purchase of Investment | D41: -79.74 | E41: -362.65 | G41: -1393.87 | H41: -10.31 | I41: =+Conso_BS!H45-Conso_BS!I45 -> -0.35 | J41: =+Conso_BS!I45-Conso_BS!J45 -> 0 | K41: =+Conso_BS!J45-Conso_BS!K45 -> 0 | L41: =+Conso_BS!K45-Conso_BS!L45 -> 0
A42: Sale of Investments | B42: 205.68 | C42: 27.29 | F42: 575.13 | G42: 36.74 | H42: 1608.88
A43: Investment in Subsidiaries | G43: -31.6
A44: Dividend Income | B44: 0.86 | D44: 0.13 | E44: 0.25 | F44: -0.16 | G44: 3.76 | H44: 2.88 | I44: =+Conso_PL!I29 -> 9.99 | J44: =+Conso_PL!J29 -> 10 | K44: =+Conso_PL!K29 -> 10 | L44: =+Conso_PL!L29 -> 10
...

Sheet projections
C3: Y/E March, Fig in ` Cr | D3: FY16 | E3: FY17E | F3: FY18E | G3: FY19E | H3: FY20E | K3: Y/E March, Fig in ` Cr | L3: FY16 | M3: FY17E | N3: FY18E | O3: FY19E | P3: FY20E
C4: Profit & Loss Statement | K4: Per Share Data (Rs)
C5: Net Sales | D5: =+Conso_PL!H3 -> 18371.59 | E5: =+Conso_PL!I3 -> 21050.51 | F5: =+Conso_PL!J3 -> 30127.437 | G5: =+Conso_PL!K3 -> 37313.282 | H5: =+Conso_PL!L3 -> 39260.634 | K5: Adj. EPS | L5: =+Conso_PL!H55 -> -32.418251 | M5: =+Conso_PL!I55 -> -24.931799 | N5: =+Conso_PL!J55 -> -2.0309611 | O5: =+Conso_PL!K55 -> 20.946016 | P5: =+Conso_PL!L55 -> 21.943469
C6: % Chg. | E6: =(E5/D5-1)*100 -> 14.581863 | F6: =(F5/E5-1)*100 -> 43.119747 | G6: =(G5/F5-1)*100 -> 23.851499 | H6: =(H5/G5-1)*100 -> 5.2189258 | K6: Cash EPS | L6: =+Conso_PL!H56 -> 12.039454 | M6: =+Conso_PL!I56 -> 18.22689 | N6: =+Conso_PL!J56 -> 44.276962 | O6: =+Conso_PL!K56 -> 69.172621 | P6: =+Conso_PL!L56 -> 70.224513
C7: Total Expenditure | D7: =+Conso_PL!H24 -> 14934.66 | E7: =+Conso_PL!I24 -> 16392.46 | F7: =+Conso_PL!J24 -> 22770.6 | G7: =+Conso_PL!K24 -> 28263.502 | H7: =+Conso_PL!L24 -> 29585.135 | K7: DPS | L7: 0 | M7: 0 | N7: 0 | O7: 0 | P7: 0
C8: % Chg. | E8: =(E7/D7-1)*100 -> 9.7611835 | F8: =(F7/E7-1)*100 -> 38.908993 | G8: =(G7/F7-1)*100 -> 24.122778 | H8: =(H7/G7-1)*100 -> 4.6761121 | K8: Book Value | L8: =+Conso_BS!H60 -> 354.48351 | M8: =+Conso_BS!I60 -> 328.4124 | N8: =+Conso_BS!J60 -> 311.58407 | O8: =+Conso_BS!K60 -> 317.73211 | P8: =+Conso_BS!L60 -> 324.87757
C9: EBDITA | D9: =+D5-D7 -> 3436.93 | E9: =+E5-E7 -> 4658.0504 | F9: =+F5-F7 -> 7356.8361 | G9: =+G5-G7 -> 9049.7799 | H9: =+H5-H7 -> 9675.4993 | K9: Capital, Liquidity, Returns Ratio
C10: EBDITA Margin % | D10: =(D9/D5)*100 -> 18.707853 | E10: =(E9/E5)*100 -> 22.127969 | F10: =(F9/F5)*100 -> 24.419058 | G10: =(G9/G5)*100 -> 24.253508 | H10: =(H9/H5)*100 -> 24.644277 | K10: Debt / Equity (x) | L10: =+Conso_BS!H62 -> 1.3605504 | M10: =+Conso_BS!I62 -> 1.3297083 | N10: =+Conso_BS!J62 -> 1.2542015 | O10: =+Conso_BS!K62 -> 1.0767507 | P10: =+Conso_BS!L62 -> 0.95736429
C11: Other Income | D11: =+Conso_PL!H29 -> 156.69 | E11: =+Conso_PL!I29 -> 9.99 | F11: =+Conso_PL!J29 -> 10 | G11: =+Conso_PL!K29 -> 10 | H11: =+Conso_PL!L29 -> 10 | I11: =+'[63]Profit and loss'!J30 -> 0 | K11: Current Ratio (x) | L11: =+'BS Working'!G119 -> 0.76725799 | M11: =+'BS Working'!H119 -> 0.61967887 | N11: =+'BS Working'!I119 -> 0.61767361 | O11: =+'BS Working'!J119 -> 0.83389461 | P11: =+'BS Working'!K119 -> 0.95631027
C12: PBDIT | D12: =D9+D11 -> 3593.62 | E12: =E9+E11 -> 4668.0404 | F12: =F9+F11 -> 7366.8361 | G12: =G9+G11 -> 9059.7799 | H12: =H9+H11 -> 9685.4993 | K12: ROE (%) | L12: =+Conso_BS!H65 -> -0.09144965 | M12: =+Conso_BS!I65 -> -0.07591412 | N12: =+Conso_BS!J65 -> -0.0065180074 | O12: =+Conso_BS!K65 -> 0.065921763 | P12: =+Conso_BS!L65 -> 0.067542019
C13: Depreciation | D13: =+Conso_PL!H33*-1 -> 4067.88 | E13: =+Conso_PL!I33 -> -3949.02 | F13: =+Conso_PL!J33 -> -4237.1749 | G13: =+Conso_PL!K33 -> -4412.7344 | H13: =+Conso_PL!L33 -> -4417.7156 | K13: ROCE (%) | L13: =+Conso_BS!H66 -> -0.048687 | M13: =+Conso_BS!I66 -> -0.038146106 | N13: =+Conso_BS!J66 -> -0.003717591 | O13: =+Conso_BS!K66 -> 0.026750009 | P13: =+Conso_BS!L66 -> 0.044445941
C14: Interest | D14: =+Conso_PL!H37*-1 -> 3253.56 | E14: =+Conso_PL!I37 -> -3389.59 | F14: =+Conso_PL!J37 -> -3368.5865 | G14: =+Conso_PL!K37 -> -3031.936 | H14: =+Conso_PL!L37 -> -2681.6196 | K14: Dividend Yield (%) | L14: =+L7/707*100 -> 0 | M14: =+M7/707*100 -> 0 | N14: =+N7/707*100 -> 0 | O14: =+O7/707*100 -> 0 | P14: =+P7/707*100 -> 0
C15: Exceptional items | D15: 0 | E15: =+Conso_PL!I41*-1 -> 372.31 | F15: 0 | G15: =+Conso_PL!K41 -> 1000 | H15: 0 | K15: Valuation Ratio (x)
C16: PBT | D16: =+D12-D13-D14+D15 -> -3727.82 | E16: =E12+E13+E14-E15 -> -3042.8796 | F16: =F12+F13+F14-F15 -> -238.92533 | G16: =G12+G13+G14+G15 -> 2615.1096 | H16: =H12+H13+H14-H15 -> 2586.1642 | K16: P/E | L16: NA | M16: NA | N16: =141/Conso_PL!J55 -> -69.42526 | O16: =141/Conso_PL!K55 -> 6.7315905 | P16: =113.2/Conso_PL!L55 -> 5.1587104
C17: Tax Provisions | D17: =+Conso_PL!H44 -> -877.46 | E17: =+Conso_PL!I44 -> -502.68 | F17: =+Conso_PL!J44 -> -51.368945 | G17: =+Conso_PL!K44 -> 677.24856 | H17: =+Conso_PL!L44 -> 556.0253 | K17: P/BV | L17: =141/Conso_BS!H60 -> 0.39776181 | M17: =141/Conso_BS!I60 -> 0.42933824 | N17: =141/Conso_BS!J60 -> 0.45252634 | O17: =141/Conso_BS!K60 -> 0.44377007 | P17: =141/Conso_BS!L60 -> 0.43400964
C18: Reported PAT | D18: =D16-D17 -> -2850.36 | E18: =E16-E17 -> -2540.1996 | F18: =F16-F17 -> -187.55638 | G18: =G16-G17 -> 1937.861 | H18: =H16-H17 -> 2030.1389 | K18: EV/Sales | L18: =+Conso_BS!H71/Conso_PL!H5 -> 3.0706331 | M18: =+Conso_BS!I71/Conso_PL!I5 -> 2.4884467 | N18: =+Conso_BS!J71/Conso_PL!J5 -> 1.607469 | O18: =+Conso_BS!K71/Conso_PL!K5 -> 1.0943523 | P18: =+Conso_BS!L71/Conso_PL!L5 -> 0.94891104
C19: Minority Interest | D19: =Conso_PL!H52 -> -119.92 | E19: =Conso_PL!I52 -> -258.94 | F19: =Conso_PL!J52 -> -1.7234446 | G19: =Conso_PL!K52 -> 21.300582 | H19: =Conso_PL!L52 -> 22.311512 | K19: EV/EBIDTA | L19: =+Conso_BS!H71/Conso_PL!H26 -> 16.413605 | M19: =+Conso_BS!I71/Conso_PL!I26 -> 11.245707 | N19: =+Conso_BS!J71/Conso_PL!J26 -> 6.582846 | O19: =+Conso_BS!K71/Conso_PL!K26 -> 4.5121403 | P19: =+Conso_BS!L71/Conso_PL!L26 -> 3.8504317
C20: PAT | D20: =+D18-D19 -> -2730.44 | E20: =+E18-E19 -> -2281.2596 | F20: =+F18-F19 -> -185.83294 | G20: =+G18-G19 -> 1916.5604 | H20: =+H18-H19 -> 2007.8274 | K20: Efficiency Ratio (x)
C21: PAT Margin (%) | D21: =+D20/D5*100 -> -14.862296 | E21: =+E20/E5*100 -> -10.837075 | F21: =+F20/F5*100 -> -0.61682293 | G21: =+G20/G5*100 -> 5.1364027 | H21: =+H20/H5*100 -> 5.1140981 | K21: Inventory (days) | L21: =+'BS Working'!G13 -> 64.651263 | M21: =+'BS Working'!H13 -> 65 | N21: =+'BS Working'!I13 -> 65 | O21: =+'BS Working'!J13 -> 65 | P21: =+'BS Working'!K13 -> 65
C22: Other opr Exp / Sales (%) | D22: =+'[63]Profit and loss'!F24/'[63]Profit and loss'!F8 -> 0.0010409889 | E22: =+'[63]Profit and loss'!G24/'[63]Profit and loss'!G8 -> 0.0015 | F22: =+'[63]Profit and loss'!H24/'[63]Profit and loss'!H8 -> 0.0015 | G22: =+'[63]Profit and loss'!I24/'[63]Profit and loss'!I8 -> 0.0015 | H22: 0 | K22: Debtors (days) | L22: =+'BS Working'!G7 -> 28.394423 | M22: =+'BS Working'!H7 -> 32 | N22: =+'BS Working'!I7 -> 31 | O22: =+'BS Working'!J7 -> 30 | P22: =+'BS Working'!K7 -> 30 | W22: 410
C23: Tax Rate (%) | D23: =+D17/D16*100 -> 23.538154 | E23: =+E17/E16*100 -> 16.519878 | F23: =+F17/F16*100 -> 21.5 | G23: =+G17/G16*100 -> 25.897521 | H23: =+H17/H16*100 -> 21.5 | K23: Creditors (days) | L23: =+'BS Working'!G19 -> 46.048007 | M23: =+'BS Working'!H19 -> 50 | N23: =+'BS Working'!I19 -> 50 | O23: =+'BS Working'!J19 -> 48 | P23: =+'BS Working'!K19 -> 48 | W23: 307
W24: =W22-W23 -> 103
C25: Balance Sheet | K25: Cash Flow Statement | W25: =W24/W23 -> 0.33550489
C26: Share Capital | D26: =+Conso_BS!H3 -> 91.49 | E26: =+Conso_BS!I3 -> 91.5 | F26: =+Conso_BS!J3 -> 91.5 | G26: =+Conso_BS!K3 -> 91.5 | H26: =+Conso_BS!L3 -> 91.5 | K26: Profit Before Tax | L26: =+Conso_CF!H4 -> -2674.93 | M26: =+Conso_CF!I4 -> -3042.8796 | N26: =+Conso_CF!J4 -> -238.92533 | O26: =+Conso_CF!K4 -> 2615.1096 | P26: =+Conso_CF!L4 -> 2586.1642
C27: Reserves & Surplus | D27: =+Conso_BS!H5+Conso_BS!H4 -> 32344.61 | E27: =+Conso_BS!I5+Conso_BS!I4 -> 29959.03 | F27: =+Conso_BS!J5+Conso_BS!J4 -> 28419.197 | G27: =+Conso_BS!K5+Conso_BS!K4 -> 28981.758 | H27: =+Conso_BS!L5+Conso_BS!L4 -> 29635.585 | K27: Depreciation | L27: =+Conso_CF!H7+Conso_CF!H8 -> 3046.21 | M27: =+Conso_CF!I7+Conso_CF!I8 -> 907.66 | N27: =+Conso_CF!J7+Conso_CF!J8 -> 4108.47 | O27: =+Conso_CF!K7+Conso_CF!K8 -> 1627.6289 | P27: =+Conso_CF!L7+Conso_CF!L8 -> 4299.3349
C28: Minority Interest | D28: =+Conso_BS!H8 -> 899.83 | E28: =+Conso_BS!I8 -> 646.71 | F28: =+Conso_BS!J8 -> 644.83444 | G28: =+Conso_BS!K8 -> 664.21305 | H28: =+Conso_BS!L8 -> 820.58139 | K28: Working Capital Changes | L28: =+SUM(Conso_CF!H22:H30) -> 1366.01 | M28: =+SUM(Conso_CF!I22:I30) -> 4553.41 | N28: =+SUM(Conso_CF!J22:J30) -> 649.2115 | O28: =+SUM(Conso_CF!K22:K30) -> -1487.9926 | P28: =+SUM(Conso_CF!L22:L30) -> -2249.7676
C29: Long Term Borrowings | D29: =+Conso_BS!H11 -> 36353 | E29: =+Conso_BS!I11 -> 32598.34 | F29: =+Conso_BS!J11 -> 28398.06 | G29: =+Conso_BS!K11 -> 23944.55 | H29: =+Conso_BS!L11 -> 21099.55 | K29: Others | L29: =+SUM(Conso_CF!H9:H18)+SUM(Conso_CF!H32:H35) -> 2594.69 | M29: =+SUM(Conso_CF!I9:I18)+502.68 -> -2896.9 | N29: =+SUM(Conso_CF!J9:J18)+SUM(Conso_CF!J32:J35) -> -3327.2176 | O29: =+SUM(Conso_CF!K9:K18)-SUM(Conso_CF!K32:K35) -> -2364.6874 | P29: =+SUM(Conso_CF!L9:L18)-SUM(Conso_CF!L32:L35) -> -2135.5943
C30: Deferred Tax Liability | D30: =+Conso_BS!H12 -> 6621.15 | E30: =+Conso_BS!I12 -> 5358.63 | F30: =+Conso_BS!J12 -> 4913.8 | G30: =+Conso_BS!K12 -> 4945.8742 | H30: =+Conso_BS!L12 -> 4484.5981 | K30: Operating Cash Flow | L30: =+L26+L27+L28+L29 -> 4331.98 | M30: =+M26+M27+M28+M29 -> -478.70957 | N30: =+N26+N27+N28+N29 -> 1191.5386 | O30: =+O26+O27+O28+O29 -> 390.0585 | P30: =+P26+P27+P28+P29 -> 2500.1372
C31: Other Non Current Liabilities | D31: =+Conso_BS!H13+Conso_BS!H14+Conso_BS!H15 -> 289.43 | E31: =+Conso_BS!I13+Conso_BS!I14+Conso_BS!I15 -> 1071.57 | F31: =+Conso_BS!J13+Conso_BS!J14+Conso_BS!J15 -> 1090.0805 | G31: =+Conso_BS!K13+Conso_BS!K14+Conso_BS!K15 -> 1167.7697 | H31: =+Conso_BS!L13+Conso_BS!L14+Conso_BS!L15 -> 1188.8233 | K31: Capital Expenditure | L31: =+SUM(Conso_CF!H39:H42) -> -2254.33 | M31: =+SUM(Conso_CF!I39:I42) -> 255.7 | N31: =+SUM(Conso_CF!J39:J42) -> -171.29505 | O31: =+SUM(Conso_CF!K39:K42) -> 5483.5485 | P31: =+SUM(Conso_CF!L39:L42) -> -181.61935
C32: Total Liabilities | D32: =+D26+D27+D28+D29+D30+D31 -> 76599.51 | E32: =+E26+E27+E28+E29+E30+E31 -> 69725.78 | F32: =+F26+F27+F28+F29+F30+F31 -> 63557.472 | G32: =+G26+G27+G28+G29+G30+G31 -> 59795.665 | H32: =+H26+H27+H28+H29+H30+H31 -> 57320.638 | K32: Other Investment Activities | L32: =+SUM(Conso_CF!H44:H49) -> -7.26 | M32: =+SUM(Conso_CF!I44:I49) -> 1539.68 | N32: =+SUM(Conso_CF!J44:J49) -> 10 | O32: =+SUM(Conso_CF!K44:K49) -> 14.14 | P32: =+SUM(Conso_CF!L44:L49) -> 10
C33: Gross Block | D33: =+Conso_BS!H30 -> 84142.75 | E33: =+Conso_BS!I30 -> 86131.53 | F33: =+Conso_BS!J30 -> 86431.53 | G33: =+Conso_BS!K30 -> 89785.396 | H33: =+Conso_BS!L30 -> 90085.396 | K33: Cash Flow from Investing | L33: =+L31+L32 -> -2261.59 | M33: =+M31+M32 -> 1795.38 | N33: =+N31+N32 -> -161.29505 | O33: =+O31+O32 -> 5497.6885 | P33: =+P31+P32 -> -171.61935
C34: Less: Acc. Depreciation | D34: =+Conso_BS!H31+Conso_BS!H32 -> 22930.03 | E34: =+Conso_BS!I31+Conso_BS!I32 -> 23942.01 | F34: =+Conso_BS!J31+Conso_BS!J32 -> 29404.48 | G34: =+Conso_BS!K31+Conso_BS!K32 -> 32386.109 | H34: =+Conso_BS!L31+Conso_BS!L32 -> 38039.444 | K34: Changes in Share Capital | L34: =+SUM(Conso_CF!H55:H56) -> 0 | M34: =+SUM(Conso_CF!I55:I56) -> 0 | N34: =+SUM(Conso_CF!J55:J56) -> 0 | O34: =+SUM(Conso_CF!K55:K56) -> 0 | P34: =+SUM(Conso_CF!L55:L56) -> 0
C35: Net Block | D35: =+D33-D34 -> 61212.72 | E35: =+E33-E34 -> 62189.52 | F35: =+F33-F34 -> 57027.05 | G35: =+G33-G34 -> 57399.287 | H35: =+H33-H34 -> 52045.953 | K35: Changes in Borrowings | L35: =+Conso_CF!H53+Conso_CF!H60 -> 923 | M35: =+Conso_CF!I53+Conso_CF!I60 -> -4172.51 | N35: =+Conso_CF!J53+Conso_CF!J60 -> -4200.28 | O35: =+Conso_CF!K53+Conso_CF!K60 -> -4453.51 | P35: =+Conso_CF!L53+Conso_CF!L60 -> -2845
C36: Capital Work in Progress | D36: =+Conso_BS!H36+Conso_BS!H37+Conso_BS!H38 -> 11826.8 | E36: =+Conso_BS!I36+Conso_BS!I37+Conso_BS!I38 -> 9716.17 | F36: =+Conso_BS!J36+Conso_BS!J37+Conso_BS!J38 -> 9715.88 | G36: =+Conso_BS!K36+Conso_BS!K37+Conso_BS!K38 -> 1002.19 | H36: =+Conso_BS!L36+Conso_BS!L37+Conso_BS!L38 -> 994.03 | K36: Dividend and Interest | L36: =+SUM(Conso_CF!H57:H59) -> -3594.91 | M36: =+SUM(Conso_CF!I58:I59)+Conso_CF!I61 -> 2712.67 | N36: =+SUM(Conso_CF!J58:J59)+Conso_CF!J61 -> 2923.9086 | O36: =+SUM(Conso_CF!K58:K59)+Conso_CF!K61 -> 3061.7922 | P36: =+SUM(Conso_CF!L58:L59)+Conso_CF!L61 -> 2362.5605
C37: Non Current Investments | D37: =+Conso_BS!H39+Conso_BS!H35 -> 4217.16 | E37: =+Conso_BS!I39+Conso_BS!I35 -> 3742.12 | F37: =+Conso_BS!J39+Conso_BS!J35 -> 3613.415 | G37: =+Conso_BS!K39+Conso_BS!K35 -> 3485.8401 | H37: =+Conso_BS!L39+Conso_BS!L35 -> 3367.4595 | K37: Cash Flow from Financing | L37: =+L34+L35+L36 -> -2671.91 | M37: =+M34+M35+M36 -> -1459.84 | N37: =+N34+N35+N36 -> -1276.3714 | O37: =+O34+O35+O36 -> -1391.7178 | P37: =+P34+P35+P36 -> -482.43947
C38: Net Current Assets | D38: =+'BS Working'!G117 -> -3862.1 | E38: =+'BS Working'!H117 -> -7938.1196 | F38: =+'BS Working'!I117 -> -8814.9485 | G38: =+'BS Working'!J117 -> -4107.7346 | H38: =+'BS Working'!K117 -> -1102.8855 | K38: Net Change in Cash | L38: =+L37+L33+L30 -> -601.52 | M38: =+M37+M33+M30 -> -143.16957 | N38: =+N37+N33+N30 -> -246.12786 | O38: =+O37+O33+O30 -> 4496.0292 | P38: =+P37+P33+P30 -> 1846.0784
C39: Long term Loans & Advances | D39: =+Conso_BS!H40+Conso_BS!#REF!+Conso_BS!H41 -> #REF! | E39: =+Conso_BS!I40+Conso_BS!#REF!+Conso_BS!I41 -> #REF! | F39: =+Conso_BS!J40+Conso_BS!#REF!+Conso_BS!J41 -> #REF! | G39: =+Conso_BS!K40+Conso_BS!#REF!+Conso_BS!K41 -> #REF! | H39: =+Conso_BS!L40+Conso_BS!#REF!+Conso_BS!L41 -> #REF! | K39: Opening Cash Balance | L39: 1221.9 | M39: 620 | N39: =+M40 -> 477.23043 | O39: =+N40 -> 231.10256 | P39: =+O40 -> 4727.1318
C40: Total Assets | D40: =+D35+D36+D37+D38+D39 -> #REF! | E40: =+E35+E36+E37+E38+E39 -> #REF! | F40: =+F35+F36+F37+F38+F39 -> #REF! | G40: =+G35+G36+G37+G38+G39 -> #REF! | H40: =+H35+H36+H37+H38+H39 -> #REF! | K40: Closing Cash Balance | L40: =+L38+L39 -> 620.38 | M40: =+M39+M38+0.4 -> 477.23043 | N40: =+N39+N38 -> 231.10256 | O40: =+O39+O38 -> 4727.1318 | P40: =+P39+P38 -> 6573.2102
I41: =+I32-I40 -> 0

Sheet Key Financials
A1: Y/E Mar | B1: Net Sales | C1: EBITDA | D1: PAT | E1: EPS | F1: EPS Growth (%) | G1: RONW (%) | H1: ROCE (%) | I1: P/E | J1: EV/EBITDA
I2: (x) | J2: (x)
A3: 2017 | B3: =+Conso_PL!I5 -> 21050.51 | C3: =+Conso_PL!I26 -> 4658.0504 | D3: =+Conso_PL!I50 -> -2281.2596 | E3: =+Conso_PL!I55 -> -24.931799 | F3: NA | G3: =+projections!M12*100 -> -7.591412 | H3: =+projections!M13*100 -> -3.8146106 | I3: =+projections!M16 -> NA | J3: =+projections!M19 -> 11.245707
A4: 2018E | B4: =+Conso_PL!J5 -> 30127.437 | C4: =+Conso_PL!J26 -> 7356.8361 | D4: =+Conso_PL!J50 -> -185.83294 | E4: =+Conso_PL!J55 -> -2.0309611 | F4: NA | G4: =+projections!N12*100 -> -0.65180074 | H4: =+projections!N13*100 -> -0.3717591 | I4: =+projections!N16 -> -69.42526 | J4: =+projections!N19 -> 6.582846
A5: 2019E | B5: =+Conso_PL!K5 -> 37313.282 | C5: =+Conso_PL!K26 -> 9049.7799 | D5: =+Conso_PL!K50 -> 1916.5604 | E5: =+Conso_PL!K55 -> 20.946016 | F5: =+Conso_PL!K57 -> 0 | G5: =+projections!O12*100 -> 6.5921763 | H5: =+projections!O13*100 -> 2.6750009 | I5: =+projections!O16 -> 6.7315905 | J5: =+projections!O19 -> 4.5121403
A6: 2020E | B6: =+Conso_PL!L5 -> 39260.634 | C6: =+Conso_PL!L26 -> 9675.4993 | D6: =+Conso_PL!L50 -> 2007.8274 | E6: =+Conso_PL!L55 -> 21.943469 | F6: =+Conso_PL!L57 -> 0 | G6: =+projections!P12*100 -> 6.7542019 | H6: =+projections!P13*100 -> 4.4445941 | I6: =+projections!P16 -> 5.1587104 | J6: =+projections!P19 -> 3.8504317

Sheet Financial performance
B3: Particulars | C3: Q4FY17 | D3: Q4FY16 | E3: FY17 | F3: FY16 | H3: Q4FY17 | I3: Q4FY16
B4: Net Sales | C4: 6290.49 | D4: 4872.41 | E4: =+[64]Conso_PL!I5 -> 21050.51 | F4: =+[64]Conso_PL!H5 -> 18371.59 | H4: =6751.95+199.71-195.59-465.58 -> 6290.49 | I4: =5693.13-45.12-205.33-570.27 -> 4872.41
B5: Growth | C5: =+C4/D4-1 -> 0.29104283 | E5: =+E4/F4-1 -> 0.14581863
B6: Total Expenditure | C6: 4738.44 | D6: 3974.21 | E6: =+[64]Conso_PL!I24 -> 16392.46 | F6: =+[64]Conso_PL!H24 -> 14934.66 | H6: =2084.01+109.55+181.16+225.63+2333.68-195.59 -> 4738.44 | I6: =1446.35+11.6+434.85+225.37+2061.37-205.33 -> 3974.21
B7: EBITDA | C7: =+C4-C6 -> 1552.05 | D7: =+D4-D6 -> 898.2 | E7: =+E4-E6 -> 4658.0504 | F7: =+F4-F6 -> 3436.93 | H7: =+H4-H6 -> 1552.05 | I7: =+I4-I6 -> 898.2
B8: Margin (%) | C8: =+C7/C4 -> 0.24672959 | D8: =+D7/D4 -> 0.18434409 | E8: =+E7/E4 -> 0.22127969 | F8: =+F7/F4 -> 0.18707853
B9: Depreciation | C9: 1005.8 | D9: 1232.38 | E9: =-(+[64]Conso_PL!I33) -> 3949.02 | F9: =-(+[64]Conso_PL!H33) -> 4067.88 | I9: 1232.38
B10: EBIT (Ex OI) | C10: =+C7-C9 -> 546.25 | D10: =+D7-D9 -> -334.18 | E10: =+E7-E9 -> 709.03043 | F10: =+F7-F9 -> -630.95
B11: Non Operating Income | C11: 9 | D11: 107.36 | E11: =+[64]Conso_PL!I29 -> 9.99 | F11: =+[64]Conso_PL!H29 -> 156.69 | I11: 107.36
B12: EBIT | C12: =+C10+C11 -> 555.25 | D12: =+D10+D11 -> -226.82 | E12: =+E10+E11 -> 719.02043 | F12: =+F10+F11 -> -474.26 | I12: =+I7-I9+I11 -> -226.82
B13: Margin (%) | C13: =+C12/C4 -> 0.088268164 | D13: =+D12/D4 -> -0.046551912 | E13: =+E12/E4 -> 0.034156912 | F13: =+F12/F4 -> -0.025814859
B14: Finance cost | C14: 864.2 | D14: 853.21 | E14: =+[64]Conso_PL!I37 -> 3389.59 | F14: =+[64]Conso_PL!H37*-1 -> 3253.56 | I14: 853.21
B15: Exceptional items | C15: 253.41 | D15: -112.61 | E15: =+[64]Conso_PL!I41 -> -372.31 | F15: =+[64]Conso_PL!H41 -> -235.83 | I15: 112.261
B16: PBT | C16: =+C12-C14+C15 -> -55.54 | D16: =+D12-D14-D15 -> -967.42 | E16: =+E12-E14+E15 -> -3042.8796 | F16: =+F12-F14+F15 -> -3963.65
B17: Margin (%) | C17: =+C16/C4 -> -0.0088292009 | D17: =+D16/D4 -> -0.19855061 | E17: =+E16/E4 -> -0.14455135 | F17: =+F16/F4 -> -0.21574888
B18: Provision for Tax | C18: 42.7 | D18: 330.77 | E18: =+[64]Conso_PL!I44 -> -502.68 | F18: =+[64]Conso_PL!H44 -> -877.46
B19: Profit after tax | C19: =+C16-C18 -> -98.24 | D19: =+D16+D18 -> -636.65 | E19: =+E16-E18 -> -2540.1996 | F19: =+F16-F18 -> -3086.19
B20: Margin (%) | C20: =+C19/C4 -> -0.015617225 | D20: =+D19/D4 -> -0.13066429 | E20: =+E19/E4 -> -0.12067164 | F20: =+F19/F4 -> -0.16798709
B21: Minority | C21: 50.5 | D21: 58.66 | E21: =+[64]Conso_PL!I48-[64]Conso_PL!I49 -> -258.94 | F21: =+[64]Conso_PL!H48+[64]Conso_PL!H49 -> 119.92
B22: Profit after Tax and allocation of minority | C22: =+C19+C21 -> -47.74 | D22: =+D19+D21 -> -577.99 | E22: =+E19-E21 -> -2281.2596 | F22: =+F19+F21 -> -2966.27

Sheet Sheet5
B1: FY18 | C1: FY19 | D1: FY20
A2: Consolidated EBIDTA | B2: =Conso_PL!J26 -> 7356.8361 | C2: =Conso_PL!K26 -> 9049.7799 | D2: =Conso_PL!L26 -> 9675.4993
A4: JSPL standalone | B4: =' JSPL_PL'!D39 -> 5213.5225 | C4: =' JSPL_PL'!E39 -> 6472.5984 | D4: =' JSPL_PL'!F39 -> 6901.5669
A5: JPL | B5: ='Jindal Power Ltd'!C50 -> 1311.711 | C5: ='Jindal Power Ltd'!D50 -> 1814.2566 | D5: ='Jindal Power Ltd'!E50 -> 1814.2566
A6: Oman | B6: ='Oman business'!G71 -> 891.761 | C6: ='Oman business'!H71 -> 915.66745 | D6: ='Oman business'!I71 -> 939.57389
A7: Australia & Mozambique | B7: ='Australia and Mozambique'!C14+'Australia and Mozambique'!C49 -> 257.3286 | C7: ='Australia and Mozambique'!D14+'Australia and Mozambique'!D49 -> 352.176 | D7: ='Australia and Mozambique'!E14+'Australia and Mozambique'!E49 -> 438.219
B8: =SUM(B4:B7) -> 7674.3231 | C8: =SUM(C4:C7) -> 9554.6985 | D8: =SUM(D4:D7) -> 10093.616
C9: `
B10: =B2-B8 -> -317.48698 | C10: =C2-C8 -> -504.91858 | D10: =D2-D8 -> -418.11702
C12: ` | D12: =418/D2 -> 0.043201905

Sheet Conso_PL
A1: PARTICULARS | B1: 40238 | C1: 40603 | D1: 40969 | E1: 41334 | F1: 41699 | G1: 42064 | H1: 42430 | I1: 42795 | J1: 43160 | K1: 43525 | L1: 43891
A2: INCOME :
A3: Net Sales | B3: 11091.54 | C3: 13112.15 | D3: 18208.6 | E3: 19806.78 | F3: 20004.04 | G3: 19400.77 | H3: =21042.49+423.15-1097.15-1996.9 -> 18371.59 | I3: =22659.86+641.37-604.99-1645.73 -> 21050.51 | J3: ='Revenue Breakup'!D29 -> 30127.437 | K3: ='Revenue Breakup'!E29 -> 37313.282 | L3: ='Revenue Breakup'!F29 -> 39260.634
A5: Net Sales | B5: 11091.54 | C5: 13112.15 | D5: 18208.6 | E5: =+E3 -> 19806.78 | F5: =+F3 -> 20004.04 | G5: =+G3 -> 19400.77 | H5: =+SUM(H3:H4) -> 18371.59 | I5: =+SUM(I3:I4) -> 21050.51 | J5: =+SUM(J3:J4) -> 30127.437 | K5: =+SUM(K3:K4) -> 37313.282 | L5: =+SUM(L3:L4) -> 39260.634
A6: YoY Sales Growth | C6: =+(C5/B5)-1 -> 0.18217578 | D6: =+(D5/C5)-1 -> 0.38868149 | E6: =+(E5/D5)-1 -> 0.087770614 | F6: =+(F5/E5)-1 -> 0.009959216 | G6: =+(G5/F5)-1 -> -0.030157408 | H6: =+(H5/G5)-1 -> -0.05304841 | I6: =+(I5/H5)-1 -> 0.14581863 | J6: =+(J5/I5)-1 -> 0.43119747 | ... L6: =+(L5/K5)-1 -> 0.052189258
A8: EXPENDITURE :
A10: Raw Material Consumed | B10: 2179.34 | C10: 2471.42 | D10: 5311.1 | E10: 6150.97 | F10: 6278.17 | G10: 5473.65 | H10: ='Bifurcation of RM and Power'!C9 -> 6545 | I10: ='Bifurcation of RM and Power'!D9 -> 7083.4434 | J10: ='Bifurcation of RM and Power'!E9 -> 9091.4093 | K10: ='Bifurcation of RM and Power'!F9 -> 11765.05 | L10: ='Bifurcation of RM and Power'!G9 -> 12555.218
B11: =+B10/B5 -> 0.19648669 | C11: =+C10/C5 -> 0.1884832 | D11: =+D10/D5 -> 0.29168085 | E11: =+E10/E5 -> 0.31054871 | F11: =+F10/F5 -> 0.3138451 | G11: =+G10/G5 -> 0.28213571 | H11: =+H10/H5 -> 0.35625659 | I11: =+I10/I5 -> 0.33649747 | ... L11: =+L10/L5 -> 0.31979153
A12: Power & Fuel Cost | B12: 657.71 | C12: 805.18 | D12: 1129.77 | E12: 1437.95 | F12: 1662 | G12: 2492.72 | H12: 4368.31 | I12: =+I5*I13 -> 5052.1224 | J12: =+'Bifurcation of RM and Power'!E20 -> 7378.6568 | K12: =+'Bifurcation of RM and Power'!F20 -> 8690.7005 | L12: =+'Bifurcation of RM and Power'!G20 -> 8814.2758
B13: =+B12/B5 -> 0.059298348 | C13: =+C12/C5 -> 0.061407168 | D13: =+D12/D5 -> 0.062045956 | E13: =+E12/E5 -> 0.072598878 | F13: =+F12/F5 -> 0.083083217 | G13: =+G12/G5 -> 0.12848562 | H13: =+H12/H5 -> 0.23777528 | I13: 0.24 | J13: =+J12/J5 -> 0.24491486 | K13: =+K12/K5 -> 0.23291172 | L13: =+L12/L5 -> 0.22450671
A14: Employee Cost | B14: 201.44 | C14: 414.92 | D14: 591.29 | E14: 641.49 | F14: 787.6 | G14: 1090.34 | H14: 946.57 | I14: 913 | J14: =J5*J15 -> 1184.1156 | K14: =K5*K15 -> 1470.1007 | L14: =L5*L15 -> 1547.1515
B15: =+B14/B5 -> 0.01816159 | C15: =+C14/C5 -> 0.031643933 | D15: =+D14/D5 -> 0.032473117 | E15: =+E14/E5 -> 0.032387395 | F15: =+F14/F5 -> 0.039372047 | G15: =+G14/G5 -> 0.056200862 | H15: =+H14/H5 -> 0.051523575 | I15: 0.04 | J15: 0.039303562 | K15: 0.039398857 | L15: 0.039407196
A16: Other Manufacturing Expenses | B16: 1363.4 | C16: 1806.75 | D16: 2541.53 | E16: 3243.55 | F16: 2714.48 | G16: 2556.01 | H16: =1701.72-65.23-15.23 -> 1621.26 | I16: =I5*0.08 -> 1684.0408 | J16: =J5*0.09 -> 2711.4693 | K16: =K5*0.09 -> 3358.1954 | L16: =L5*0.09 -> 3533.4571
B17: =+B16/B5 -> 0.12292252 | C17: =+C16/C5 -> 0.13779205 | D17: =+D16/D5 -> 0.13957855 | E17: =+E16/E5 -> 0.16375958 | F17: =+F16/F5 -> 0.13569659 | G17: =+G16/G5 -> 0.13174786 | H17: =+H16/H5 -> 0.088248214 | I17: 0.08 | J17: 0.09 | K17: 0.09 | L17: 0.09
A18: General and Administration Expenses | B18: 113.68 | C18: 51.29 | D18: 66.2 | E18: 200.13 | F18: 205.4 | G18: 201.89 | H18: 149.71 | I18: =I5*I19 -> 206.5853 | J18: =J5*J19 -> 296.02889 | K18: =K5*K19 -> 367.52517 | L18: =L5*L19 -> 386.78788
B19: =+B18/B5 -> 0.010249253 | C19: =+C18/C5 -> 0.0039116392 | D19: =+D18/D5 -> 0.0036356447 | E19: =+E18/E5 -> 0.010104116 | F19: =+F18/F5 -> 0.010267926 | G19: =+G18/G5 -> 0.010406288 | H19: =+H18/H5 -> 0.0081489953 | I19: 0.0098137906 | J19: 0.0098258906 | K19: 0.0098497144 | L19: 0.009851799
A20: Selling and Distribution Expenses | B20: 298.92 | C20: 474.6 | D20: 671.87 | E20: 678.48 | F20: 1202.83 | G20: 883.59 | H20: 555.02 | I20: =I5*I21 -> 826.34119 | J20: =J5*J21 -> 903.8231 | K20: =K5*K21 -> 1119.3985 | L20: =L5*L21 -> 1177.819
B21: =+B20/B5 -> 0.02695027 | C21: =+C20/C5 -> 0.036195437 | D21: =+D20/D5 -> 0.036898499 | E21: =+E20/E5 -> 0.034254937 | F21: =+F20/F5 -> 0.060129354 | G21: =+G20/G5 -> 0.045544069 | H21: =+H20/H5 -> 0.030210777 | I21: 0.039255163 | J21: 0.03 | K21: 0.03 | L21: 0.03
A22: Miscellaneous Expenses | B22: 421.3 | C22: 773.4 | D22: 1045.4 | E22: 1349.17 | F22: 699.67 | G22: 1220.55 | H22: 748.79 | I22: =I5*I23-406 -> 626.92649 | J22: =J5*J23 -> 1205.0975 | K22: =K5*K23 -> 1492.5313 | L22: =L5*L23 -> 1570.4254
B23: =+B22/B5 -> 0.037983905 | C23: =+C22/C5 -> 0.058983462 | D23: =+D22/D5 -> 0.057412431 | E23: =+E22/E5 -> 0.068116574 | F23: =+F22/F5 -> 0.034976435 | G23: =+G22/G5 -> 0.062912451 | H23: =+H22/H5 -> 0.04075804 | I23: 0.049068953 | J23: 0.04 | K23: 0.04 | L23: 0.04
A24: Total Expenditure | B24: 5235.79 | C24: 6797.56 | D24: 11357.16 | E24: 13701.74 | F24: 13550.15 | G24: 13918.75 | H24: =+H10+H12+H14+H16+H18+H20+H22 -> 14934.66 | I24: =+I10+I12+I14+I16+I18+I20+I22 -> 16392.46 | J24: =+J10+J12+J14+J16+J18+J20+J22 -> 22770.6 | K24: =+K10+K12+K14+K16+K18+K20+K22 -> 28263.502 | L24: =+L10+L12+L14+L16+L18+L20+L22 -> 29585.135 | Q24: =+P24-1684 -> -1684
B25: =+B24/B5 -> 0.47205257 | C25: =+C24/C5 -> 0.51841689 | D25: =+D24/D5 -> 0.62372505 | E25: =+E24/E5 -> 0.69177019 | F25: =+F24/F5 -> 0.67737067 | G25: =+G24/G5 -> 0.71743286 | H25: =+H24/H5 -> 0.81292147 | I25: =+I24/I5 -> 0.77872031 | ... L25: =+L24/L5 -> 0.75355723 | Q25: =2066-Q24 -> 3750
A26: EBIDTA (Excl OI) | B26: 5855.75 | C26: 6314.59 | D26: 6851.44 | E26: 6105.04 | F26: 5736.16 | G26: 5440.37 | H26: =+H5-H24 -> 3436.93 | I26: =+I5-I24 -> 4658.0504 | J26: =+J5-J24 -> 7356.8361 | K26: =+K5-K24 -> 9049.7799 | L26: =+L5-L24 -> 9675.4993
A27: EBIDTA MARGIN | B27: =+B26/B5 -> 0.52794743 | C27: =+C26/C5 -> 0.48158311 | D27: =+D26/D5 -> 0.37627495 | E27: =+E26/E5 -> 0.30822981 | F27: =+F26/F5 -> 0.28675008 | G27: =+G26/G5 -> 0.28042031 | H27: =+H26/H5 -> 0.18707853 | I27: =+I26/I5 -> 0.22127969 | ... L27: =+L26/L5 -> 0.24644277
A29: Other Income | B29: 197.11 | C29: 246.6 | D29: 141.94 | E29: 136.42 | F29: 65.63 | G29: 267.15 | H29: 156.69 | I29: 9.99 | J29: 10 | K29: 10 | L29: 10
B30: =+B29/$B$5 -> 0.017771202 | C30: =+C29/$B$5 -> 0.022233161 | D30: =+D29/$B$5 -> 0.012797141 | E30: =+E29/$B$5 -> 0.012299464 | F30: =+F29/$B$5 -> 0.0059171224 | G30: =+G29/$B$5 -> 0.024085925 | H30: =+H29/$B$5 -> 0.014126983 | I30: =+I29/$B$5 -> 0.00090068647 | ... L30: =+L29/$B$5 -> 0.00090158806
A31: EBIDTA (Including OI) | B31: 6052.86 | C31: 6561.19 | D31: 7271.6 | E31: 6439.36 | F31: 6147.9 | G31: 5976.66 | H31: =+H26+H29 -> 3593.62 | I31: =+I26+I29 -> 4668.0404 | J31: =+J26+J29 -> 7366.8361 | K31: =+K26+K29 -> 9059.7799 | L31: =+L26+L29 -> 9685.4993
A32: EBIDTA MARGIN (Including OI) | B32: =+B31/$B$5 -> 0.54571863 | C32: =+C31/$B$5 -> 0.59154905 | D32: =+D31/$B$5 -> 0.65559877 | E32: =+E31/$B$5 -> 0.58056501 | F32: =+F31/$B$5 -> 0.55428732 | G32: =+G31/$B$5 -> 0.53884853 | H32: =+H31/$B$5 -> 0.32399649 | I32: =+I31/I5 -> 0.22175427 | J32: =+J31/J5 -> 0.2445225 | K32: =+K31/K5 -> 0.24280308 | L32: =+L31/L5 -> 0.24669748
A33: less: Depreciation | B33: -996.96 | C33: -1151 | D33: -1386.47 | E33: -1539.22 | F33: -1829.2 | G33: -2732.83 | H33: -4067.88 | I33: -3949.02 | J33: =+'BS Working'!I85*-1 -> -4237.1749 | K33: =+'BS Working'!J85*-1 -> -4412.7344 | L33: =+'BS Working'!K85*-1 -> -4417.7156
A34: EBIT | B34: =+B31+B33 -> 5055.9 | C34: =+C31+C33 -> 5410.19 | D34: =+D31+D33 -> 5885.13 | E34: =+E31+E33 -> 4900.14 | F34: =+F31+F33 -> 4318.7 | G34: =+G31+G33 -> 3243.83 | H34: =+H31+H33 -> -474.26 | I34: =+I31+I33 -> 719.02043 | ... L34: =+L31+L33 -> 5267.7838
A35: EBIT MARGIN | B35: =+B34/B5 -> 0.45583391 | C35: =+C34/C5 -> 0.41260892 | D35: =+D34/D5 -> 0.32320607 | E35: =+E34/E5 -> 0.2473971 | F35: =+F34/F5 -> 0.21589139 | G35: =+G34/G5 -> 0.1672011 | H35: =+H34/H5 -> -0.025814859 | I35: =+I34/I5 -> 0.034156912 | ... L35: =+L34/L5 -> 0.1341747
A37: Interest | B37: -502.45 | C37: -423.14 | D37: -696.53 | E37: -1066.69 | F37: -1806.69 | G37: -2874.94 | H37: -3253.56 | I37: -3389.59 | J37: =+'Debt repayment & interest cost'!E66*-1 -> -3368.5865 | K37: =+'Debt repayment & interest cost'!F66*-1 -> -3031.936 | L37: =+'Debt repayment & interest cost'!G66*-1 -> -2681.6196
A38: EBT | B38: =+B34+B37 -> 4553.45 | C38: =+C34+C37 -> 4987.05 | D38: =+D34+D37 -> 5188.6 | E38: =+E34+E37 -> 3833.45 | F38: =+F34+F37 -> 2512.01 | G38: =+G34+G37 -> 368.89 | H38: =+H34+H37 -> -3727.82 | I38: =+I34+I37 -> -2670.5696 | ... L38: =+L34+L37 -> 2586.1642
A40: Profit Before Taxation & Exceptional Items | B40: 4553.45 | C40: 4987.05 | D40: 5188.6 | E40: 3833.45 | F40: 2512.01 | G40: 368.89 | H40: =+H38 -> -3727.82 | I40: =+I38 -> -2670.5696 | J40: =+J38 -> -238.92533 | K40: =+K38 -> 1615.1096 | L40: =+L38 -> 2586.1642
A41: Exceptional Income / Expenses | G41: -1911.64 | H41: -235.83 | I41: -372.31 | K41: 1000
A42: Profit Before Tax | B42: 4553.45 | C42: 4987.05 | D42: 5188.6 | E42: 3833.45 | F42: 2512.01 | G42: -1542.75 | H42: =+H40+H41 -> -3963.65 | I42: =+I40+I41 -> -3042.8796 | J42: =+J40+J41 -> -238.92533 | K42: =+K40+K41 -> 2615.1096 | L42: =L40 -> 2586.1642
A43: PBT MARGIN | B43: =+B42/B5 -> 0.41053361 | C43: =+C42/C5 -> 0.38033808 | D43: =+D42/D5 -> 0.28495326 | E43: =+E42/E5 -> 0.19354231 | F43: =+F42/F5 -> 0.12557513 | G43: =+G42/G5 -> -0.07952004 | H43: =+H42/H5 -> -0.21574888 | I43: =+I42/I5 -> -0.14455135 | ... L43: =+L42/L5 -> 0.065871686
A44: Provision for Tax | B44: -918.89 | C44: -1183.04 | D44: -1186.34 | E44: -921.83 | F44: -618.21 | G44: 88.16 | H44: -877.46 | I44: =-502.68 -> -502.68 | J44: =J42*21.5% -> -51.368945 | K44: =+K40*0.215+K41*0.33 -> 677.24856 | L44: =L42*0.215 -> 556.0253
A45: Profit After Tax | B45: =+B42+B44 -> 3634.56 | C45: 3804.01 | D45: 4002.26 | E45: 2911.62 | F45: 1893.8 | G45: -1454.59 | H45: =+H42-H44 -> -3086.19 | I45: =+I42-I44 -> -2540.1996 | J45: =+J42-J44 -> -187.55638 | K45: =+K42-K44 -> 1937.861 | L45: =+L42-L44 -> 2030.1389
B46: =+B45/B5 -> 0.32768759 | C46: =+C45/C5 -> 0.29011337 | D46: =+D45/D5 -> 0.21980053 | E46: =+E45/E5 -> 0.14700118 | F46: =+F45/F5 -> 0.094670876 | G46: =+G45/G5 -> -0.07497589 | H46: =+H45/H5 -> -0.16798709 | I46: =+I45/I5 -> -0.12067164 | ... L46: =+L45/L5 -> 0.051709274
...

Sheet Revenue Breakup
A1: Steel Business
A2: Domestic | H2: =669-260 -> 409
A3: Particulars | B3: FY2016 | C3: FY2017E | D3: FY2018E | E3: FY2019E | F3: FY2020E
A4: Steel Sales | B4: =+'Steel sales breakup'!E232-157+45.21 -> 12761.19 | C4: ='Steel sales breakup'!F231-409-50-3 -> 13463.637 | D4: ='Steel sales breakup'!G231 -> 20049.222 | E4: ='Steel sales breakup'!H231 -> 25894.315 | F4: ='Steel sales breakup'!I231 -> 27441.53 | H4: Average Realisation per tonne | J4: =+C4*2.94 -> 39583.094 | K4: =+(D4*10000000)/5200000 -> 38556.197 | L4: =+(E4*10000000)/6500000 -> 39837.408 | M4: =+(F4*10000000)/7000000 -> 39202.186
A5: Power Sales | B5: =+'Steel sales breakup'!E227 -> 398.79 | C5: =+'PLF Calculation'!K21+274 -> 759.75 | D5: =+'PLF Calculation'!K22 -> 561.31968 | E5: =+'PLF Calculation'!K23 -> 623.68854 | F5: =+'PLF Calculation'!K24 -> 686.05739
A6: Traded Goods | B6: =+'Steel sales breakup'!E234-165.52 -> 126.36 | C6: =300-88 -> 212 | D6: 300 | E6: 300 | F6: 300
A7: Cement | B7: 157 | C7: 157.05 | D7: 157.05 | E7: 157.05 | F7: 157.05
A8: Less : Captive Consumption | B8: 1073.82 | C8: 605 | H8: 23 crores changes in captive consumption | K8: Excise duty | L8: 1314
A9: Net Sales | B9: =+SUM(B4:B7)-B8 -> 12369.52 | C9: =+SUM(C4:C7)-C8 -> 13987.437 | D9: =SUM(D4:D7) -> 21067.592 | E9: =SUM(E4:E7) -> 26975.054 | F9: =SUM(F4:F7) -> 28584.637 | L9: 1996
A10: Oman | L10: =+L9-L8 -> 682
A11: Steel Revenues | B11: =+'Overseas Business'!B3 -> 2815.77 | C11: ='Oman business'!F27 -> 3259.9585 | D11: ='Oman business'!G27 -> 3674.3863 | E11: ='Oman business'!H27 -> 3713.6059 | F11: ='Oman business'!I27 -> 3752.8255
C12: =+C4+C56+C6+C7-C8+C11 -> 16487.646 | D12: 16281 | E12: =+D12-C12 -> -206.64576
A13: Total revenue from Steel Business | B13: =+B9+B11 -> 15185.29 | C13: =+C9+C11 -> 17247.396 | D13: =+D9+D11 -> 24741.978 | E13: =+E9+E11 -> 30688.66 | F13: =+F9+F11 -> 32337.463
A15: Power Business
A16: Particulars | B16: FY2016 | C16: FY2017E | D16: FY2018E | E16: FY2019E | F16: FY2020E
A17: Generation (MU) | B17: 9542 | C17: ='Jindal Power Ltd'!B6+'Jindal Power Ltd'!B14 -> 9175.224 | D17: ='Jindal Power Ltd'!C6+'Jindal Power Ltd'!C14 -> 12381.384 | E17: ='Jindal Power Ltd'!D6+'Jindal Power Ltd'!D14 -> 14891.299 | F17: ='Jindal Power Ltd'!E6+'Jindal Power Ltd'!E14 -> 14891.299
A18: Rate/Unit | B18: 3.15 | C18: 3.4 | D18: 3.4 | E18: 3.4 | F18: 3.4
A19: Revenue | B19: 3015 | C19: =(C17*C18*1000000)/10000000 -> 3119.5762 | D19: =(D17*D18*1000000)/10000000 -> 4209.6706 | E19: =(E17*E18*1000000)/10000000 -> 5063.0417 | F19: =(F17*F18*1000000)/10000000 -> 5063.0417
A22: Total revenue | B22: =+B13+B19+12 -> 18212.29 | C22: =+C13+C19 -> 20366.972 | D22: =+D13+D19 -> 28951.649 | E22: =+E13+E19 -> 35751.701 | F22: =+F13+F19 -> 37400.505
A24: Mining Business
A25: Particulars | B25: FY2016 | C25: FY2017E | D25: FY2018E | E25: FY2019E | F25: FY2020E
A26: Australia | B26: 37.02 | C26: =+'Australia and Mozambique'!B7 -> 285.688 | D26: =+'Australia and Mozambique'!C7 -> 563.4816 | E26: =+'Australia and Mozambique'!D7 -> 704.352 | F26: =+'Australia and Mozambique'!E7 -> 880.44
A27: Mozambique & South Africa | B27: 121.29 | C27: ='Australia and Mozambique'!B35 -> 397.85883 | D27: ='Australia and Mozambique'!C35 -> 612.306 | E27: ='Australia and Mozambique'!D35 -> 857.2284 | F27: ='Australia and Mozambique'!E35 -> 979.6896
A29: Net Revenue from Operations | B29: =+B22+B26+B27 -> 18370.6 | C29: =+C22+C26+C27 -> 21050.519 | D29: =+D22+D26+D27 -> 30127.437 | E29: =+E22+E26+E27 -> 37313.282 | F29: =+F22+F26+F27 -> 39260.634

Sheet Steel sales breakup
B1: 2013 | C1: 2014 | D1: 2015 | E1: 2016 | F1: 2017 | G1: 2018 | H1: 2019 | I1: 2020 | L1: FY17E | M1: FY18E | N1: FY19E | O1: FY20E
A2: Steel Business | K2: raigarh | L2: 2.4 | M2: 2.5 | N2: 3 | O2: 3
A3: Raigarh | K3: Angul | L3: 1 | M3: 3 | N3: 4 | O3: =+O5-O2 -> 4.5
A4: Rail & Universal Beam Mill
A5: capacity | B5: 750000 | C5: 750000 | D5: 750000 | E5: 750000 | F5: 750000 | G5: 750000 | H5: 750000 | I5: 750000 | K5: Finished Steel | L5: 3.4 | M5: =SUM(M2:M4) -> 5.5 | N5: =SUM(N2:N4) -> 7 | O5: 7.5
A6: % utilization | B6: =+B9/B5 -> 0.57471733 | C6: =+C9/C5 -> 0.336032 | D6: =+D9/D5 -> 0.45816533 | E6: =+E9/E5 -> 0.333804 | F6: 0.3 | G6: 0.6 | H6: 0.95 | I6: 0.95
A8: Opening Inventory | B8: 54489 | C8: 46150 | D8: 11817 | E8: 23960 | F8: 19252 | G8: =+F10 -> 13500 | H8: =+G10 -> 27000 | I8: =+H10 -> 42750
A9: Production | B9: 431038 | C9: 252024 | D9: 343624 | E9: 250353 | F9: =+F5*F6 -> 225000 | G9: =+G5*G6 -> 450000 | H9: =+H5*H6 -> 712500 | I9: =+I5*I6 -> 712500
A10: Closing Inventory | B10: 46150 | C10: 11817 | D10: 23960 | E10: 19252 | F10: =+F9*0.06 -> 13500 | G10: =+G9*0.06 -> 27000 | H10: =+H9*0.06 -> 42750 | I10: =+I9*0.06 -> 42750
A11: Total Saleable stock | B11: =SUM(B8+B9)-B10 -> 439377 | C11: =SUM(C8+C9)-C10 -> 286357 | D11: =SUM(D8+D9)-D10 -> 331481 | E11: =SUM(E8+E9)-E10 -> 255061 | F11: =SUM(F8+F9)-F10 -> 230752 | G11: =SUM(G8+G9)-G10 -> 436500 | H11: =SUM(H8+H9)-H10 -> 696750 | I11: =SUM(I8+I9)-I10 -> 712500
A13: Gross Sales (QTY) | B13: 400974 | C13: 259622 | D13: 311594 | E13: 233028 | F13: =+F11*E13/E11 -> 210818.89 | G13: =+G11*F13/F11 -> 398793.71 | H13: =+H11*G13/G11 -> 636562.47 | I13: =+I11*H13/H11 -> 650951.93
A14: Average Selling Price per tonne | B14: =+(B15*10000000)/B13 -> 46916.01 | C14: =+(C15*10000000)/C13 -> 39929.59 | D14: =+(D15*10000000)/D13 -> 40168.938 | E14: =+(E15*10000000)/E13 -> 37020.444 | F14: =+(F15*10000000)/F13 -> 37020.444 | G14: 48000 | H14: 50000 | I14: 49000
A15: Gross Sales (value) | B15: 1881.21 | C15: 1036.66 | D15: 1251.64 | E15: 862.68 | F15: =+E15*F13/E13 -> 780.46089 | G15: =+G13*G14/10000000 -> 1914.2098 | H15: =+H13*H14/10000000 -> 3182.8123 | I15: =+I13*I14/10000000 -> 3189.6645
A16: Less: Captive Consumption | B16: 37.01 | C16: 10.57 | D16: 6.92 | E16: 27
A17: Net Sales | B17: =+B15-B16 -> 1844.2 | C17: =C15-C16 -> 1026.09 | D17: =D15-D16 -> 1244.72 | E17: =E15-E16 -> 835.68
A20: Plate Mill
A21: capacity | B21: 1000000 | C21: 1000000 | D21: 1000000 | E21: 1000000 | F21: 1000000 | G21: 1000000 | H21: 1000000 | I21: 1000000
A22: % utilization | B22: =+B25/B21 -> 0.70047 | C22: =+C25/C21 -> 0.759888 | D22: =+D25/D21 -> 0.680672 | E22: =+E25/E21 -> 0.705875 | F22: 0.5 | G22: 0.7 | H22: 0.92 | I22: 0.95
A24: Opening Inventory | B24: 97377 | C24: =97734 -> 97734 | D24: 119558 | E24: 95834 | F24: =+E26 -> 27918 | G24: =+F26 -> 20000 | H24: =+G26 -> 28000 | I24: =+H26 -> 36800
A25: Production | B25: 700470 | C25: =799888-40000 -> 759888 | D25: =720672-40000 -> 680672 | E25: 705875 | F25: =+F21*F22 -> 500000 | G25: =+G21*G22 -> 700000 | H25: =+H21*H22 -> 920000 | I25: =+I21*I22 -> 950000
A26: Closing Inventory | B26: 97734 | C26: 119558 | D26: 95834 | E26: 27918 | F26: =+F25*0.04 -> 20000 | G26: =+G25*0.04 -> 28000 | H26: =+H25*0.04 -> 36800 | I26: =+I25*0.04 -> 38000
A27: Total Saleable stock | B27: =+SUM(B24+B25)-B26 -> 700113 | C27: =+SUM(C24+C25)-C26 -> 738064 | D27: =+SUM(D24+D25)-D26 -> 704396 | E27: =+SUM(E24+E25)-E26 -> 773791 | F27: =+SUM(F24+F25)-F26 -> 507918 | G27: =+SUM(G24+G25)-G26 -> 692000 | H27: =+SUM(H24+H25)-H26 -> 911200 | I27: =+SUM(I24+I25)-I26 -> 948800
A29: Gross Sales (QTY) | B29: 651748 | C29: 702090 | D29: 678591 | E29: 747820 | F29: =+F27*(E29/E27) -> 490870.58 | G29: =+G27*F29/F27 -> 668774.18 | H29: =+H27*G29/G27 -> 880617.1 | I29: =+I27*H29/H27 -> 916955.12
A30: Average Selling Price per tonne | B30: =+(B31*10000000)/B29 -> 39690.34 | C30: =+(C31*10000000)/C29 -> 35460.838 | D30: =+(D31*10000000)/D29 -> 39484.461 | E30: =+(E31*10000000)/E29 -> 32468.241 | F30: 32500 | G30: =+F30*1.05 -> 34125 | H30: =+G30*1.02 -> 34807.5 | I30: 34800
A31: Gross Sales (value) | B31: 2586.81 | C31: 2489.67 | D31: 2679.38 | E31: 2428.04 | F31: =+(F29*F30)/10000000 -> 1595.3294 | G31: =+G29*G30/10000000 -> 2282.1919 | H31: =+H29*H30/10000000 -> 3065.208 | I31: =+I29*I30/10000000 -> 3191.0038
A32: Less: Captive Consumption | B32: 68.9 | C32: 75.79 | D32: 64.14 | E32: 278.57
A33: Net Sales | B33: =+B31-B32 -> 2517.91 | C33: =C31-C32 -> 2413.88 | D33: =D31-D32 -> 2615.24 | E33: =E31-E32 -> 2149.47
A35: Fabricated Structures
A36: capacity | B36: 120000 | C36: 120000 | D36: 120000 | E36: 120000 | F36: 120000 | G36: 120000 | H36: 120000 | I36: 120000
A37: % utilization | B37: =+B40/B36 -> 0.695725 | C37: =+C40/C36 -> 0.72834167 | D37: =+D40/D36 -> 0.68461667 | E37: =+E40/E36 -> 0.83065833 | F37: 1 | G37: 1 | H37: 1 | I37: 1
A39: Opening Inventory | B39: 6493 | C39: 10714 | D39: 12703 | E39: 11740 | F39: =+E41 -> 9578 | G39: =+F41 -> 10800 | H39: =+G41 -> 10800 | I39: =+H41 -> 10800
A40: Production | B40: 83487 | C40: 87401 | D40: 82154 | E40: 99679 | F40: =+F36*F37 -> 120000 | G40: =+G36*G37 -> 120000 | H40: =+H36*H37 -> 120000 | I40: =+I36*I37 -> 120000
A41: Closing Inventory | B41: 10714 | C41: 12703 | D41: 11740 | E41: 9578 | F41: =+F40*0.09 -> 10800 | G41: =+G40*0.09 -> 10800 | H41: =+H40*0.09 -> 10800 | I41: =+I40*0.09 -> 10800
A42: Total Saleable stock | B42: =+B39+B40-B41 -> 79266 | C42: =+C39+C40-C41 -> 85412 | D42: =+D39+D40-D41 -> 83117 | E42: =+E39+E40-E41 -> 101841 | F42: =+F39+F40-F41 -> 118778 | G42: =+G39+G40-G41 -> 120000 | H42: =+H39+H40-H41 -> 120000 | I42: =+I39+I40-I41 -> 120000
A44: Gross Sales (QTY) | B44: 79104 | C44: 85139 | D44: 81921 | E44: 101526 | F44: =+F42*E44/E42 -> 118410.61 | G44: =+G42*F44/F42 -> 119628.83 | H44: =+H42*G44/G42 -> 119628.83 | I44: =+I42*H44/H42 -> 119628.83
A45: Average Selling Price per tonne | B45: =+(B46*10000000)/B44 -> 60669.498 | C45: =+(C46*10000000)/C44 -> 56527.561 | D45: =+(D46*10000000)/D44 -> 63154.747 | E45: =+(E46*10000000)/E44 -> 65953.549 | F45: 65000 | G45: =+F45*1.05 -> 68250 | H45: =+G45*1.02 -> 69615 | I45: 69000
A46: Gross Sales (value) | B46: 479.92 | C46: 481.27 | D46: 517.37 | E46: 669.6 | F46: =+F44*F45/10000000 -> 769.66898 | G46: =+G44*G45/10000000 -> 816.46679 | H46: =+H44*H45/10000000 -> 832.79612 | I46: =+I44*I45/10000000 -> 825.43895
A47: Less: Captive Consumption | B47: 150.45 | C47: 215.6 | D47: 205.67 | E47: 430.97
A48: Net Sales | B48: =+B46-B47 -> 329.47 | C48: =C46-C47 -> 265.67 | D48: =D46-D47 -> 311.7 | E48: =E46-E47 -> 238.63
A50: Medium and Light Section Mill
...

Sheet Reserves & Surplus
A1: PARTICULARS | B1: 42430 | C1: 42795 | D1: 43160 | E1: 43525 | F1: 43891
A2: Opening | B2: 18055.59 | C2: =+B8 -> 32344.61 | D2: =+C8 -> 29959.03 | E2: =+D8 -> 28419.197 | F2: =+E8 -> 28981.758
A3: Revaluation Reserve | B3: 20882.75
A4: Changes due to depreciation of PP&E | B4: 1248.49 | C4: 104.32 | D4: =+'BS Working'!I77 -> 1354 | E4: =+'BS Working'!J77 -> 1354 | F4: =+'BS Working'!K77 -> 1354
A5: Other IndAS adjustment | B5: 71.75
A6: Deffered Tax adjustment on above | B6: 5273.49
A7: Profit & Loss for the year | C7: =+Conso_PL!I50 -> -2281.2596 | D7: =+Conso_PL!J50 -> -185.83294 | E7: =+Conso_PL!K50 -> 1916.5604 | F7: =+Conso_PL!L50 -> 2007.8274
B8: =+B2+B3-B4-B5-B6+B7 -> 32344.61 | C8: =+C2+C3-C4-C5-C6+C7 -> 29959.03 | D8: =+D2+D3-D4-D5-D6+D7 -> 28419.197 | E8: =+E2+E3-E4-E5-E6+E7 -> 28981.758 | F8: =+F2+F3-F4-F5-F6+F7 -> 29635.585

Sheet Debt repayment & interest cost
J1: Repayment schedule
B2: Long Term Borrowings | C2: FY16 | D2: FY17E | E2: FY18E | F2: FY19E | G2: FY20E | J2: FY17E | K2: FY18E | L2: FY19E | M2: FY20E
A3: Rate of Interest | B3: Secured
A4: 0.098 | B4: Debentures | C4: 1562 | D4: =+C4-J4 -> 1562 | E4: =+D4-K4 -> 1562 | F4: =+E4-L4 -> 1472 | G4: =+F4-M4 -> 789.6 | J4: 0 | K4: 0 | L4: 90 | M4: 682.4 | O4: 29.000761
A5: 0.089 | B5: Term loan from banks | C5: 26922 | D5: =+C5-J5 -> 24728.84 | E5: =+D5-K5 -> 21623.68 | F5: =+E5-L5 -> 18765.68 | G5: =+F5-M5 -> 17408.08 | J5: 2193.16 | K5: 3105.16 | L5: 2858 | M5: 1357.6
A6: 0.1 | B6: Term loan from others | C6: 1037.33 | D6: =+C6-J6 -> 1027.33 | E6: =+D6-K6 -> 1017.33 | F6: =+E6-L6 -> 1007.33 | G6: =+F6-M6 -> 1007.33 | J6: 10 | K6: 10 | L6: 10 | O6: 19.259513
A7: 0.0232 | B7: External commercial borrowings | C7: 82.91 | D7: =+C7-J7 -> 46.07 | E7: =+D7-K7 -> 9.23 | F7: =+E7-L7 -> 0.23 | G7: =+F7-M7 -> 0.23 | J7: 36.84 | K7: 36.84 | L7: 9 | O7: 1.5393426 | Q7: =82.89/9 -> 9.21 | R7: =+Q7*4 -> 36.84
A8: 0.0116 | B8: Others | C8: 798.1 | D8: 798.1 | E8: 798.1 | F8: 798.1 | G8: 798.1
C9: =SUM(C4:C8) -> 30402.34 | D9: =SUM(D4:D8) -> 28162.34 | E9: =SUM(E4:E8) -> 25010.34 | F9: =SUM(F4:F8) -> 22043.34 | G9: =SUM(G4:G8) -> 20003.34 | J9: =SUM(J4:J8) -> 2240 | K9: =+SUM(K4:K7) -> 3152 | L9: =+SUM(L4:L8) -> 2967 | M9: =+SUM(M4:M8) -> 2040
J10: 2240 | K10: 3152 | L10: 2967 | M10: 2040
B11: Unsecured
A12: 0.1 | B12: Debentures | C12: =300+1000+750+500 -> 2550 | D12: =+C12-J12 -> 2550 | E12: =+D12-K12 -> 2220 | F12: =+E12-L12 -> 1725 | G12: =+F12-M12 -> 920 | J12: 0 | K12: 330 | L12: 495 | M12: 805
A13: 0.0369 | B13: Term loan from banks | C13: 2785.98 | D13: =+C13-J13 -> 1732.75 | E13: =+D13-K13 -> 1090.75 | F13: =+E13-L13 -> 110.75 | G13: =+F13-M13 -> 110.75 | J13: =345+708.23 -> 1053.23 | K13: 642 | L13: 980 | O13: 486.8899
A14: 0.0116 | B14: Other loans from banks | C14: 65.46 | D14: 65.46 | E14: 65.46 | F14: 65.46 | G14: 65.46 | J14: 0 | K14: 0 | L14: 0 | M14: 0 | O14: 0
