Workbook

Sheet Assumptions Sheet
C1: 2010 | D1: 2011 | E1: 2012 | F1: 2013 | G1: 2014 | H1: 2015 | I1: 2016 | J1: 2017 | K1: 2018E | L1: 2019E | M1: 2020E | N1: 2021E | O1: 2022E | P1: 2023E
B2: ASK (in million) | C2: 9286 | D2: 12491 | E2: 18006 | F2: 24977 | G2: 29967 | H2: 35327 | I2: 42826 | J2: 54583 | K2: =J2*(1+K3) -> 65499.6 | L2: =K2*(1+L3) -> 78599.52 | M2: =L2*(1+M3) -> 94319.424 | N2: =M2*(1+N3) -> 113183.31 | O2: =N2*(1+O3) -> 135819.97 | P2: =O2*(1+P3) -> 162983.96 | S2: Year | T2: 2018E | U2: 2019E | V2: 2020E | W2: 2021E | X2: 2022E
B3: Growth in ASK | D3: =(D2/C2)-1 -> 0.34514323 | E3: =(E2/D2)-1 -> 0.44151789 | F3: =(F2/E2)-1 -> 0.38714873 | G3: =(G2/F2)-1 -> 0.1997838 | H3: =(H2/G2)-1 -> 0.17886342 | I3: =(I2/H2)-1 -> 0.2122739 | J3: =(J2/I2)-1 -> 0.27452949 | K3: 0.2 | L3: 0.2 | M3: 0.2 | N3: 0.2 | O3: 0.2 | P3: 0.2 | S3: RPK (in million) | T3: 55019.664 | U3: 65237.602 | V3: 77341.928 | W3: 91678.48 | X3: 108655.98
B4: RPK (in million) | C4: 7429 | D4: 10634 | E4: 14826 | F4: 20260 | G4: 23136 | H4: 28177 | I4: 35968 | J4: 46288 | K4: =K2*K5 -> 55674.66 | L4: =L2*L5 -> 66809.592 | M4: =M2*M5 -> 80171.51 | N4: =N2*N5 -> 96205.812 | O4: =O2*O5 -> 115446.97 | P4: =P2*P5 -> 138536.37 | S4: ASK (in million) | T4: 65499.6 | U4: 78599.52 | V4: 94319.424 | W4: 113183.31 | X4: 135819.97
B5: Passenger Load Factor (%) | C5: 0.8 | D5: 0.851 | E5: 0.823 | F5: 0.811 | G5: 0.772 | H5: 0.798 | I5: 0.84 | J5: 0.848 | K5: 0.85 | L5: =K5 -> 0.85 | M5: =L5 -> 0.85 | N5: =M5 -> 0.85 | O5: =N5 -> 0.85 | P5: =O5 -> 0.85 | S5: Passenger Load Factor (%) | T5: 0.84 | U5: 0.83 | V5: 0.82 | W5: 0.81 | X5: 0.8
B6: RASK (Rs.) | C6: 2.84 | D6: 3.1 | E6: 3.1 | F6: 3.7 | G6: 3.72 | H6: 3.95 | I6: 3.78 | J6: 3.44 | K6: =K24/K2 -> 3.315 | L6: =L24/L2 -> 3.315 | M6: =M24/M2 -> 3.315 | N6: =N24/N2 -> 3.315 | O6: =O24/O2 -> 3.315 | P6: =P24/P2 -> 3.315 | S6: RASK (Rs.) | T6: 3.0233235 | U6: 3.0703315 | V6: 3.1153396 | W6: 3.1583476 | X6: 3.1993557
B7: Yield (Rs.) (passenger revenue in ₹ / revenue passenger kms) | C7: =C24/C4 -> 3.1309584 | D7: =D24/D4 -> 3.1888151 | E7: =E24/E4 -> 3.3638905 | F7: =F24/F4 -> 4.0802848 | G7: =G24/G4 -> 4.2894117 | H7: =H24/H4 -> 4.3630976 | I7: =I24/I4 -> 3.9097036 | J7: =J24/J4 -> 3.4991946 | K7: 3.9 | L7: =K7 -> 3.9 | M7: =L7 -> 3.9 | N7: =M7 -> 3.9 | O7: =N7 -> 3.9 | P7: =O7 -> 3.9 | S7: Yield (Rs.) | T7: 3.5991946 | U7: 3.6991946 | V7: 3.7991946 | W7: 3.8991946 | X7: 3.9991946
B8: Block Hours | C8: 93487 | D8: 125553 | E8: 179252 | F8: 246140 | G8: 297653 | H8: 354276 | I8: 436739 | J8: 558567 | K8: ='Cost Matrix'!K7 -> 669154.5 | L8: ='Cost Matrix'!L7 -> 742717.11 | M8: ='Cost Matrix'!M7 -> 823244.54 | N8: ='Cost Matrix'!N7 -> 963196.11 | O8: ='Cost Matrix'!O7 -> 1126198.5 | S8: Passenger Ticket Revenue | T8: 198026.48 | U8: 241326.58 | V8: 293837.03 | W8: 357472.24 | X8: 434536.4
B9: Block Hours Per Aircraft | C9: =C8/C17 -> 3739.48 | D9: =D8/AVERAGE(C17:D17) -> 3923.5312 | E9: =E8/AVERAGE(D17:E17) -> 3813.8723 | F9: =F8/AVERAGE(E17:F17) -> 4068.4298 | G9: =G8/AVERAGE(F17:G17) -> 4162.979 | H9: =H8/AVERAGE(G17:H17) -> 4143.5789 | I9: =I8/AVERAGE(H17:I17) -> 4345.6617 | J9: =J8/AVERAGE(I17:J17) -> 4693.8403 | K9: ='Cost Matrix'!K9 -> 4599 | L9: ='Cost Matrix'!L9 -> 4489.5 | M9: ='Cost Matrix'!M9 -> 4380 | N9: ='Cost Matrix'!N9 -> 4270.5 | O9: ='Cost Matrix'!O9 -> 4161
C10: =(J9/C9)^(1/7)-1 -> 0.033005045 | D10: =D9/C9-1 -> 0.049218407 | E10: =E9/D9-1 -> -0.027949034 | F10: =F9/E9-1 -> 0.066745132 | G10: =G9/F9-1 -> 0.023239745 | H10: =H9/G9-1 -> -0.0046601421 | I10: =I9/H9-1 -> 0.048770096 | J10: =J9/I9-1 -> 0.080120973
B11: RASK (Rs.) | D11: ='Income statement'!D9/'Assumptions Sheet'!C2 -> 4.247423 | E11: ='Income statement'!E9/'Assumptions Sheet'!D2 -> 4.5701865 | F11: ='Income statement'!F9/'Assumptions Sheet'!E2 -> 5.2428268 | G11: ='Income statement'!G9/'Assumptions Sheet'!F2 -> 4.5770581 | H11: ='Income statement'!H9/'Assumptions Sheet'!G2 -> 4.7785628 | I11: ='Income statement'!I9/'Assumptions Sheet'!H2 -> 4.699324 | J11: ='Income statement'!J9/'Assumptions Sheet'!I2 -> 4.5228529 | K11: ='Income statement'!K9/'Assumptions Sheet'!J2 -> 4.6654183 | ... O11: ='Income statement'!O9/'Assumptions Sheet'!N2 -> 4.6351855 | Q11: ='Income statement'!Q9/'Assumptions Sheet'!P2 -> 0
B12: CASK (Rs.) | C12: 2.3 | D12: 2.53 | E12: 3.06 | F12: 3.3 | G12: 3.56 | H12: 3.42 | I12: 3.12 | J12: 3.04 | K12: =SUM('Income statement'!K14,'Income statement'!K16,'Income statement'!K20)/K2 -> 3.0477655 | L12: =SUM('Income statement'!L14,'Income statement'!L16,'Income statement'!L20)/L2 -> 3.0996141 | M12: =SUM('Income statement'!M14,'Income statement'!M16,'Income statement'!M20)/M2 -> 3.0714852 | N12: =SUM('Income statement'!N14,'Income statement'!N16,'Income statement'!N20)/N2 -> 3.0659085 | O12: =SUM('Income statement'!O14,'Income statement'!O16,'Income statement'!O20)/O2 -> 3.0720339
B13: RASK - CASK (Rs) | D13: =D11-D12 -> 1.717423 | E13: =E11-E12 -> 1.5101865 | F13: =F11-F12 -> 1.9428268 | G13: =G11-G12 -> 1.0170581 | H13: =H11-H12 -> 1.3585628 | I13: =I11-I12 -> 1.579324 | J13: =J11-J12 -> 1.4828529 | K13: =K11-K12 -> 1.6176529 | ... O13: =O11-O12 -> 1.5631517
B14: CASK ex-fuel (Rs.) | D14: =SUM('Income statement'!D14,'Income statement'!D20)/D2 -> 1.2810984 | E14: =SUM('Income statement'!E14,'Income statement'!E20)/E2 -> 1.4673859 | F14: =SUM('Income statement'!F14,'Income statement'!F20)/F2 -> 1.6002198 | G14: =SUM('Income statement'!G14,'Income statement'!G20)/G2 -> 1.7013001 | H14: 1.8 | I14: 2.01 | J14: 1.88 | K14: =SUM('Income statement'!K14,'Income statement'!K20)/K2 -> 1.7035226 | L14: =SUM('Income statement'!L14,'Income statement'!L20)/L2 -> 1.711183 | M14: =SUM('Income statement'!M14,'Income statement'!M20)/M2 -> 1.760801 | N14: =SUM('Income statement'!N14,'Income statement'!N20)/N2 -> 1.754081 | O14: =SUM('Income statement'!O14,'Income statement'!O20)/O2 -> 1.7610412
B15: Number of Scheduled Passengers Carried (in thousands) | C15: 45337263 | D15: 53842538 | E15: 60837455 | F15: 57647250 | G15: 60668409 | H15: 70083961 | I15: 85197675 | J15: 103748598 | K15: =J15*(1+K16) -> 1.1723592e+08 | L15: =K15*(1+L16) -> 1.3364894e+08 | M15: =L15*(1+M16) -> 1.523598e+08 | N15: =M15*(1+N16) -> 1.7521377e+08 | O15: =N15*(1+O16) -> 2.0149583e+08
B16: Growth in Passengers | D16: =D15/C15-1 -> 0.1876001 | E16: =E15/D15-1 -> 0.12991433 | F16: =F15/E15-1 -> -0.052438173 | G16: =G15/F15-1 -> 0.052407686 | H16: =H15/G15-1 -> 0.15519695 | I16: =I15/H15-1 -> 0.21565154 | J16: =J15/I15-1 -> 0.21773978 | K16: 0.13 | L16: 0.14 | M16: 0.14 | N16: 0.15 | O16: 0.15
B17: Number of Planes | C17: 25 | D17: 39 | E17: 55 | F17: 66 | G17: 77 | H17: 94 | I17: 107 | J17: 131 | K17: 160 | L17: =L2/L20 -> 170.86852 | M17: =M2/M20 -> 205.04223 | N17: =N2/N20 -> 246.05067 | O17: =O2/O20 -> 295.26081 | P17: =P2/P20 -> 354.31297
D18: =D17-C17 -> 14 | E18: =E17-D17 -> 16 | F18: =F17-E17 -> 11 | G18: =G17-F17 -> 11 | H18: =H17-G17 -> 17 | I18: =I17-H17 -> 13 | J18: =J17-I17 -> 24 | K18: =K17-J17 -> 29 | ... P18: =P17-O17 -> 59.052161
C19: =C20*(1+J21)^7 -> 371.44 | D19: =D18/C17 -> 0.56 | E19: =E18/D17 -> 0.41025641 | F19: =F18/E17 -> 0.2 | G19: =G18/F17 -> 0.16666667 | H19: =H18/G17 -> 0.22077922 | I19: =I18/H17 -> 0.13829787 | J19: =J18/I17 -> 0.22429907 | K19: =K18/J17 -> 0.22137405 | ... P19: =P18/O17 -> 0.2
B20: ASK Per Plane | C20: =C2/C17 -> 371.44 | D20: =D2/D17 -> 320.28205 | E20: ='Revenue Matrix'!E15 -> 383.10638 | F20: ='Revenue Matrix'!F15 -> 412.84298 | G20: ='Revenue Matrix'!G15 -> 419.11888 | H20: ='Revenue Matrix'!H15 -> 413.18129 | I20: ='Revenue Matrix'!I15 -> 426.12935 | J20: ='Revenue Matrix'!J15 -> 458.68067 | K20: 460 | L20: =K20 -> 460 | M20: =L20 -> 460 | N20: =M20 -> 460 | O20: =N20 -> 460 | P20: =O20 -> 460
B21: Average Fare | C21: 3548 | D21: 3582 | E21: 3911 | F21: 4895 | G21: 5071 | H21: 4882 | I21: 4248
B23: Passenger Revenue
B24: Passenger ticket revenue | C24: 23259.89 | D24: 33909.86 | E24: 49873.04 | F24: 82666.57 | G24: 99239.83 | H24: 122939 | I24: 140624.22 | J24: 161970.72 | K24: =K7*K4 -> 217131.17 | L24: =L7*L4 -> 260557.41 | M24: =M7*M4 -> 312668.89 | N24: =N7*N4 -> 375202.67 | O24: =O7*O4 -> 450243.2 | P24: =P7*P4 -> 540291.84
B26: Ancillary revenue | C26: =C40 -> 2765.35 | D26: =D40 -> 4356.65 | E26: =E40 -> 5680.34 | F26: =F40 -> 9253.44 | G26: =G40 -> 11553.33 | H26: =H40 -> 15724.87 | I26: =I40 -> 20019.95 | J26: 22667.6 | K26: =K27*K24 -> 29312.708 | L26: =L27*L24 -> 35175.25 | M26: =M27*M24 -> 40646.956 | N26: =N27*N24 -> 46900.334 | O26: =O27*O24 -> 56280.4 | P26: =P27*P24 -> 67536.48
C27: =C26/C$24 -> 0.11888921 | D27: =D26/D$24 -> 0.12847738 | E27: =E26/E$24 -> 0.113896 | F27: =F26/F$24 -> 0.11193691 | G27: =G26/G$24 -> 0.11641828 | H27: =H26/H$24 -> 0.12790791 | I27: =I26/I$24 -> 0.14236488 | J27: =J26/J$24 -> 0.13994875 | K27: 0.135 | L27: 0.135 | M27: 0.13 | N27: 0.125 | O27: 0.125 | P27: 0.125
B28: Other operating revenue | C28: 29.57 | D28: 67.69 | E28: 93.22 | F28: 111.29 | G28: 372.69 | H28: 589.5 | I28: 754.9 | J28: 1167 | K28: =K29*K24 -> 1694.7101 | L28: =L29*L24 -> 2189.9866 | M28: =M29*M24 -> 2815.5852 | N28: =N29*N24 -> 3603.8239 | O28: =O29*O24 -> 4594.7346 | P28: =P29*P24 -> 5837.8566 | Q28: 0.19
C29: =C28/C$24 -> 0.0012712872 | D29: =D28/D$24 -> 0.0019961746 | E29: =E28/E$24 -> 0.0018691461 | F29: =F28/F$24 -> 0.0013462516 | G29: =G28/G$24 -> 0.0037554478 | H29: =H28/H$24 -> 0.004795061 | I29: =I28/I$24 -> 0.0053682076 | J29: =J28/J$24 -> 0.0072050059 | K29: =J29+0.06% -> 0.0078050059 | L29: =K29+0.06% -> 0.0084050059 | M29: =L29+0.06% -> 0.0090050059 | N29: =M29+0.06% -> 0.0096050059 | O29: =N29+0.06% -> 0.010205006 | P29: =O29+0.06% -> 0.010805006
B30: Other Income | C30: 621.93 | D30: 1107.37 | E30: 1439.6 | F30: 2371.04 | G30: 3155.34 | H30: 3945.83 | I30: 4613.93 | J30: 7890.7 | K30: =K24*K31 -> 6513.9352 | L30: =L24*L31 -> 7816.7223 | M30: =M24*M31 -> 9380.0667 | N30: =N24*N31 -> 11256.08 | O30: =O24*O31 -> 13507.296 | P30: =P24*P31 -> 16208.755
C31: =C30/C$24 -> 0.026738304 | D31: =D30/D$24 -> 0.032656283 | E31: =E30/E$24 -> 0.028865295 | F31: =F30/F$24 -> 0.028681969 | G31: =G30/G$24 -> 0.031795097 | H31: =H30/H$24 -> 0.032095836 | I31: =I30/I$24 -> 0.032810351 | J31: =J30/J$24 -> 0.04871683 | K31: 0.03 | L31: =K31 -> 0.03 | M31: =L31 -> 0.03 | N31: =M31 -> 0.03 | O31: =N31 -> 0.03 | P31: =O31 -> 0.03 | Q31: 0.03
B32: Total Revenue | C32: =SUM(C24,C26,C28,C30) -> 26676.74 | D32: =SUM(D24:D30) -> 39441.7 | E32: =SUM(E24:E30) -> 57086.316 | F32: =SUM(F24:F30) -> 94402.453 | G32: =SUM(G24:G30) -> 114321.31 | H32: =SUM(H24:H30) -> 143199.33 | I32: =SUM(I24:I30) -> 166013.15 | J32: =SUM(J24:J30) -> 193696.17 | K32: =SUM(K24:K30) -> 254652.67 | ... P32: =SUM(P24:P30) -> 629875.07
B34: (a) Revenue from Ancillary Passenger related services | C34: 934.38 | D34: 1508.03 | E34: 2075.43 | F34: 3936.81 | G34: 5394.52 | H34: 7608.24 | I34: 10464.65 | J34: =J26-SUM(J35:J39) -> 11376.95
B35: (b) Cargo services | C35: 1565.4 | D35: 2451.26 | E35: 2903.72 | F35: 4102.94 | G35: 4859.78 | H35: 6538.8 | I35: 7576.65 | J35: 8761.86
B36: (c) Tours and packages | C36: – | D36: 1.37 | E36: 61.78 | F36: 121.67 | G36: 142.03 | H36: 146 | I36: 33 | J36: 33
B37: In-flight sales | C37: 256.02 | D37: 383.57 | E37: 610.07 | F37: 1022.28 | G37: 1047.38 | H37: 1290.3 | I37: 1726.3 | J37: 1595.9
B38: Advertisement | C38: 9.55 | D38: 12.42 | E38: 23.29 | F38: 62.14 | G38: 106.97 | H38: 138.6 | I38: 218.9 | J38: 899.89
B39: Commission | C39: – | D39: – | E39: 6.05 | F39: 7.6 | G39: 2.65 | H39: 2.93 | I39: 0.45
B40: Total Revenues from Ancillary Products and Services | C40: =SUM(C34:C39) -> 2765.35 | D40: =SUM(D34:D39) -> 4356.65 | E40: =SUM(E34:E39) -> 5680.34 | F40: =SUM(F34:F39) -> 9253.44 | G40: =SUM(G34:G39) -> 11553.33 | H40: =SUM(H34:H39) -> 15724.87 | I40: =SUM(I34:I39) -> 20019.95 | J40: =SUM(J34:J39) -> 22667.6
B45: Lease Payments
B46: Operating Lease Expense
B47: Finance Lease Interest Payment | Q47: 2023E
...

Sheet Income statement
A1: Interglobe Aviation
A2: Template
A3: All Data in Millions INR, except per share
A4: (Red=Assumption, Blue=Actual, Black=Calculation)
A5: Date | D5: 40633 | E5: =EOMONTH(D5,12) -> 40999 | F5: =EOMONTH(E5,12) -> 41364 | G5: =EOMONTH(F5,12) -> 41729 | H5: =EOMONTH(G5,12) -> 42094 | I5: =EOMONTH(H5,12) -> 42460 | J5: =EOMONTH(I5,12) -> 42825 | K5: =EOMONTH(J5,12) -> 43190 | L5: =EOMONTH(K5,12) -> 43555 | ... O5: =EOMONTH(N5,12) -> 44651
A6: Year | D6: =YEAR(D5) -> 2011 | E6: =YEAR(E5) -> 2012 | F6: =YEAR(F5) -> 2013 | G6: =YEAR(G5) -> 2014 | H6: =YEAR(H5) -> 2015 | I6: =YEAR(I5) -> 2016 | J6: =YEAR(J5) -> 2017 | K6: =YEAR(K5) -> 2018 | ... O6: =YEAR(O5) -> 2022
A7: Revenue from operations | D7: 38334.2 | E7: 55646.6 | F7: 92031.3 | G7: 111165.84 | H7: 139253.36 | I7: 161399.09 | J7: 185805 | K7: =SUM('Assumptions Sheet'!K24,'Assumptions Sheet'!K26,'Assumptions Sheet'!K28) -> 248138.59 | L7: =SUM('Assumptions Sheet'!L24,'Assumptions Sheet'!L26,'Assumptions Sheet'!L28) -> 297922.65 | M7: =SUM('Assumptions Sheet'!M24,'Assumptions Sheet'!M26,'Assumptions Sheet'!M28) -> 356131.43 | N7: =SUM('Assumptions Sheet'!N24,'Assumptions Sheet'!N26,'Assumptions Sheet'!N28) -> 425706.83 | O7: =SUM('Assumptions Sheet'!O24,'Assumptions Sheet'!O26,'Assumptions Sheet'!O28) -> 511118.34
A8: Other Income | D8: 1107.37 | E8: 1439.6 | F8: 2371.04 | G8: 3155.34 | H8: 3945.83 | I8: 4613.93 | J8: 7890.7 | K8: ='Assumptions Sheet'!K30 -> 6513.9352 | L8: ='Assumptions Sheet'!L30 -> 7816.7223 | M8: ='Assumptions Sheet'!M30 -> 9380.0667 | N8: ='Assumptions Sheet'!N30 -> 11256.08 | O8: ='Assumptions Sheet'!O30 -> 13507.296
A9: Total Revenue | D9: =SUM(D7:D8) -> 39441.57 | E9: =SUM(E7:E8) -> 57086.2 | F9: =SUM(F7:F8) -> 94402.34 | G9: =SUM(G7:G8) -> 114321.18 | H9: =SUM(H7:H8) -> 143199.19 | I9: =SUM(I7:I8) -> 166013.02 | J9: =SUM(J7:J8) -> 193695.7 | K9: =SUM(K7:K8) -> 254652.53 | ... O9: =SUM(O7:O8) -> 524625.63
A10: Purchase of stock in trade | D10: 190.93 | E10: 341.79 | F10: 559.94 | G10: 589.63 | H10: 817.1 | I10: 1147.82 | J10: 1238.32 | K10: ='Cost Matrix'!K32 -> 1393.4795 | L10: ='Cost Matrix'!L32 -> 1699.0438 | M10: ='Cost Matrix'!M32 -> 2060.9826 | N10: ='Cost Matrix'!N32 -> 2497.8845 | O10: ='Cost Matrix'!O32 -> 3037.9447
A11: Changes in inventories of stock in trade | D11: -1.1 | E11: -6.83 | F11: -18.65 | G11: 7.06 | H11: -31.72 | I11: -11.32 | J11: -2.94
A12: Employee benefits | D12: 2930.16 | E12: 5118.6 | F12: 6904.52 | G12: 9211.08 | H12: 11886.91 | I12: 17899.23 | J12: 20481.9 | K12: ='Cost Matrix'!K35 -> 24385.892 | L12: ='Cost Matrix'!L35 -> 29733.266 | M12: ='Cost Matrix'!M35 -> 36067.196 | N12: ='Cost Matrix'!N35 -> 43712.979 | O12: ='Cost Matrix'!O35 -> 53164.032
A13: Other expenses | D13: 8783.72 | E13: 12961.04 | F13: 18961.4 | G13: 24471.95 | H13: 30876.97 | I13: 38393.71 | J13: 47986.24 | K13: ='Cost Matrix'!K41 -> 51094.249 | L13: ='Cost Matrix'!L41 -> 62298.272 | M13: ='Cost Matrix'!M41 -> 75569.363 | N13: ='Cost Matrix'!N41 -> 91589.1 | O13: ='Cost Matrix'!O41 -> 111391.31
A14: Operating Expenses(Excluding fuel) | D14: =SUM(D10:D13) -> 11903.71 | E14: =SUM(E10:E13) -> 18414.6 | F14: =SUM(F10:F13) -> 26407.21 | G14: =SUM(G10:G13) -> 34279.72 | H14: =SUM(H10:H13) -> 43549.26 | I14: =SUM(I10:I13) -> 57429.44 | J14: =SUM(J10:J13) -> 69703.52 | K14: =SUM(K10:K13) -> 76873.62 | ... O14: =SUM(O10:O13) -> 167593.28
A15: EBITDAR(fuel) | D15: =D9-D14 -> 27537.86 | E15: =E9-E14 -> 38671.6 | F15: =F9-F14 -> 67995.13 | G15: =G9-G14 -> 80041.46 | H15: =H9-H14 -> 99649.93 | I15: =I9-I14 -> 108583.58 | J15: =J9-J14 -> 123992.18 | K15: =K9-K14 -> 177778.91 | ... O15: =O9-O14 -> 357032.35
A16: Aircraft fuel expenses | D16: 15213.26 | E16: 28735.91 | F16: 43126.26 | G16: 55133.5 | H16: 57484.86 | I16: 47793.24 | J16: 63415.13 | K16: ='Cost Matrix'!K26 -> 88047.37 | L16: ='Cost Matrix'!L26 -> 109130.02 | M16: ='Cost Matrix'!M26 -> 123622.97 | N16: ='Cost Matrix'!N26 -> 148476.98 | O16: ='Cost Matrix'!O26 -> 178058.99
A17: EBITDAR | D17: =D15-D16 -> 12324.6 | E17: =E15-E16 -> 9935.69 | F17: =F15-F16 -> 24868.87 | G17: =G15-G16 -> 24907.96 | H17: =H15-H16 -> 42165.07 | I17: =I15-I16 -> 60790.34 | J17: =J15-J16 -> 60577.05 | K17: =K15-K16 -> 89731.537 | ... O17: =O15-O16 -> 178973.36
A18: Aircraft and engine rentals | D18: 6372.43 | E18: 10634.4 | F18: 17149.51 | G18: 20310.31 | H18: =H20-H19 -> 23075.5 | I18: =I20-I19 -> 29687.48 | J18: =J20-J19 -> 36585.79 | K18: ='Cost Matrix'!K28 -> 41804.386 | L18: ='Cost Matrix'!L28 -> 50121.792 | M18: ='Cost Matrix'!M28 -> 59768.496 | N18: ='Cost Matrix'!N28 -> 71189.709 | O18: ='Cost Matrix'!O28 -> 85062.452
A19: Less: Cash and non-cash incentives | D19: -2273.94 | E19: -2627.25 | F19: -3588.03 | G19: -3607.17 | H19: -3553.12 | I19: -3565.96 | J19: -5332.06 | K19: =-Incentive!K8 -> -7097.958 | L19: =-Incentive!L8 -> -9354.2156 | M19: =-Incentive!M8 -> -7388.3001 | N19: =-Incentive!N8 -> -10456.985 | O19: =-Incentive!O8 -> -13471.177
A20: Aircraft and engine rentals (net) | D20: =D18+D19 -> 4098.49 | E20: =E18+E19 -> 8007.15 | F20: =F18+F19 -> 13561.48 | G20: =G18+G19 -> 16703.14 | H20: 19522.38 | I20: 26121.52 | J20: 31253.73 | K20: =K18+K19 -> 34706.428 | L20: =L18+L19 -> 40767.576 | M20: =M18+M19 -> 52380.196 | N20: =N18+N19 -> 60732.724 | O20: =O18+O19 -> 71591.275
A21: EBITDA | D21: =D17-D20 -> 8226.11 | E21: =E17-E20 -> 1928.54 | F21: =F17-F20 -> 11307.39 | G21: =G17-G20 -> 8204.82 | H21: =H17-H20 -> 22642.69 | I21: =I17-I20 -> 34668.82 | J21: =J17-J20 -> 29323.32 | K21: =K17-K20 -> 55025.11 | ... O21: =O17-O20 -> 107382.09
A22: Depreciation and amortisation | D22: 628.7 | E22: 665.23 | F22: 856.2 | G22: 2260.08 | H22: 3022.14 | I22: 5030.79 | J22: 4572.53 | K22: =-('Asset Schedule '!K10+'Asset Schedule '!K23) -> 4186.492 | L22: =-('Asset Schedule '!L10+'Asset Schedule '!L23) -> 4809.7754 | M22: =-('Asset Schedule '!M10+'Asset Schedule '!M23) -> 5383.5817 | N22: =-('Asset Schedule '!N10+'Asset Schedule '!N23) -> 5921.2152 | O22: =-('Asset Schedule '!O10+'Asset Schedule '!O23) -> 6431.0802
A23: EBIT | D23: =D21-D22 -> 7597.41 | E23: =E21-E22 -> 1263.31 | F23: =F21-F22 -> 10451.19 | G23: =G21-G22 -> 5944.74 | H23: =H21-H22 -> 19620.55 | I23: =I21-I22 -> 29638.03 | J23: =J21-J22 -> 24750.79 | K23: =K21-K22 -> 50838.618 | ... O23: =O21-O22 -> 100951.01
A24: Finance costs | D24: 449.91 | E24: 514.27 | F24: 578.01 | G24: 1225.77 | H24: 1155.32 | I24: 1348.53 | J24: 3307.8 | K24: ='Debt schedule'!K12 -> 1527.2812 | L24: ='Debt schedule'!L12 -> 2111.6101 | M24: ='Debt schedule'!M12 -> 2541.0398 | N24: ='Debt schedule'!N12 -> 2962.1896 | O24: ='Debt schedule'!O12 -> 3375.0593
A25: EBT | D25: =D23-D24 -> 7147.5 | E25: =E23-E24 -> 749.04 | F25: =F23-F24 -> 9873.18 | G25: =G23-G24 -> 4718.97 | H25: =H23-H24 -> 18465.23 | I25: =I23-I24 -> 28289.5 | J25: =J23-J24 -> 21442.99 | K25: =K23-K24 -> 49311.336 | ... O25: =O23-O24 -> 97575.946
A26: Tax | D26: =SUM(D28:D30) -> -1352.85 | E26: =SUM(E28:E30) -> 656.9 | F26: =SUM(F28:F30) -> -2039.61 | G26: =SUM(G28:G30) -> 14.3 | H26: =SUM(H28:H30) -> -5423.51 | I26: =I28-I30 -> -6215.56 | J26: =J28-J30 -> -4851.52 | K26: =IF(K25>0,-K25*K27,0) -> -10601.937 | L26: =IF(L25>0,-L25*L27,0) -> -11865.807 | M26: =IF(M25>0,-M25*M27,0) -> -14595.526 | N26: =IF(N25>0,-N25*N27,0) -> -17430.013 | O26: =IF(O25>0,-O25*O27,0) -> -20978.828
A27: Effective Tax rate | D27: =-D26/D25 -> 0.18927597 | E27: =-E26/E25 -> -0.87698921 | F27: =-F26/F25 -> 0.20658086 | G27: =-G26/G25 -> -0.0030303223 | H27: =-H26/H25 -> 0.29371473 | I27: =-I26/I25 -> 0.21971261 | J27: =-J26/J25 -> 0.22625203 | K27: 0.215 | L27: 0.215 | M27: 0.215 | N27: 0.215 | O27: 0.215
A28: Current period | D28: -1356.05 | E28: -77.9 | F28: -1924.25 | G28: -926.35 | H28: -3889.77 | I28: -7303.93 | J28: -4911.51
A29: Less: MAT credit entitlement | D29: 611.65 | E29: 77.9 | F29: 1086.89 | G29: 926.35 | H29: 2014.85 | I29: 0 | J29: 0
A30: Deferred tax credit / (charge) | D30: -608.45 | E30: 656.9 | F30: -1202.25 | G30: 14.3 | H30: -3548.59 | I30: -1088.37 | J30: -59.99
A31: EAT | D31: =D25+D26 -> 5794.65 | E31: =E25+E26 -> 1405.94 | F31: =F25+F26 -> 7833.57 | G31: =G25+G26 -> 4733.27 | H31: =H25+H26 -> 13041.72 | I31: =I25+I26 -> 22073.94 | J31: =J25+J26 -> 16591.47 | K31: =K25+K26 -> 38709.399 | ... O31: =O25+O26 -> 76597.118
D32: =D28/D25 -> -0.18972368 | E32: =E28/E25 -> -0.10399979 | F32: =F28/F25 -> -0.19489668 | G32: =G28/G25 -> -0.19630343 | H32: =H28/H25 -> -0.21065375 | I32: =I28/I25 -> -0.25818519 | J32: =J28/J25 -> -0.22904968
A33: Earnings per equity share of face value of Rs. 1000 each
A34: Basic (Rs.) | D34: 18875 | E34: 4580 | F34: 25517 | G34: 15418 | H34: 42.48 | I34: 58.17 | J34: 45.94
A35: Diluted (Rs.) | D35: 16859 | E35: 4090 | F35: 22791 | G35: 13771 | H35: 37.94 | I35: 56.49 | J35: 45.85

Sheet Asset Schedule 
A1: Interglobe Aviation
A2: Template
A3: All Data in Millions INR, except per share
A4: (Red=Assumption, Blue=Actual, Black=Calculation)
A5: Date | D5: 40633 | E5: =EOMONTH(D5,12) -> 40999 | F5: =EOMONTH(E5,12) -> 41364 | G5: =EOMONTH(F5,12) -> 41729 | H5: =EOMONTH(G5,12) -> 42094 | I5: =EOMONTH(H5,12) -> 42460 | J5: =EOMONTH(I5,12) -> 42825 | K5: =EOMONTH(J5,12) -> 43190 | L5: =EOMONTH(K5,12) -> 43555 | ... O5: =EOMONTH(N5,12) -> 44651
A6: Year | D6: =YEAR(D5) -> 2011 | E6: =YEAR(E5) -> 2012 | F6: =YEAR(F5) -> 2013 | G6: =YEAR(G5) -> 2014 | H6: =YEAR(H5) -> 2015 | I6: =YEAR(I5) -> 2016 | J6: =YEAR(J5) -> 2017 | K6: =YEAR(K5) -> 2018 | ... O6: =YEAR(O5) -> 2022
A7: Tangible assets
A8: Opening Balance | H8: =44154.12-4746.92 -> 39407.2 | I8: =H12 -> 48664.02 | J8: =I12 -> 46755.15 | K8: =J12 -> 37474.72 | L8: =K12 -> 43402.958 | M8: =L12 -> 49083.446 | N8: =M12 -> 54538.977 | O8: =N12 -> 59790.247
A9: Addition | H9: 10776.51 | I9: 1944.73 | J9: 2017.57 | K9: =K15 -> 9828 | L9: =L15 -> 10140 | M9: =M15 -> 10452 | N9: =N15 -> 10764 | O9: =O15 -> 11076
A10: Depreciation | H10: -2941.52 | I10: -4913.81 | J10: -4398.09 | K10: =(K8+K9/2)*K18 -> -3899.7622 | L10: =(L8+L9/2)*L18 -> -4459.5121 | M10: =(M8+M9/2)*M18 -> -4996.469 | N10: =(N8+N9/2)*N18 -> -5512.7299 | O10: =(O8+O9/2)*O18 -> -6010.1987
A11: Adjustments | H11: =H12-SUM(H8:H10) -> 1421.83 | I11: =I12-SUM(I8:I10) -> 1060.21
A12: Closing Balance | H12: 48664.02 | I12: 46755.15 | J12: 37474.72 | K12: =SUM(K8:K11) -> 43402.958 | L12: =SUM(L8:L11) -> 49083.446 | M12: =SUM(M8:M11) -> 54538.977 | N12: =SUM(N8:N11) -> 59790.247 | O12: =SUM(O8:O11) -> 64856.048 | R12: 26
A14: Addition to Aircaft | H14: 4 | K14: 6 | L14: 6 | M14: 6 | N14: 6 | O14: 6
A15: Gross Amount of addition | H15: 9859.51 | K15: =K14*K16 -> 9828 | L15: =L14*L16 -> 10140 | M15: =M14*M16 -> 10452 | N15: =N14*N16 -> 10764 | O15: =O14*O16 -> 11076 | Q15: 800
A16: Cost per aircraft | H16: =H15/H14 -> 2464.8775 | K16: =26*'Cost Matrix'!R13 -> 1638 | L16: =26*'Cost Matrix'!S13 -> 1690 | M16: =26*'Cost Matrix'!T13 -> 1742 | N16: =26*'Cost Matrix'!U13 -> 1794 | O16: =26*'Cost Matrix'!V13 -> 1846 | Q16: 26
Q17: =Q15/Q16 -> 30.769231
A18: Depreciation rate | H18: =H10/(H8+H9/2) -> -0.06566559 | I18: =I10/(I8+I9/2) -> -0.09899613 | J18: =J10/(J8+J9/2) -> -0.092079725 | K18: -0.092 | L18: -0.092 | M18: -0.092 | N18: -0.092 | O18: -0.092
A20: Intangible assets
A21: Opening Balance | H21: =350.44-197.98 -> 152.46 | I21: =H25 -> 96.37 | J21: =I25 -> 199.74 | K21: =J25 -> 463.69 | L21: =K25 -> 614.9602 | M21: =L25 -> 702.69692 | N21: =M25 -> 753.58421 | O21: =N25 -> 783.09884
A22: Addition | H22: 24.52 | I22: 220.36 | J22: 438.39 | K22: 438 | L22: 438 | M22: 438 | N22: 438 | O22: 438
A23: Amortisation | H23: -80.62 | I23: -116.98 | J23: -174.44 | K23: =(K21+K22/2)*K27 -> -286.7298 | L23: =(L21+L22/2)*L27 -> -350.26328 | M23: =(M21+M22/2)*M27 -> -387.1127 | N23: =(N21+N22/2)*N27 -> -408.48537 | O23: =(O21+O22/2)*O27 -> -420.88151
A24: Adjustments | H24: =H25-SUM(H21:H23) -> 0.01 | I24: =I25-SUM(I21:I23) -> -0.01 | J24: =J25-SUM(J21:J23) -> 0
A25: Closing Balance | H25: 96.37 | I25: 199.74 | J25: 463.69 | K25: =SUM(K21:K24) -> 614.9602 | L25: =SUM(L21:L24) -> 702.69692 | M25: =SUM(M21:M24) -> 753.58421 | N25: =SUM(N21:N24) -> 783.09884 | O25: =SUM(O21:O24) -> 800.21733
A27: Amortisation rate | H27: =H23/(H21+H22/2) -> -0.48943662 | I27: =I23/(I21+I22/2) -> -0.56635197 | J27: =J23/(J21+J22/2) -> -0.41638918 | K27: -0.42 | L27: -0.42 | M27: -0.42 | N27: -0.42 | O27: -0.42

Sheet Valuation
A1: Interglobe Aviation | J1: 1 | K1: 2 | L1: 3 | M1: 4 | N1: 5
A3: BOTTOM-UP BETA | D3: COST OF DEBT | H3: COST OF EQUITY | K3: DEBT CALCULATION | O3: Loan Type | P3: Amount | Q3: Interest | R3: Maturity | S3: Weights
A4: Marginal Tax Rate | B4: 0.3461 | D4: Earnings before interest and taxes | F4: 24751.4 | H4: Rf | I4: 0.0755 | K4: Capitalized Operating Leases | M4: ='Assumptions Sheet'!P63 -> 63160.93 | O4: Foreign Currency Term Loan | P4: 4604 | Q4: =1.426%+2.75% -> 0.04176 | R4: 82 | S4: =P4*R4 -> 377528
A5: Mean Beta for Sector | B5: 0.93 | D5: current interest expenses | F5: 3308 | H5: Bottom Up Beta | I5: =B9 -> 0.72456975 | K5: Book Value of Debt (Sept 17) | M5: =23301+27478 -> 50779 | O5: Foreign Currency Term Loan | P5: 4035 | Q5: =1.426%+2.75% -> 0.04176 | R5: 94 | S5: =P5*R5 -> 379290
A6: Mean D/E for Sector | B6: 0.73 | D6: Interest coverage ratio | F6: 7.4822854 | H6: Rm | I6: =I4+I7 -> 0.1482 | K6: Interest Expense | M6: =F5 -> 3308 | O6: Foreign Currency Term Loan | P6: 3000 | Q6: =1.426%+2.75% -> 0.04176 | R6: 106 | S6: =P6*R6 -> 318000
A7: Unlevered beta For Sector | B7: =B5/(1+((1-B4)*B6)) -> 0.62950681 | D7: Estimated Bond Rating | F7: Aa2/AA | H7: Rm - Rf | I7: 0.0727 | K7: Weighted Avg Maturity of Debt | M7: =S17/(P17*12) -> 5.9338876 | O7: Finance Lease | P7: 2993 | Q7: =1.1%+2.5% -> 0.036 | R7: 12 | S7: =P7*R7 -> 35916
A8: Debt to Equity of Indigo | B8: =B14/B13 -> 0.23094015 | D8: Country Risk Free Rate | F8: 0.0755 | H8: Cost Of Equity | I8: =I4+I5*I7 -> 0.12817622 | K8: Market Value of Debt | M8: =(M6*((1-(1/(1+F11)^M7))/F11))+(M5/(1+F11)^M7) -> 42162.63 | O8: Finance Lease | P8: 2995 | Q8: =1.1%+2.5% -> 0.036 | R8: 24 | S8: =P8*R8 -> 71880
A9: Levered Bottom Up Beta for IndiGo | B9: =B7*(1+(1-B4)*(B14/B13)) -> 0.72456975 | D9: Company Default Spread | F9: 0.01 | K9: Adjusted Market Value of Debt | M9: =M8+M4 -> 105323.56 | O9: Finance Lease | P9: 2995 | Q9: =1.1%+2.5% -> 0.036 | R9: 36 | S9: =P9*R9 -> 107820
D10: Country Default Spread | F10: 0.0195 | O10: Finance Lease | P10: 2995 | Q10: =1.1%+2.5% -> 0.036 | R10: 48 | S10: =P10*R10 -> 143760
A11: WEIGHTED AVERAGE COST | D11: Cost of Debt | F11: =SUM(F8:F10) -> 0.105 | O11: Finance Lease | P11: 2995 | Q11: =1.1%+2.5% -> 0.036 | R11: 60 | S11: =P11*R11 -> 179700
A12: Number of Shares | B12: 383678176 | O12: Finance Lease | P12: 2267.2 | Q12: =1.1%+2.5% -> 0.036 | R12: 72 | S12: =P12*R12 -> 163238.4
A13: Market Value of Equity | B13: 456064.3 | O13: Finance Lease | P13: 2267.2 | Q13: =1.1%+2.5% -> 0.036 | R13: 84 | S13: =P13*R13 -> 190444.8
A14: Market Value of Debt | B14: =M9 -> 105323.56 | O14: Finance Lease | P14: 2267.2 | Q14: =1.1%+2.5% -> 0.036 | R14: 96 | S14: =P14*R14 -> 217651.2
A15: Equity Weightage | B15: =B13/(B13+B14) -> 0.81238718 | O15: Finance Lease | P15: 2267.2 | Q15: =1.1%+2.5% -> 0.036 | R15: 108 | S15: =P15*R15 -> 244857.6
A16: Debt Weightage | B16: =B14/(B14+B13) -> 0.18761282 | O16: Finance Lease | P16: 2267.2 | Q16: =1.1%+2.5% -> 0.036 | R16: 120 | S16: =P16*R16 -> 272064
A17: WACC | B17: =(I8*(B13/(B13+B14)))+(F11*(1-B4)*(B14/(B13+B14))) -> 0.11701012 | O17: Sum Total | P17: =SUM(P4:P16) -> 37948 | S17: =SUM(S4:S16) -> 2702150
A20: Date | C20: 40633 | D20: =EOMONTH(C20,12) -> 40999 | E20: =EOMONTH(D20,12) -> 41364 | F20: =EOMONTH(E20,12) -> 41729 | G20: =EOMONTH(F20,12) -> 42094 | H20: =EOMONTH(G20,12) -> 42460 | I20: =EOMONTH(H20,12) -> 42825 | J20: =EOMONTH(I20,12) -> 43190 | K20: =EOMONTH(J20,12) -> 43555 | ... N20: =EOMONTH(M20,12) -> 44651
A21: Year | C21: =YEAR(C20) -> 2011 | D21: =YEAR(D20) -> 2012 | E21: =YEAR(E20) -> 2013 | F21: =YEAR(F20) -> 2014 | G21: =YEAR(G20) -> 2015 | H21: =YEAR(H20) -> 2016 | I21: =YEAR(I20) -> 2017 | J21: =YEAR(J20) -> 2018 | ... N21: =YEAR(N20) -> 2022 | P21: WACC | Q21: Terminal Growth Rate %
Q22: =B46 -> 1697.9938 | R22: 0.02 | S22: =R22+0.5% -> 0.025 | T22: =S22+0.5% -> 0.03 | U22: =T22+0.5% -> 0.035 | V22: =U22+0.5% -> 0.04 | W22: =V22+0.5% -> 0.045 | X22: =W22+0.5% -> 0.05 | Y22: =X22+0.5% -> 0.055 | Z22: =Y22+0.5% -> 0.06 | ... AB22: =AA22+0.5% -> 0.07
A23: Revenues | C23: ='Assumptions Sheet'!D32 -> 39441.7 | D23: ='Assumptions Sheet'!E32 -> 57086.316 | E23: ='Assumptions Sheet'!F32 -> 94402.453 | F23: ='Assumptions Sheet'!G32 -> 114321.31 | G23: ='Assumptions Sheet'!H32 -> 143199.33 | H23: ='Assumptions Sheet'!I32 -> 166013.15 | I23: ='Assumptions Sheet'!J32 -> 193696.17 | J23: ='Assumptions Sheet'!K32 -> 254652.67 | ... N23: ='Assumptions Sheet'!O32 -> 524625.77 | Q23: 0.11 | R23: 1727.4565 | S23: 1787.6338 | T23: 1855.3333 | U23: 1932.0593 | V23: 2019.7462 | W23: 2120.9234 | X23: 2238.9635 | Y23: 2378.4654 | Z23: 2545.8677 | AA23: 2750.4704 | AB23: 3006.2239
A24: EBITDAR | C24: ='Income statement'!D17 -> 12324.6 | D24: ='Income statement'!E17 -> 9935.69 | E24: ='Income statement'!F17 -> 24868.87 | F24: ='Income statement'!G17 -> 24907.96 | G24: ='Income statement'!H17 -> 42165.07 | H24: ='Income statement'!I17 -> 60790.34 | I24: ='Income statement'!J17 -> 60577.05 | J24: ='Income statement'!K17 -> 89731.537 | ... N24: ='Income statement'!O17 -> 178973.36 | Q24: =Q23+0.7% -> 0.117 | R24: 1595.1002 | S24: 1643.8488 | T24: 1698.2008 | U24: 1759.181 | V24: 1828.0808 | W24: 1906.55 | X24: 1996.731 | Y24: 2101.4573 | Z24: 2224.5566 | AA24: 2371.3289 | AB24: 2549.3294
A25: EBITDA | C25: ='Income statement'!D21 -> 8226.11 | D25: ='Income statement'!E21 -> 1928.54 | E25: ='Income statement'!F21 -> 11307.39 | F25: ='Income statement'!G21 -> 8204.82 | G25: ='Income statement'!H21 -> 22642.69 | H25: ='Income statement'!I21 -> 34668.82 | I25: ='Income statement'!J21 -> 29323.32 | J25: ='Income statement'!K21 -> 55025.11 | ... N25: ='Income statement'!O21 -> 107382.09 | Q25: =Q24+0.5% -> 0.122 | R25: 1513.0104 | S25: 1555.2474 | T25: 1602.0754 | U25: 1654.2859 | V25: 1712.8636 | W25: 1779.0488 | X25: 1854.4263 | Y25: 1941.0542 | Z25: 2041.6544 | AA25: 2159.9037 | AB25: 2300.8932
A26: EBIT | C26: ='Income statement'!D23 -> 7597.41 | D26: ='Income statement'!E23 -> 1263.31 | E26: ='Income statement'!F23 -> 10451.19 | F26: ='Income statement'!G23 -> 5944.74 | G26: ='Income statement'!H23 -> 19620.55 | H26: ='Income statement'!I23 -> 29638.03 | I26: ='Income statement'!J23 -> 24750.79 | J26: ='Income statement'!K23 -> 50838.618 | ... N26: ='Income statement'!O23 -> 100951.01 | Q26: =Q25+0.5% -> 0.127 | R26: 1439.5725 | S26: 1476.3601 | T26: 1516.9402 | U26: 1561.9313 | V26: 1612.0937 | W26: 1668.3735 | X26: 1731.9624 | Y26: 1804.383 | Z26: 1887.6127 | AA26: 1984.2665 | AB26: 2097.8772
A27: Tax Expense | C27: ='Income statement'!D26 -> -1352.85 | D27: ='Income statement'!E26 -> 656.9 | E27: ='Income statement'!F26 -> -2039.61 | F27: ='Income statement'!G26 -> 14.3 | G27: ='Income statement'!H26 -> -5423.51 | H27: ='Income statement'!I26 -> -6215.56 | I27: ='Income statement'!J26 -> -4851.52 | J27: ='Income statement'!K26 -> -10601.937 | ... N27: ='Income statement'!O26 -> -20978.828 | Q27: =Q26+0.5% -> 0.132 | R27: 1373.5686 | S27: 1405.763 | T27: 1441.1138 | U27: 1480.109 | V27: 1523.3428 | W27: 1571.546 | X27: 1625.6277 | Y27: 1686.7329 | Z27: 1756.325 | AA27: 1836.304 | AB27: 1929.1827
A28: Net Operating Profit After Tax (NOPAT) | C28: ='Income statement'!D31 -> 5794.65 | D28: ='Income statement'!E31 -> 1405.94 | E28: ='Income statement'!F31 -> 7833.57 | F28: ='Income statement'!G31 -> 4733.27 | G28: ='Income statement'!H31 -> 13041.72 | H28: ='Income statement'!I31 -> 22073.94 | I28: ='Income statement'!J31 -> 16591.47 | J28: ='Income statement'!K31 -> 38709.399 | ... N28: ='Income statement'!O31 -> 76597.118 | Q28: =Q27+0.5% -> 0.137 | R28: 1313.9927 | S28: 1342.2905 | T28: 1373.233 | U28: 1407.209 | V28: 1444.6877 | W28: 1486.2402 | X28: 1532.5689 | Y28: 1584.5473 | Z28: 1643.2763 | AA28: 1710.162 | AB28: 1787.0307
A29: Depreciation & Amortisation | C29: ='Income statement'!D22 -> 628.7 | D29: ='Income statement'!E22 -> 665.23 | E29: ='Income statement'!F22 -> 856.2 | F29: ='Income statement'!G22 -> 2260.08 | G29: ='Income statement'!H22 -> 3022.14 | H29: ='Income statement'!I22 -> 5030.79 | I29: ='Income statement'!J22 -> 4572.53 | J29: ='Income statement'!K22 -> 4186.492 | ... N29: ='Income statement'!O22 -> 6431.0802 | Q29: =Q28+0.5% -> 0.142 | R29: 1260.0068 | S29: 1284.9792 | T29: 1312.1813 | U29: 1341.9256 | V29: 1374.586 | W29: 1410.6135 | X29: 1450.557 | Y29: 1495.0918 | Z29: 1545.0576 | AA29: 1601.5124 | AB29: 1665.8082
A30: Working Capital Change | C30: ='CashFlow Statement'!D29 -> 2600.14 | D30: ='CashFlow Statement'!E29 -> 8535.03 | E30: ='CashFlow Statement'!F29 -> 9696.27 | F30: ='CashFlow Statement'!G29 -> 11218.92 | G30: ='CashFlow Statement'!H29 -> 7765.16 | H30: ='CashFlow Statement'!I29 -> 3496.89 | I30: ='CashFlow Statement'!J29 -> 21135.19 | J30: ='CashFlow Statement'!K29 -> 5196.8744 | ... N30: ='CashFlow Statement'!O29 -> 16643.372 | Q30: =Q29+0.5% -> 0.147 | R30: 1210.9077 | S30: 1233.0267 | T30: 1257.0363 | U30: 1283.1896 | V30: 1311.7871 | W30: 1343.1883 | X30: 1377.8267 | Y30: 1416.2302 | Z30: 1459.0479 | AA30: 1507.0872 | AB30: 1561.3654
A31: Operating Cash Flow | C31: =SUM(C28,C29,C30) -> 9023.49 | D31: =SUM(D28,D29,D30) -> 10606.2 | E31: =SUM(E28,E29,E30) -> 18386.04 | F31: =SUM(F28,F29,F30) -> 18212.27 | G31: =SUM(G28,G29,G30) -> 23829.02 | H31: =SUM(H28,H29,H30) -> 30601.62 | I31: =SUM(I28,I29,I30) -> 42299.19 | J31: =SUM(J28,J29,J30) -> 48092.765 | ... N31: =SUM(N28,N29,N30) -> 99671.57 | Q31: =Q30+0.5% -> 0.152 | R31: 1166.1012 | S31: 1185.7597 | T31: 1207.0296 | U31: 1230.1174 | V31: 1255.2667 | W31: 1282.7663 | X31: 1312.9619 | Y31: 1346.2706 | Z31: 1383.1997 | AA31: 1424.3735 | AB31: 1470.5686
A32: Interest | C32: ='Income statement'!D24 -> 449.91 | D32: ='Income statement'!E24 -> 514.27 | E32: ='Income statement'!F24 -> 578.01 | F32: ='Income statement'!G24 -> 1225.77 | G32: ='Income statement'!H24 -> 1155.32 | H32: ='Income statement'!I24 -> 1348.53 | I32: ='Income statement'!J24 -> 3307.8 | J32: ='Income statement'!K24 -> 1527.2812 | ... N32: ='Income statement'!O24 -> 3375.0593 | Q32: =Q31+0.5% -> 0.157 | R32: 1125.0824 | S32: 1142.6093 | T32: 1161.5163 | U32: 1181.9731 | V32: 1204.1783 | W32: 1228.3661 | X32: 1254.8145 | Y32: 1283.8558 | Z32: 1315.8911 | AA32: 1351.4085 | AB32: 1391.0084
A33: Capex | C33: ='CashFlow Statement'!D31 -> -2133.12 | D33: ='CashFlow Statement'!E31 -> -331.74 | E33: ='CashFlow Statement'!F31 -> -9155.68 | F33: ='CashFlow Statement'!G31 -> -23241.67 | G33: ='CashFlow Statement'!H31 -> -10171.15 | H33: ='CashFlow Statement'!I31 -> -2319.9 | I33: ='CashFlow Statement'!J31 -> -2372.38 | J33: ='CashFlow Statement'!K31 -> -10266 | ... N33: ='CashFlow Statement'!O31 -> -11514 | Q33: =Q32+0.5% -> 0.162 | R33: 1087.4193 | S33: 1103.0917 | T33: 1119.9515 | U33: 1138.1387 | V33: 1157.8168 | W33: 1179.1767 | X33: 1202.4438 | Y33: 1227.8854 | Z33: 1255.8212 | AA33: 1286.6371 | AB33: 1320.8024
A34: FCFF | C34: =C31+(1-$B$4)*C32+C33 -> 7184.5661 | D34: =D31+(1-$B$4)*D32+D33 -> 10610.741 | E34: =E31+(1-$B$4)*E32+E33 -> 9608.3207 | F34: =F31+(1-$B$4)*F32+F33 -> -4227.869 | G34: =G31+(1-$B$4)*G32+G33 -> 14413.334 | H34: =H31+(1-$B$4)*H32+H33 -> 29163.524 | I34: =I31+(1-$B$4)*I32+I33 -> 42089.78 | J34: =J31+(1-$B$4)*J32+J33 -> 38825.455 | ... N34: =N31+(1-$B$4)*N32+N33 -> 90364.521 | Q34: =Q33+0.5% -> 0.167 | R34: 1052.7407 | S34: 1066.7933 | T34: 1081.8717 | U34: 1098.0923 | V34: 1115.5902 | W34: 1134.5224 | X34: 1155.0726 | Y34: 1177.4577 | Z34: 1201.9349 | AA34: 1228.8118 | AB34: 1258.4595
A35: PV of FCFF | J35: =J34/(1+$B$17)^J36 -> 34758.373 | K35: =K34/(1+$B$17)^K36 -> 39326.811 | L35: =L34/(1+$B$17)^L36 -> 40420.873 | M35: =M34/(1+$B$17)^M36 -> 47804.109 | N35: =N34/(1+$B$17)^N36 -> 51965.177 | Q35: =Q34+0.5% -> 0.172 | R35: 1020.726 | S35: 1033.3586 | T35: 1046.8808 | U35: 1061.39 | V35: 1076.9983 | W35: 1093.8357 | X35: 1112.0532 | Y35: 1131.8278 | Z35: 1153.3679 | AA35: 1176.9212 | AB35: 1202.7835
J36: 1 | K36: 2 | L36: 3 | M36: 4 | N36: 5 | Q36: =Q35+0.5% -> 0.177 | R36: 991.09697 | S36: 1002.4803 | T36: 1014.638 | U36: 1027.6519 | V36: 1041.6157 | W36: 1056.6374 | X36: 1072.8419 | Y36: 1090.3746 | Z36: 1109.4058 | AA36: 1130.1363 | AB36: 1152.8041 | AW36: 2018 | AX36: 2019 | AY36: 2020 | AZ36: 2021 | BA36: 2022
AV37: Revenues | AW37: 254652.67 | AX37: 305739.51 | AY37: 365511.64 | AZ37: 436963.04 | BA37: 524625.77
A38: Terminal Value | AV38: EBITDAR | AW38: 89731.537 | AX38: 102878.76 | AY38: 128190.98 | AZ38: 150685.96 | BA38: 178973.36
A39: Sum of PV of Cash Flows | B39: =SUM(J35:N35) -> 214275.34 | AV39: Net Operating Profit After Tax (NOPAT) | AW39: 38709.399 | AX39: 43323.992 | AY39: 53290.64 | AZ39: 63639.816 | BA39: 76597.118
A40: Perpetual Value of Growth | B40: 0.03 | AV40: Operating Cash Flow | AW40: 48092.765 | AX40: 58265.737 | AY40: 65563.247 | AZ40: 83685.709 | BA40: 99671.57
A41: Present Value of Terminal Value | B41: =((N35*(1+B40))/(B17-B40))/(1+B17)^5 -> 353748.27 | AV41: FCFF | AW41: 38825.455 | AX41: 49068.519 | AY41: 56334.833 | AZ41: 74420.684 | BA41: 90364.521
A42: Book Value of Debt | B42: 50779 | AV42: PV of FCFF | AW42: 34758.373 | AX42: 39326.811 | AY42: 40420.873 | AZ42: 47804.109 | BA42: 51965.177
A43: Enterprise Value | B43: =B42+B41+B39+B44 -> 702262.16
...

Sheet Cost Matrix
A1: Interglobe Aviation
A2: Template
A3: All Data in Millions INR, except per share
A4: (Red=Assumption, Blue=Actual, Black=Calculation)
A5: Date | D5: 40633 | E5: =EOMONTH(D5,12) -> 40999 | F5: =EOMONTH(E5,12) -> 41364 | G5: =EOMONTH(F5,12) -> 41729 | H5: =EOMONTH(G5,12) -> 42094 | I5: =EOMONTH(H5,12) -> 42460 | J5: =EOMONTH(I5,12) -> 42825 | K5: =EOMONTH(J5,12) -> 43190 | L5: =EOMONTH(K5,12) -> 43555 | ... O5: =EOMONTH(N5,12) -> 44651
A6: Year | D6: =YEAR(D5) -> 2011 | E6: =YEAR(E5) -> 2012 | F6: =YEAR(F5) -> 2013 | G6: =YEAR(G5) -> 2014 | H6: =YEAR(H5) -> 2015 | I6: =YEAR(I5) -> 2016 | J6: =YEAR(J5) -> 2017 | K6: =YEAR(K5) -> 2018 | ... O6: =YEAR(O5) -> 2022
A7: Block hours | D7: 125553 | E7: =167784+11468 -> 179252 | F7: =214823+31317 -> 246140 | G7: =261952+35701 -> 297653 | H7: 354276 | I7: 436739 | J7: 558567 | K7: =AVERAGE(J8:K8)*K9 -> 669154.5 | L7: =AVERAGE(K8:L8)*L9 -> 742717.11 | M7: =AVERAGE(L8:M8)*M9 -> 823244.54 | N7: =AVERAGE(M8:N8)*N9 -> 963196.11 | O7: =AVERAGE(N8:O8)*O9 -> 1126198.5
A8: No of aircrafts | D8: 39 | E8: 55 | F8: 66 | G8: 77 | H8: 94 | I8: 107 | J8: 131 | K8: ='Assumptions Sheet'!K17 -> 160 | L8: ='Assumptions Sheet'!L17 -> 170.86852 | M8: ='Assumptions Sheet'!M17 -> 205.04223 | N8: ='Assumptions Sheet'!N17 -> 246.05067 | O8: ='Assumptions Sheet'!O17 -> 295.26081
A9: Block hours per aircraft | E9: =E7/AVERAGE(D8:E8) -> 3813.8723 | F9: =F7/AVERAGE(E8:F8) -> 4068.4298 | G9: =G7/AVERAGE(F8:G8) -> 4162.979 | H9: =H7/AVERAGE(G8:H8) -> 4143.5789 | I9: =I7/AVERAGE(H8:I8) -> 4345.6617 | J9: =J7/AVERAGE(I8:J8) -> 4693.8403 | K9: =K10*K11 -> 4599 | L9: =L10*L11 -> 4489.5 | M9: =M10*M11 -> 4380 | N9: =N10*N11 -> 4270.5 | O9: =O10*O11 -> 4161
A10: No of days | E10: 365 | F10: 365 | G10: 365 | H10: 365 | I10: 365 | J10: 365 | K10: 365 | L10: 365 | M10: 365 | N10: 365 | O10: 365
A11: Block hours per day | D11: 10.7 | E11: =E9/E10 -> 10.448965 | F11: =F9/F10 -> 11.146383 | G11: =G9/G10 -> 11.405422 | H11: =H9/H10 -> 11.352271 | I11: =I9/I10 -> 11.905922 | J11: =J9/J10 -> 12.859837 | K11: 12.6 | L11: =K11-0.3 -> 12.3 | M11: =L11-0.3 -> 12 | N11: =M11-0.3 -> 11.7 | O11: =N11-0.3 -> 11.4
J12: =(J11/E11)^(1/5)-1 -> 0.04239527 | Q12: Year | R12: 2018 | S12: 2019 | T12: 2020 | U12: 2021 | V12: 2022 | AI12: Year | AJ12: 2018 | AK12: 2019 | AL12: 2020 | AM12: 2021 | AN12: 2022
A13: Aircraft fuel expenses | D13: 15213.26 | E13: 28735.91 | F13: 43126.26 | G13: 55133.5 | H13: 57484.86 | I13: 47793.24 | J13: 63415.13 | K13: =K14*K15 -> 88047.37 | L13: =L14*L15 -> 109130.02 | M13: =M14*M15 -> 123622.97 | N13: =N14*N15 -> 148476.98 | O13: =O14*O15 -> 178058.99 | Q13: USD/INR E | R13: 63 | S13: 65 | T13: 67 | U13: 69 | V13: 71 | AI13: USD/INR E | AJ13: 63 | AK13: 65 | AL13: 67 | AM13: 69 | AN13: 71
A14: Average fuel price | E14: 63.8 | F14: 70.8 | G14: 75.7 | H14: 68.37 | I14: 47.28 | J14: 50.87 | K14: =R17/1000 -> 61.095159 | L14: =S17/1000 -> 70.038542 | M14: =T17/1000 -> 72.193574 | N14: =U17/1000 -> 74.348606 | O14: =V17/1000 -> 76.503638 | Q14: Brent ($) E | R14: 67.5 | S14: 75 | T14: 75 | U14: 75 | V14: 75 | AI14: Brent ($) E | AJ14: 67.5 | AK14: 75 | AL14: 75 | AM14: 75 | AN14: 75
A15: Fuel comsumption in million Lt | E15: =E13/E14 -> 450.40611 | F15: =F13/F14 -> 609.12797 | G15: =G13/G14 -> 728.31572 | H15: =H13/H14 -> 840.7907 | I15: =I13/I14 -> 1010.8553 | J15: =J13/J14 -> 1246.6116 | K15: =K17*K7/10^6 -> 1441.1513 | L15: =L17*L7/10^6 -> 1558.1425 | M15: =M17*M7/10^6 -> 1712.382 | N15: =N17*N7/10^6 -> 1997.0379 | O15: =O17*O7/10^6 -> 2327.4578 | Q15: USD/INR * Brent ($) | R15: 4252.5 | S15: =S14*S13 -> 4875 | T15: =T14*T13 -> 5025 | U15: =U14*U13 -> 5175 | V15: =V14*V13 -> 5325 | AI15: USD/INR * Brent ($) | AJ15: 4252.5 | AK15: =AK14*AK13 -> 4875 | AL15: =AL14*AL13 -> 5025 | AM15: =AM14*AM13 -> 5175 | AN15: =AN14*AN13 -> 5325
J16: =I17/J17-1 -> 0.037077363 | Q16: Change (%) | R16: 0.035765715 | S16: =(S15/R15)-1 -> 0.14638448 | T16: =(T15/S15)-1 -> 0.030769231 | U16: =(U15/T15)-1 -> 0.029850746 | V16: =(V15/U15)-1 -> 0.028985507 | AI16: Change (%) | AJ16: 0.035765715 | AK16: =(AK15/AJ15)-1 -> 0.14638448 | AL16: =(AL15/AK15)-1 -> 0.030769231 | AM16: =(AM15/AL15)-1 -> 0.029850746 | AN16: =(AN15/AM15)-1 -> 0.028985507
A17: Fuel consumed per block hour | E17: =E15/E7*10^6 -> 2512.6978 | F17: =F15/F7*10^6 -> 2474.7216 | G17: =G15/G7*10^6 -> 2446.8617 | H17: =H15/H7*10^6 -> 2373.2646 | I17: =I15/I7*10^6 -> 2314.5525 | J17: =J15/J7*10^6 -> 2231.8031 | K17: =$J$17*(1-K18) -> 2153.69 | L17: =$J$17*(1-L18) -> 2097.8949 | M17: =$J$17*(1-M18) -> 2080.0405 | N17: =$J$17*(1-N18) -> 2073.3451 | O17: =$J$17*(1-O18) -> 2066.6497 | Q17: ATF Forecast Price | R17: 61095.159 | S17: =R17*(1+S16) -> 70038.542 | T17: =S17*(1+T16) -> 72193.574 | U17: =T17*(1+U16) -> 74348.606 | V17: =U17*(1+V16) -> 76503.638 | AI17: ATF Forecast Price | AJ17: 61095.159 | AK17: =AJ17*(1+AK16) -> 70038.542 | AL17: =AK17*(1+AL16) -> 72193.574 | AM17: =AL17*(1+AM16) -> 74348.606 | AN17: =AM17*(1+AN16) -> 76503.638
A18: Growth | F18: =F17/E17-1 -> -0.015113744 | G18: =G17/F17-1 -> -0.011257785 | H18: =H17/G17-1 -> -0.030078144 | I18: =I17/H17-1 -> -0.024738984 | J18: =J17/I17-1 -> -0.035751781 | K18: 0.035 | L18: 0.06 | M18: 0.068 | N18: 0.071 | O18: 0.074
J19: =(E17/J17)^(1/5)-1 -> 0.023992741
A21: Passenger ticket revenue | D21: 33909.86 | E21: 49873.04 | F21: 82666.57 | G21: 99239.83 | H21: 122939 | I21: 140624.22 | J21: 161970.72 | K21: 198026.48 | L21: 241326.58 | M21: 293837.03 | N21: 357472.24 | O21: 434536.4
A22: Ancillary revenue | D22: 4356.65 | E22: 5680.34 | F22: 9253.44 | G22: 11553.33 | H22: 15724.87 | I22: 20019.95 | J22: 22667.6 | K22: 26733.575 | L22: 32579.089 | M22: 38198.814 | N22: 44684.029 | O22: 54317.049
A23: Other operating revenue | D23: 67.69 | E23: 93.22 | F23: 111.29 | G23: 372.69 | H23: 589.5 | I23: 754.9 | J23: 1167 | K23: 1545.5978 | L23: 2028.3514 | M23: 2646.0042 | N23: 3433.5229 | O23: 4434.4465
A24: Other Income | D24: 1107.37 | E24: 1439.6 | F24: 2371.04 | G24: 3155.34 | H24: 3945.83 | I24: 4613.93 | J24: 7890.7 | K24: 5940.7943 | L24: 7239.7975 | M24: 8815.111 | N24: 10724.167 | O24: 13036.092
A25: Total Revenue | D25: 39441.7 | E25: 57086.316 | F25: 94402.453 | G25: 114321.31 | H25: 143199.33 | I25: 166013.15 | J25: 193696.17 | K25: 232246.59 | L25: 283173.97 | M25: 343497.1 | N25: 416314.09 | O25: 506324.12
A26: Aircraft fuel expenses | D26: 15213.26 | E26: 28735.91 | F26: 43126.26 | G26: 55133.5 | H26: 57484.86 | I26: 47793.24 | J26: 63415.13 | K26: =K13 -> 88047.37 | L26: =L13 -> 109130.02 | M26: =M13 -> 123622.97 | N26: =N13 -> 148476.98 | O26: =O13 -> 178058.99
D27: =D26/D$25 -> 0.38571511 | E27: =E26/E$25 -> 0.5033765 | F27: =F26/F$25 -> 0.4568341 | G27: =G26/G$25 -> 0.48226792 | H27: =H26/H$25 -> 0.40143246 | I27: =I26/I$25 -> 0.28788828 | J27: =J26/J$25 -> 0.32739486 | K27: =K26/K$25 -> 0.37911158 | ... O27: =O26/O$25 -> 0.35166997
A28: Aircraft and engine rentals | D28: 6372.43 | E28: 10634.4 | F28: 17149.51 | G28: 20310.31 | H28: 23075.5 | I28: 29687.48 | J28: 36585.73 | K28: =K29*K$25 -> 41804.386 | L28: =L29*L$25 -> 50121.792 | M28: =M29*M$25 -> 59768.496 | N28: =N29*N$25 -> 71189.709 | O28: =O29*O$25 -> 85062.452
D29: =D28/D$25 -> 0.1615658 | E29: =E28/E$25 -> 0.18628633 | F29: =F28/F$25 -> 0.18166382 | G29: =G28/G$25 -> 0.17765988 | H29: =H28/H$25 -> 0.16114251 | I29: =I28/I$25 -> 0.17882608 | J29: =J28/J$25 -> 0.18888205 | K29: 0.18 | L29: =K29-0.3% -> 0.177 | M29: =L29-0.3% -> 0.174 | N29: =M29-0.3% -> 0.171 | O29: =N29-0.3% -> 0.168
A30: Incentives | D30: ='Assumptions Sheet'!D51 -> -2273.94 | E30: ='Assumptions Sheet'!E51 -> -2627.25 | F30: ='Assumptions Sheet'!F51 -> -3588.03 | G30: ='Assumptions Sheet'!G51 -> -3607.17 | H30: ='Assumptions Sheet'!H51 -> -3553.12 | I30: ='Assumptions Sheet'!I51 -> -3565.96 | J30: ='Assumptions Sheet'!J51 -> -5332 | K30: =30%*-'Balance sheet'!K16 -> -6681.5826 | L30: =30%*-'Balance sheet'!L16 -> -5277.3572 | M30: =30%*-'Balance sheet'!M16 -> -7469.275 | N30: =30%*-'Balance sheet'!N16 -> -9622.269 | O30: =30%*-'Balance sheet'!O16 -> -11929.023
D31: =D30/D28 -> -0.35684033 | E31: =E30/E28 -> -0.24705202 | F31: =F30/F28 -> -0.20922055 | G31: =G30/G28 -> -0.1776029 | H31: =H30/H28 -> -0.15397803 | I31: =I30/I28 -> -0.12011663 | J31: =J30/J28 -> -0.14573988 | K31: =K30/K$25 -> -0.028769347 | L31: =L30/L$25 -> -0.018636449 | M31: =M30/M$25 -> -0.021744798 | N31: =N30/N$25 -> -0.023113003 | O31: =O30/O$25 -> -0.023560054
A32: Purchase of stock in trade | D32: 190.93 | E32: 341.79 | F32: 559.94 | G32: 589.63 | H32: 817.1 | I32: 1147.82 | J32: 1238.32 | K32: =K33*K$25 -> 1393.4795 | L32: =L33*L$25 -> 1699.0438 | M32: =M33*M$25 -> 2060.9826 | N32: =N33*N$25 -> 2497.8845 | O32: =O33*O$25 -> 3037.9447
D33: =D32/D$25 -> 0.0048408156 | E33: =E32/E$25 -> 0.0059872492 | F33: =F32/F$25 -> 0.0059314137 | G33: =G32/G$25 -> 0.0051576561 | H33: =H32/H$25 -> 0.0057060322 | I33: =I32/I$25 -> 0.0069140307 | J33: =J32/J$25 -> 0.0063931053 | K33: 0.006 | L33: =K33 -> 0.006 | M33: =L33 -> 0.006 | N33: =M33 -> 0.006 | O33: =N33 -> 0.006
A34: Change in inventories of stock in trade | D34: -1.1 | E34: -6.83 | F34: -18.65 | G34: 7.06 | H34: -31.72 | I34: -11.32 | J34: -2.94
A35: Employee benefits | D35: 2930.16 | E35: 5118.6 | F35: 6904.52 | G35: 9211.08 | H35: 11886.91 | I35: 17899.23 | J35: 20481.9 | K35: =K36*K$25 -> 24385.892 | L35: =L36*L$25 -> 29733.266 | M35: =M36*M$25 -> 36067.196 | N35: =N36*N$25 -> 43712.979 | O35: =O36*O$25 -> 53164.032
D36: =D35/D$25 -> 0.074290915 | E36: =E35/E$25 -> 0.08966422 | F36: =F35/F$25 -> 0.073139201 | G36: =G35/G$25 -> 0.080571855 | H36: =H35/H$25 -> 0.083009535 | I36: =I35/I$25 -> 0.10781815 | J36: =J35/J$25 -> 0.10574241 | K36: 0.105 | L36: 0.105 | M36: 0.105 | N36: 0.105 | O36: 0.105
A37: Finance costs | D37: 449.91 | E37: 514.27 | F37: 578.01 | G37: 1225.77 | H37: 1155.32 | I37: 3041 | J37: 3307.8 | K37: ='Debt schedule'!K12 -> 1527.2812 | L37: ='Debt schedule'!L12 -> 2111.6101 | M37: ='Debt schedule'!M12 -> 2541.0398 | N37: ='Debt schedule'!N12 -> 2962.1896 | O37: ='Debt schedule'!O12 -> 3375.0593 | T37: 58985.5
D38: =D37/D$25 -> 0.011406963 | E38: =E37/E$25 -> 0.0090086388 | F38: =F37/F$25 -> 0.0061228282 | G38: =G37/G$25 -> 0.010722148 | H38: =H37/H$25 -> 0.0080679147 | I38: =I37/I$25 -> 0.018317826 | J38: =J37/J$25 -> 0.017077261 | K38: 0.017 | L38: 0.017 | M38: 0.017 | N38: 0.017 | O38: 0.017
A39: Depreciation and Amortization | D39: 628.7 | E39: 665.23 | F39: 856.2 | G39: 2260.08 | H39: 3022.14 | I39: 5054.68 | J39: 4572.53 | K39: =K40*K$25 -> 5806.1647 | L39: =L40*L$25 -> 7079.3491 | M39: =M40*M$25 -> 8587.4276 | N39: =N40*N$25 -> 10407.852 | O39: =O40*O$25 -> 12658.103
D40: =D39/D$25 -> 0.015939982 | E40: =E39/E$25 -> 0.011653055 | F40: =F39/F$25 -> 0.0090696795 | G40: =G39/G$25 -> 0.019769542 | H40: =H39/H$25 -> 0.021104428 | I40: =I39/I$25 -> 0.030447468 | J40: =J39/J$25 -> 0.023606714 | K40: 0.025 | L40: 0.025 | M40: 0.025 | N40: 0.025 | O40: 0.025
A41: Other Expenses | D41: ='Assumptions Sheet'!D73 -> 8783.72 | E41: ='Assumptions Sheet'!E73 -> 12961.04 | F41: ='Assumptions Sheet'!F73 -> 18961.4 | G41: ='Assumptions Sheet'!G73 -> 24471.95 | H41: ='Assumptions Sheet'!H73 -> 30876.97 | I41: ='Assumptions Sheet'!I73 -> 38393.71 | J41: ='Assumptions Sheet'!J73 -> 47985.83 | K41: =K42*K$25 -> 51094.249 | L41: =L42*L$25 -> 62298.272 | M41: =M42*M$25 -> 75569.363 | N41: =N42*N$25 -> 91589.1 | O41: =O42*O$25 -> 111391.31
...

Sheet ATF Fuel 2
A1: Date | B1: ATF Price (Rs) | D1: USD/INR | F1: Brent ($) | H1: MCX | J1: US Oil ($) | L1: Date | M1: ATF Price (Rs) | N1: Brent ($) | O1: US Oil ($) | P1: MCX | Q1: Premium
A2: April 01, 2010 | B2: 44361.803 | D2: 44.76 | F2: 82.63 | H2: =D2*F2 -> 3698.5188 | J2: 84.53 | L2: April 01, 2010 | M2: 100 | N2: 100 | O2: 100 | P2: 100 | Q2: =M2/N2-1 -> 0
A3: May 01, 2010 | B3: 46016.395 | C3: =B3/B2-1 -> 0.037297684 | D3: 44.52 | E3: =B3/B2-1 -> 0.037297684 | F3: 88.09 | G3: =F3/F2-1 -> 0.066077696 | H3: =D3*F3 -> 3921.7668 | I3: =H3/H2-1 -> 0.060361461 | J3: 86.19 | K3: =J3/J2-1 -> 0.019637998 | L3: May 01, 2010 | M3: =(1+(B3/B2)-1)*M2 -> 103.72977 | N3: =(1+(F3/F2)-1)*N2 -> 106.60777 | O3: =(1+(J3/J2)-1)*O2 -> 101.9638 | P3: =(1+(H3/H2)-1)*P2 -> 106.03615 | Q3: =M3/N3-1 -> -0.026996167 | AN3: Q2 | AO3: Q1
A4: June 01, 2010 | B4: 42951.23 | C4: =B4/B3-1 -> -0.066610281 | D4: 46.5125 | E4: =B4/B3-1 -> -0.066610281 | F4: 73.08 | G4: =F4/F3-1 -> -0.17039392 | H4: =D4*F4 -> 3399.1335 | I4: =H4/H3-1 -> -0.13326476 | J4: 72.7 | K4: =J4/J3-1 -> -0.15651468 | L4: June 01, 2010 | M4: =(1+(B4/B3)-1)*M3 -> 96.820299 | N4: =(1+(F4/F3)-1)*N3 -> 88.442454 | O4: =(1+(J4/J3)-1)*O3 -> 86.004969 | P4: =(1+(H4/H3)-1)*P3 -> 91.905265 | Q4: =M4/N4-1 -> 0.094726511 | AM4: O | AN4: 64.685 | AO4: 64.805
A5: July 01, 2010 | B5: 45016.693 | C5: =B5/B4-1 -> 0.048088553 | D5: 46.74 | E5: =B5/B4-1 -> 0.048088553 | F5: 71.73 | G5: =F5/F4-1 -> -0.018472906 | H5: =D5*F5 -> 3352.6602 | I5: =H5/H4-1 -> -0.013672102 | J5: 72.95 | K5: =J5/J4-1 -> 0.0034387895 | L5: July 01, 2010 | M5: =(1+(B5/B4)-1)*M4 -> 101.47625 | N5: =(1+(F5/F4)-1)*N4 -> 86.808665 | O5: =(1+(J5/J4)-1)*O4 -> 86.300722 | P5: =(1+(H5/H4)-1)*P4 -> 90.648727 | Q5: =M5/N5-1 -> 0.1689645 | AM5: C | AN5: 65.28 | AO5: 64.575
A6: August 01, 2010 | B6: 44697.147 | C6: =B6/B5-1 -> -0.0070983669 | D6: 46.19 | E6: =B6/B5-1 -> -0.0070983669 | F6: 81.93 | G6: =F6/F5-1 -> 0.14219992 | H6: =D6*F6 -> 3784.3467 | I6: =H6/H5-1 -> 0.1287594 | J6: 81.25 | K6: =J6/J5-1 -> 0.11377656 | L6: August 01, 2010 | M6: =(1+(B6/B5)-1)*M5 -> 100.75593 | N6: =(1+(F6/F5)-1)*N5 -> 99.15285 | O6: =(1+(J6/J5)-1)*O5 -> 96.119721 | P6: =(1+(H6/H5)-1)*P5 -> 102.3206 | Q6: =M6/N6-1 -> 0.016167783 | AN6: 1000 | AO6: 1000
A7: September 01, 2010 | B7: 43596.4 | C7: =B7/B6-1 -> -0.024626795 | D7: 46.92 | E7: =B7/B6-1 -> -0.024626795 | F7: 75.53 | G7: =F7/F6-1 -> -0.078115464 | H7: =D7*F7 -> 3543.8676 | I7: =H7/H6-1 -> -0.063545737 | J7: 73.97 | K7: =J7/J6-1 -> -0.0896 | L7: September 01, 2010 | M7: =(1+(B7/B6)-1)*M6 -> 98.274636 | N7: =(1+(F7/F6)-1)*N6 -> 91.407479 | O7: =(1+(J7/J6)-1)*O6 -> 87.507394 | P7: =(1+(H7/H6)-1)*P6 -> 95.818564 | Q7: =M7/N7-1 -> 0.075126862 | AN7: =AN4-AN5 -> -0.595 | AO7: =AO4-AO5 -> 0.23 | AR7: 900 | AS7: 48
A8: October 01, 2010 | B8: 44195.268 | C8: =B8/B7-1 -> 0.013736627 | D8: 44.77 | E8: =B8/B7-1 -> 0.013736627 | F8: 82.69 | G8: =F8/F7-1 -> 0.094796769 | H8: =D8*F8 -> 3702.0313 | I8: =H8/H7-1 -> 0.044630251 | J8: 81.57 | K8: =J8/J7-1 -> 0.10274436 | L8: October 01, 2010 | M8: =(1+(B8/B7)-1)*M7 -> 99.624598 | N8: =(1+(F8/F7)-1)*N7 -> 100.07261 | O8: =(1+(J8/J7)-1)*O7 -> 96.498285 | P8: =(1+(H8/H7)-1)*P7 -> 100.09497 | Q8: =M8/N8-1 -> -0.0044768956 | AN8: =AN7*AN6 -> -595 | AO8: =AO7*AO6 -> 230 | AR8: 270
A9: November 01, 2010 | B9: 45777 | C9: =B9/B8-1 -> 0.035789635 | D9: 44.35 | E9: =B9/B8-1 -> 0.035789635 | F9: 84.06 | G9: =F9/F8-1 -> 0.016567904 | H9: =D9*F9 -> 3728.061 | I9: =H9/H8-1 -> 0.0070311939 | J9: 82.94 | K9: =J9/J8-1 -> 0.01679539 | L9: November 01, 2010 | M9: =(1+(B9/B8)-1)*M8 -> 103.19013 | N9: =(1+(F9/F8)-1)*N8 -> 101.73061 | O9: =(1+(J9/J8)-1)*O8 -> 98.119011 | P9: =(1+(H9/H8)-1)*P8 -> 100.79876 | Q9: =M9/N9-1 -> 0.014346911 | AN9: 460000000 | AO9: 346000000 | AR9: =AR7-AR8 -> 630 | AS9: =AR9/AS7 -> 13.125
A10: December 01, 2010 | B10: 47892.115 | C10: =B10/B9-1 -> 0.046204753 | D10: 45.87 | E10: =B10/B9-1 -> 0.046204753 | F10: 88.56 | G10: =F10/F9-1 -> 0.053533191 | H10: =D10*F10 -> 4062.2472 | I10: =H10/H9-1 -> 0.089640754 | J10: 86.75 | K10: =J10/J9-1 -> 0.045936822 | L10: December 01, 2010 | M10: =(1+(B10/B9)-1)*M9 -> 107.958 | N10: =(1+(F10/F9)-1)*N9 -> 107.17657 | O10: =(1+(J10/J9)-1)*O9 -> 102.62629 | P10: =(1+(H10/H9)-1)*P9 -> 109.83443 | Q10: =M10/N10-1 -> 0.0072910555 | AN10: =AN9/AN8 -> -773109.24 | AO10: =AO9/AO8 -> 1504347.8
A11: January 01, 2011 | B11: 50576.88 | C11: =B11/B10-1 -> 0.056058602 | D11: 44.76 | E11: =B11/B10-1 -> 0.056058602 | F11: 95.82 | G11: =F11/F10-1 -> 0.08197832 | H11: =D11*F11 -> 4288.9032 | I11: =H11/H10-1 -> 0.055795718 | J11: 91.59 | K11: =J11/J10-1 -> 0.055792507 | L11: January 01, 2011 | M11: =(1+(B11/B10)-1)*M10 -> 114.00998 | N11: =(1+(F11/F10)-1)*N10 -> 115.96273 | O11: =(1+(J11/J10)-1)*O10 -> 108.35206 | P11: =(1+(H11/H10)-1)*P10 -> 115.96273 | Q11: =M11/N11-1 -> -0.016839465
A12: February 01, 2011 | B12: 53872.265 | C12: =B12/B11-1 -> 0.065155957 | D12: 45.85 | E12: =B12/B11-1 -> 0.065155957 | F12: 100.4 | G12: =F12/F11-1 -> 0.047797954 | H12: =D12*F12 -> 4603.34 | I12: =H12/H11-1 -> 0.073314035 | J12: 89.54 | K12: =J12/J11-1 -> -0.022382356 | L12: February 01, 2011 | M12: =(1+(B12/B11)-1)*M11 -> 121.4384 | N12: =(1+(F12/F11)-1)*N11 -> 121.50551 | O12: =(1+(J12/J11)-1)*O11 -> 105.92689 | P12: =(1+(H12/H11)-1)*P11 -> 124.46442 | Q12: =M12/N12-1 -> -0.00055225763 | AO12: =1.1106^30 -> 23.266447
A13: March 01, 2011 | B13: 58021.292 | C13: =B13/B12-1 -> 0.077016021 | D13: 45.18 | E13: =B13/B12-1 -> 0.077016021 | F13: 113.34 | G13: =F13/F12-1 -> 0.12888446 | H13: =D13*F13 -> 5120.7012 | I13: =H13/H12-1 -> 0.11238822 | J13: 99.63 | K13: =J13/J12-1 -> 0.11268707 | L13: March 01, 2011 | M13: =(1+(B13/B12)-1)*M12 -> 130.79111 | N13: =(1+(F13/F12)-1)*N12 -> 137.16568 | O13: =(1+(J13/J12)-1)*O12 -> 117.86348 | P13: =(1+(H13/H12)-1)*P12 -> 138.45276 | Q13: =M13/N13-1 -> -0.046473517
A14: April 01, 2011 | B14: 62458.097 | C14: =B14/B13-1 -> 0.076468565 | D14: 44.44 | E14: =B14/B13-1 -> 0.076468565 | F14: 118.63 | G14: =F14/F13-1 -> 0.046673725 | H14: =D14*F14 -> 5271.9172 | I14: =H14/H13-1 -> 0.029530331 | J14: 107.55 | K14: =J14/J13-1 -> 0.079494128 | L14: April 01, 2011 | M14: =(1+(B14/B13)-1)*M13 -> 140.79252 | N14: =(1+(F14/F13)-1)*N13 -> 143.56771 | O14: =(1+(J14/J13)-1)*O13 -> 127.23294 | P14: =(1+(H14/H13)-1)*P13 -> 142.54131 | Q14: =M14/N14-1 -> -0.019330226
A15: May 01, 2011 | B15: 63967.75 | C15: =B15/B14-1 -> 0.024170645 | D15: 44.29 | E15: =B15/B14-1 -> 0.024170645 | F15: 121.55 | G15: =F15/F14-1 -> 0.024614347 | H15: =D15*F15 -> 5383.4495 | I15: =H15/H14-1 -> 0.021155928 | J15: 113.03 | K15: =J15/J14-1 -> 0.050953045 | L15: May 01, 2011 | M15: =(1+(B15/B14)-1)*M14 -> 144.19556 | N15: =(1+(F15/F14)-1)*N14 -> 147.10154 | O15: =(1+(J15/J14)-1)*O14 -> 133.71584 | P15: =(1+(H15/H14)-1)*P14 -> 145.55691 | Q15: =M15/N15-1 -> -0.019754899
A16: June 01, 2011 | B16: 59747.973 | C16: =B16/B15-1 -> -0.065967265 | D16: 44.985 | E16: =B16/B15-1 -> -0.065967265 | F16: 115.09 | G16: =F16/F15-1 -> -0.053146853 | H16: =D16*F16 -> 5177.3237 | I16: =H16/H15-1 -> -0.038288805 | J16: 100.3 | K16: =J16/J15-1 -> -0.11262497 | L16: June 01, 2011 | M16: =(1+(B16/B15)-1)*M15 -> 134.68337 | N16: =(1+(F16/F15)-1)*N15 -> 139.28355 | O16: =(1+(J16/J15)-1)*O15 -> 118.6561 | P16: =(1+(H16/H15)-1)*P15 -> 139.98371 | Q16: =M16/N16-1 -> -0.033027438
A17: July 01, 2011 | B17: 59498.082 | C17: =B17/B16-1 -> -0.0041824013 | D17: 44.65 | E17: =B17/B16-1 -> -0.0041824013 | F17: 113.55 | G17: =F17/F16-1 -> -0.013380832 | H17: =D17*F17 -> 5070.0075 | I17: =H17/H16-1 -> -0.020728113 | J17: 94.81 | K17: =J17/J16-1 -> -0.054735793 | L17: July 01, 2011 | M17: =(1+(B17/B16)-1)*M16 -> 134.12007 | N17: =(1+(F17/F16)-1)*N16 -> 137.41982 | O17: =(1+(J17/J16)-1)*O16 -> 112.16136 | P17: =(1+(H17/H16)-1)*P16 -> 137.08211 | Q17: =M17/N17-1 -> -0.024012176
A18: August 01, 2011 | B18: 61142.5 | C18: =B18/B17-1 -> 0.02763816 | D18: 44.04 | E18: =B18/B17-1 -> 0.02763816 | F18: 113.74 | G18: =F18/F17-1 -> 0.0016732717 | H18: =D18*F18 -> 5009.1096 | I18: =H18/H17-1 -> -0.012011402 | J18: 94.98 | K18: =J18/J17-1 -> 0.0017930598 | L18: August 01, 2011 | M18: =(1+(B18/B17)-1)*M17 -> 137.82691 | N18: =(1+(F18/F17)-1)*N17 -> 137.64976 | O18: =(1+(J18/J17)-1)*O17 -> 112.36247 | P18: =(1+(H18/H17)-1)*P17 -> 135.43556 | Q18: =M18/N18-1 -> 0.0012869065
A19: September 01, 2011 | B19: 59492 | C19: =B19/B18-1 -> -0.026994317 | D19: 45.98 | E19: =B19/B18-1 -> -0.026994317 | F19: 117.5 | G19: =F19/F18-1 -> 0.033057851 | H19: =D19*F19 -> 5402.65 | I19: =H19/H18-1 -> 0.078564941 | J19: 88.93 | K19: =J19/J18-1 -> -0.063697621 | L19: September 01, 2011 | M19: =(1+(B19/B18)-1)*M18 -> 134.10636 | N19: =(1+(F19/F18)-1)*N18 -> 142.20017 | O19: =(1+(J19/J18)-1)*O18 -> 105.20525 | P19: =(1+(H19/H18)-1)*P18 -> 146.07605 | Q19: =M19/N19-1 -> -0.0569184
A20: October 01, 2011 | B20: 61886.75 | C20: =B20/B19-1 -> 0.040253311 | D20: 49.48 | E20: =B20/B19-1 -> 0.040253311 | F20: 104.38 | G20: =F20/F19-1 -> -0.11165957 | H20: =D20*F20 -> 5164.7224 | I20: =H20/H19-1 -> -0.044039055 | J20: 77.34 | K20: =J20/J19-1 -> -0.13032722 | L20: October 01, 2011 | M20: =(1+(B20/B19)-1)*M19 -> 139.50459 | N20: =(1+(F20/F19)-1)*N19 -> 126.32216 | O20: =(1+(J20/J19)-1)*O19 -> 91.494144 | P20: =(1+(H20/H19)-1)*P19 -> 139.64299 | Q20: =M20/N20-1 -> 0.10435564
A21: November 01, 2011 | B21: 64490.415 | C21: =B21/B20-1 -> 0.042071445 | D21: 48.83 | E21: =B21/B20-1 -> 0.042071445 | F21: 112.22 | G21: =F21/F20-1 -> 0.075110174 | H21: =D21*F21 -> 5479.7026 | I21: =H21/H20-1 -> 0.06098686 | J21: 92.19 | K21: =J21/J20-1 -> 0.19200931 | L21: November 01, 2011 | M21: =(1+(B21/B20)-1)*M20 -> 145.37375 | N21: =(1+(F21/F20)-1)*N20 -> 135.81024 | O21: =(1+(J21/J20)-1)*O20 -> 109.06187 | P21: =(1+(H21/H20)-1)*P20 -> 148.15938 | Q21: =M21/N21-1 -> 0.070418179
A22: December 01, 2011 | B22: 68172.65 | C22: =B22/B21-1 -> 0.0570974 | D22: 51.85 | E22: =B22/B21-1 -> 0.0570974 | F22: 110.16 | G22: =F22/F21-1 -> -0.018356799 | H22: =D22*F22 -> 5711.796 | I22: =H22/H21-1 -> 0.042355109 | J22: 100.2 | K22: =J22/J21-1 -> 0.086885779 | L22: December 01, 2011 | M22: =(1+(B22/B21)-1)*M21 -> 153.67421 | N22: =(1+(F22/F21)-1)*N21 -> 133.3172 | O22: =(1+(J22/J21)-1)*O21 -> 118.5378 | P22: =(1+(H22/H21)-1)*P21 -> 154.43469 | Q22: =M22/N22-1 -> 0.15269608
A23: January 01, 2012 | B23: 66600.057 | C23: =B23/B22-1 -> -0.023067792 | D23: 53.3 | E23: =B23/B22-1 -> -0.023067792 | F23: 111.07 | G23: =F23/F22-1 -> 0.0082607117 | H23: =D23*F23 -> 5920.031 | I23: =H23/H22-1 -> 0.036457009 | J23: 102.96 | K23: =J23/J22-1 -> 0.02754491 | L23: January 01, 2012 | M23: =(1+(B23/B22)-1)*M22 -> 150.12929 | N23: =(1+(F23/F22)-1)*N22 -> 134.41849 | O23: =(1+(J23/J22)-1)*O22 -> 121.80291 | P23: =(1+(H23/H22)-1)*P22 -> 160.06492 | Q23: =M23/N23-1 -> 0.11687971
