Workbook

Sheet IS
A1: Colgate-Palmolive Company
A3: Income Statement (Consolidated)
B5: ($ in Million Except Per Share Amounts) | C5: 39447 | D5: =EOMONTH(C5,12) -> 39813 | E5: =EOMONTH(D5,12) -> 40178 | F5: =EOMONTH(E5,12) -> 40543 | G5: =EOMONTH(F5,12) -> 40908 | H5: =EOMONTH(G5,12) -> 41274 | I5: =EOMONTH(H5,12) -> 41639 | J5: =EOMONTH(I5,12) -> 42004 | K5: =EOMONTH(J5,12) -> 42369 | ... N5: =EOMONTH(M5,12) -> 43465
B6: Net sales | C6: 13790 | D6: 15330 | E6: 15327 | F6: 15564 | G6: 16734 | H6: 17085 | I6: 17420 | J6: =J90 -> 17893.819 | K6: =K90 -> 18263.027 | L6: =L90 -> 18639.902 | M6: =M90 -> 19024.605 | N6: =N90 -> 19417.3
B7: Cost of sales | C7: 6043 | D7: 6704 | E7: 6319 | F7: 6360 | G7: 7144 | H7: 7153 | I7: 7219 | J7: =J6*J31 -> 7425.935 | K7: =K6*K31 -> 7579.1562 | L7: =L6*L31 -> 7735.5595 | M7: =M6*M31 -> 7895.2112 | N7: =N6*N31 -> 8058.1796
B8: Gross profit | C8: =C6-C7 -> 7747 | D8: =D6-D7 -> 8626 | E8: =E6-E7 -> 9008 | F8: =F6-F7 -> 9204 | G8: =G6-G7 -> 9590 | H8: =H6-H7 -> 9932 | I8: =I6-I7 -> 10201 | J8: =J6-J7 -> 10467.884 | ... N8: =N6-N7 -> 11359.121
B10: Selling, general and administrative expenses | C10: 4973 | D10: 5422 | E10: 5282 | F10: 5414 | G10: 5758 | H10: 5930 | I10: 6223 | J10: =J6*J34 -> 6262.8368 | K10: =K6*K34 -> 6392.0595 | L10: =L6*L34 -> 6523.9658 | M10: =M6*M34 -> 6658.6119 | N10: =N6*N34 -> 6796.055
B11: Other (income) expense, net | C11: 54 | D11: 103 | E11: 111 | F11: 301 | G11: -9 | H11: 113 | I11: 422 | J11: =J35*J6 -> 447.34548 | K11: =K35*K6 -> 456.57568 | L11: =L35*L6 -> 465.99756 | M11: =M35*M6 -> 475.61513 | N11: =N35*N6 -> 485.4325
B12: EBIT | C12: =C8-C10-C11 -> 2720 | D12: =D8-D10-D11 -> 3101 | E12: =E8-E10-E11 -> 3615 | F12: =F8-F10-F11 -> 3489 | G12: =G8-G10-G11 -> 3841 | H12: =H8-H10-H11 -> 3889 | I12: =I8-I10-I11 -> 3556 | J12: =J8-J10-J11 -> 3757.7021 | ... N12: =N8-N10-N11 -> 4077.633
B13: Interest expense, net | C13: 157 | D13: 96 | E13: 77 | F13: 59 | G13: 52 | H13: 15 | I13: -9
B15: EBT | C15: =C12-C13 -> 2563 | D15: =D12-D13 -> 3005 | E15: =E12-E13 -> 3538 | F15: =F12-F13 -> 3430 | G15: =G12-G13 -> 3789 | H15: =H12-H13 -> 3874 | I15: =I12-I13 -> 3565 | J15: =J12-J13 -> 3757.7021 | ... N15: =N12-N13 -> 4077.633
B16: Provision for income taxes | C16: 759 | D16: 968 | E16: 1141 | F16: 1117 | G16: 1235 | H16: 1243 | I16: 1155 | J16: =J15*J45 -> 1221.2532 | K16: =K15*K45 -> 1246.4516 | L16: =L15*L45 -> 1272.1733 | M16: =M15*M45 -> 1298.4293 | N16: =N15*N45 -> 1325.2307
B17: Net income including noncontrolling interests | C17: =C15-C16 -> 1804 | D17: =D15-D16 -> 2037 | E17: =E15-E16 -> 2397 | F17: =F15-F16 -> 2313 | G17: =G15-G16 -> 2554 | H17: =H15-H16 -> 2631 | I17: =I15-I16 -> 2410 | J17: =J15-J16 -> 2536.4489 | ... N17: =N15-N16 -> 2752.4023
B18: Less: Net income attributable to noncontrolling interests | C18: 67 | D18: 80 | E18: 106 | F18: 110 | G18: 123 | H18: 159 | I18: 169 | J18: =J42*J17 -> 177.55142 | K18: =K42*K17 -> 181.21489 | L18: =L42*L17 -> 184.95443 | M18: =M42*M17 -> 188.77165 | N18: =N42*N17 -> 192.66816
B19: Net income attributable to Colgate-Palmolive Company | C19: =C17-C18 -> 1737 | D19: =D17-D18 -> 1957 | E19: =E17-E18 -> 2291 | F19: =F17-F18 -> 2203 | G19: =G17-G18 -> 2431 | H19: =H17-H18 -> 2472 | I19: =I17-I18 -> 2241 | J19: =J17-J18 -> 2358.8975 | ... N19: =N17-N18 -> 2559.7341
B20: Earnings per common share, basic | C20: =3.35/2 -> 1.675 | D20: =3.81/2 -> 1.905 | E20: =4.53/2 -> 2.265 | F20: =4.45/2 -> 2.225 | G20: 2.49 | H20: 2.6 | I20: 2.41 | J20: =J19/J23 -> 2.5813734 | K20: =K19/K23 -> 2.7213291 | L20: =L19/L23 -> 2.8671057 | M20: =M19/M23 -> 3.0185989 | N20: =N19/N23 -> 3.1762182
B21: Earnings per common share, diluted | C21: =3.2/2 -> 1.6 | D21: =3.66/2 -> 1.83 | E21: =4.37/2 -> 2.185 | F21: =4.31/2 -> 2.155 | G21: 2.47 | H21: 2.57 | I21: 2.38 | J21: =J19/J24 -> 2.5669656 | K21: =K19/K24 -> 2.6711522 | L21: =L19/L24 -> 2.8151195 | M21: =M19/M24 -> 2.9646963 | N21: =N19/N24 -> 3.1202113
B23: Basic Weighted Average Shares | G23: 976.7 | H23: 952.1 | I23: 930.8 | J23: ='[1]Shares Outstanding '!J9 -> 913.81491 | K23: ='[1]Shares Outstanding '!K9 -> 884.70344 | L23: ='[1]Shares Outstanding '!L9 -> 857.04958 | M23: ='[1]Shares Outstanding '!M9 -> 830.83783 | N23: ='[1]Shares Outstanding '!N9 -> 805.90627
B24: Diluted Weighted Average Shares | G24: 984.1 | H24: 960.2 | I24: 939.9 | J24: ='[1]Shares Outstanding '!J13 -> 918.94392 | K24: ='[1]Shares Outstanding '!K13 -> 901.32236 | L24: ='[1]Shares Outstanding '!L13 -> 872.87651 | M24: ='[1]Shares Outstanding '!M13 -> 845.9437 | N24: ='[1]Shares Outstanding '!N13 -> 820.37205
B26: EBITDA | J26: 4178.7574 | K26: 4290.2289 | L26: 4404.0114 | M26: 4520.153 | N26: 4638.7031
A29: Vertical Analysis | C29: =C5 -> 39447 | D29: =D5 -> 39813 | E29: =E5 -> 40178 | F29: =F5 -> 40543 | G29: =G5 -> 40908 | H29: =H5 -> 41274 | I29: =I5 -> 41639 | J29: =J5 -> 42004 | ... N29: =N5 -> 43465
B30: Net sales | C30: =C6/C$6 -> 1 | D30: =D6/D$6 -> 1 | E30: =E6/E$6 -> 1 | F30: =100% -> 1 | G30: =100% -> 1 | H30: =100% -> 1 | I30: =I6/I$6 -> 1 | J30: =J6/J$6 -> 1 | K30: =K6/K$6 -> 1 | L30: =L6/L$6 -> 1 | M30: =M6/M$6 -> 1 | N30: =N6/N$6 -> 1
B31: Cost of sales | C31: =C7/C$6 -> 0.4382161 | D31: =D7/D$6 -> 0.43731246 | E31: =E7/E$6 -> 0.41227898 | F31: =F7/F$6 -> 0.40863531 | G31: =G7/G$6 -> 0.42691526 | H31: =H7/H$6 -> 0.41867135 | I31: =I7/I$6 -> 0.41440873 | J31: 0.415 | K31: 0.415 | L31: 0.415 | M31: 0.415 | N31: 0.415
C32: =C8/C$6 -> 0.5617839 | D32: =D8/D$6 -> 0.56268754 | E32: =E8/E$6 -> 0.58772102 | F32: =F8/F$6 -> 0.59136469 | G32: =G8/G$6 -> 0.57308474 | H32: =H8/H$6 -> 0.58132865 | I32: =I8/I$6 -> 0.58559127 | J32: =J8/J$6 -> 0.585 | ... N32: =N8/N$6 -> 0.585
B34: Selling, general and administrative expenses | C34: =C10/C$6 -> 0.36062364 | D34: =D10/D$6 -> 0.35368558 | E34: =E10/E$6 -> 0.3446206 | F34: =F10/F6 -> 0.34785402 | G34: =G10/G6 -> 0.34408988 | H34: =H10/H6 -> 0.34708809 | I34: =I10/I$6 -> 0.35723307 | J34: 0.35 | K34: 0.35 | L34: 0.35 | M34: 0.35 | N34: 0.35
B35: Other (income) expense, net | C35: =C11/C$6 -> 0.0039158811 | D35: =D11/D$6 -> 0.0067188519 | E35: =E11/E$6 -> 0.0072421217 | F35: =F11/F6 -> 0.019339501 | G35: =G11/G6 -> -0.00053782718 | H35: =H11/H6 -> 0.0066139889 | I35: =I11/I$6 -> 0.024225029 | J35: 0.025 | K35: 0.025 | L35: 0.025 | M35: 0.025 | N35: 0.025
B36: Operating profit | C36: =C12/C$6 -> 0.19724438 | D36: =D12/D$6 -> 0.20228311 | E36: =E12/E$6 -> 0.23585829 | F36: =F12/F6 -> 0.22417116 | G36: =G12/G6 -> 0.22953269 | H36: =H12/H6 -> 0.22762657 | I36: =I12/I$6 -> 0.20413318 | J36: =J12/J$6 -> 0.21 | K36: =K12/K$6 -> 0.21 | L36: =L12/L$6 -> 0.21 | M36: =M12/M$6 -> 0.21 | N36: =N12/N$6 -> 0.21
B37: Interest expense, net | C37: =C13/C$6 -> 0.011385062 | D37: =D13/D$6 -> 0.0062622309 | E37: =E13/E$6 -> 0.0050238142 | F37: =F13/F6 -> 0.0037907993 | G37: =G13/G6 -> 0.0031074459 | H37: =H13/H6 -> 0.00087796313 | I37: =I13/I$6 -> -0.00051664753
B39: Income before income taxes | C39: =C15/C$6 -> 0.18585932 | D39: =D15/D$6 -> 0.19602087 | E39: =E15/E$6 -> 0.23083448 | F39: =F15/F6 -> 0.22038036 | G39: =G15/G6 -> 0.22642524 | H39: =H15/H6 -> 0.22674861 | I39: =I15/I$6 -> 0.20464983 | J39: =J15/J$6 -> 0.21 | K39: =K15/K$6 -> 0.21 | L39: =L15/L$6 -> 0.21 | M39: =M15/M$6 -> 0.21 | N39: =N15/N$6 -> 0.21
B40: Provision for income taxes | C40: =C16/C$6 -> 0.055039884 | D40: =D16/D$6 -> 0.063144162 | E40: =E16/E$6 -> 0.074443792 | F40: =F16/F6 -> 0.071768183 | G40: =G16/G6 -> 0.073801841 | H40: =H16/H6 -> 0.072753878 | I40: =I16/I$6 -> 0.0663031 | J40: =J16/J$6 -> 0.06825 | K40: =K16/K$6 -> 0.06825 | L40: =L16/L$6 -> 0.06825 | M40: =M16/M$6 -> 0.06825 | N40: =N16/N$6 -> 0.06825
B41: Net income including noncontrolling interests | C41: =C17/C$6 -> 0.13081943 | D41: =D17/D$6 -> 0.13287671 | E41: =E17/E$6 -> 0.15639068 | F41: =F17/F6 -> 0.14861218 | G41: =G17/G6 -> 0.1526234 | H41: =H17/H6 -> 0.15399473 | I41: =I17/I$6 -> 0.13834673 | J41: =J17/J$6 -> 0.14175 | K41: =K17/K$6 -> 0.14175 | L41: =L17/L$6 -> 0.14175 | M41: =M17/M$6 -> 0.14175 | N41: =N17/N$6 -> 0.14175
B42: Less: Net income attributable to noncontrolling interests (% of Net Income) | C42: =C18/C$17 -> 0.03713969 | D42: =D18/D$17 -> 0.039273441 | E42: =E18/E$17 -> 0.044221944 | F42: =F18/F17 -> 0.047557285 | G42: =G18/G17 -> 0.048159749 | H42: =H18/H17 -> 0.060433295 | I42: =I18/I$17 -> 0.070124481 | J42: 0.07 | K42: 0.07 | L42: 0.07 | M42: 0.07 | N42: 0.07
B43: Net income attributable to Colgate-Palmolive Company | C43: =C19/C$6 -> 0.12596084 | D43: =D19/D$6 -> 0.12765819 | E43: =E19/E$6 -> 0.14947478 | F43: =F19/F6 -> 0.14154459 | G43: =G19/G6 -> 0.1452731 | H43: =H19/H6 -> 0.14468832 | I43: =I19/I$6 -> 0.12864524 | J43: =J19/J$6 -> 0.1318275 | K43: =K19/K$6 -> 0.1318275 | L43: =L19/L$6 -> 0.1318275 | M43: =M19/M$6 -> 0.1318275 | N43: =N19/N$6 -> 0.1318275
B45: Effective Tax Rates | C45: =C16/C15 -> 0.29613734 | D45: =D16/D15 -> 0.32212978 | E45: =E16/E15 -> 0.32249859 | F45: =F16/F15 -> 0.32565598 | G45: =G16/G15 -> 0.32594352 | H45: =H16/H15 -> 0.320857 | I45: =I16/I15 -> 0.32398317 | J45: 0.325 | K45: 0.325 | L45: 0.325 | M45: 0.325 | N45: 0.325
A48: Horizontal Analysis | C48: =C29 -> 39447 | D48: =D29 -> 39813 | E48: =E29 -> 40178 | F48: =F29 -> 40543 | G48: =G29 -> 40908 | H48: =H29 -> 41274 | I48: =I29 -> 41639 | J48: =J29 -> 42004 | ... N48: =N29 -> 43465
B49: Net sales | D49: =D6/C6-1 -> 0.11167513 | E49: =E6/D6-1 -> -0.00019569472 | F49: =F6/E6-1 -> 0.015462909 | G49: =G6/F6-1 -> 0.075173477 | H49: =H6/G6-1 -> 0.02097526 | I49: =I6/H6-1 -> 0.019607843 | J49: =J6/I6-1 -> 0.027199732 | K49: =K6/J6-1 -> 0.020633256 | ... N49: =N6/M6-1 -> 0.020641414
B50: Cost of sales | D50: =D7/C7-1 -> 0.10938276 | E50: =E7/D7-1 -> -0.057428401 | F50: =F7/E7-1 -> 0.0064883684 | G50: =G7/F7-1 -> 0.12327044 | H50: =H7/G7-1 -> 0.0012597984 | I50: =I7/H7-1 -> 0.0092268978 | J50: =J7/I7-1 -> 0.028665331 | K50: =K7/J7-1 -> 0.020633256 | ... N50: =N7/M7-1 -> 0.020641414
B51: Gross profit | D51: =D8/C8-1 -> 0.11346328 | E51: =E8/D8-1 -> 0.044284721 | F51: =F8/E8-1 -> 0.021758437 | G51: =G8/F8-1 -> 0.041938288 | H51: =H8/G8-1 -> 0.035662148 | I51: =I8/H8-1 -> 0.027084172 | J51: =J8/I8-1 -> 0.026162563 | K51: =K8/J8-1 -> 0.020633256 | ... N51: =N8/M8-1 -> 0.020641414
B53: Selling, general and administrative expenses | D53: =D10/C10-1 -> 0.090287553 | E53: =E10/D10-1 -> -0.02582073 | F53: =F10/E10-1 -> 0.024990534 | G53: =G10/F10-1 -> 0.063538973 | H53: =H10/G10-1 -> 0.029871483 | I53: =I10/H10-1 -> 0.049409781 | J53: =J10/I10-1 -> 0.0064015372 | K53: =K10/J10-1 -> 0.020633256 | ... N53: =N10/M10-1 -> 0.020641414
B54: Other (income) expense, net | D54: =D11/C11-1 -> 0.90740741 | E54: =E11/D11-1 -> 0.077669903 | F54: =F11/E11-1 -> 1.7117117 | G54: =G11/F11-1 -> -1.0299003 | H54: =H11/G11-1 -> -13.555556 | I54: =I11/H11-1 -> 2.7345133 | J54: =J11/I11-1 -> 0.060060387 | K54: =K11/J11-1 -> 0.020633256 | ... N54: =N11/M11-1 -> 0.020641414
...

Sheet BS
A1: =IS!A1 -> Colgate-Palmolive Company
A3: Consolidated Balance Sheets
C5: =IS!C5 -> 39447 | D5: =IS!D5 -> 39813 | E5: =IS!E5 -> 40178 | F5: =IS!F5 -> 40543 | G5: =IS!G5 -> 40908 | H5: =IS!H5 -> 41274 | I5: =IS!I5 -> 41639 | J5: =IS!J5 -> 42004 | ... N5: =IS!N5 -> 43465
B6: Assets
B7: Current Assets
B8: Cash and cash equivalents | C8: 429 | D8: 555 | E8: 600 | F8: 490 | G8: 878
B9: Receivables | C9: 1681 | D9: 1592 | E9: 1626 | F9: 1610 | G9: 1675 | H9: ='Working Capital'!H10 -> 1668 | I9: ='Working Capital'!I10 -> 1636 | J9: ='Working Capital'!J10 -> 1715.8457 | K9: ='Working Capital'!K10 -> 1751.2492 | L9: ='Working Capital'!L10 -> 1787.3879 | M9: ='Working Capital'!M10 -> 1824.2772 | N9: ='Working Capital'!N10 -> 1861.9329
B10: Inventories | C10: 1171 | D10: 1197 | E10: 1209 | F10: 1222 | G10: 1327 | H10: ='Working Capital'!H11 -> 1365 | I10: ='Working Capital'!I11 -> 1425 | J10: ='Working Capital'!J11 -> 1424.1519 | K10: ='Working Capital'!K11 -> 1453.5368 | L10: ='Working Capital'!L11 -> 1483.5319 | M10: ='Working Capital'!M11 -> 1514.1501 | N10: ='Working Capital'!N11 -> 1545.4043
B11: Other current assets | C11: 338 | D11: 366 | E11: 375 | F11: 408 | G11: 522 | H11: ='Working Capital'!H12 -> 639 | I11: ='Working Capital'!I12 -> 799 | J11: ='Working Capital'!J12 -> 805.22187 | K11: ='Working Capital'!K12 -> 821.83622 | L11: ='Working Capital'!L12 -> 838.7956 | M11: ='Working Capital'!M12 -> 856.10724 | N11: ='Working Capital'!N12 -> 873.77851
B12: Total current assets | C12: =SUM(C8:C11) -> 3619 | D12: =SUM(D8:D11) -> 3710 | E12: =SUM(E8:E11) -> 3810 | F12: =SUM(F8:F11) -> 3730 | G12: =SUM(G8:G11) -> 4402 | H12: =SUM(H8:H11) -> 3672 | I12: =SUM(I8:I11) -> 3860 | J12: =SUM(J8:J11) -> 3945.2195 | ... N12: =SUM(N8:N11) -> 4281.1157
H13: =SUM(H8:H12) -> 7344 | I13: =SUM(I8:I12) -> 7720 | J13: =SUM(J8:J12) -> 7890.439 | K13: =SUM(K8:K12) -> 8053.2444 | L13: =SUM(L8:L12) -> 8219.4309 | M13: =SUM(M8:M12) -> 8389.0691 | N13: =SUM(N8:N12) -> 8562.2314
B14: Property, plant and equipment, net | C14: 3015 | D14: 3119 | E14: 3516 | F14: 3693 | G14: 3668 | H14: 3842 | I14: 4083 | J14: ='[1]Dep Capex '!J13 -> 4382.5963 | K14: ='[1]Dep Capex '!K13 -> 4662.3221 | L14: ='[1]Dep Capex '!L13 -> 4921.7692 | M14: ='[1]Dep Capex '!M13 -> 5160.5213 | N14: ='[1]Dep Capex '!N13 -> 5378.1531
B15: Goodwill, net | C15: 2272 | D15: 2152 | E15: 2302 | F15: 2362 | G15: 2494 | H15: 2500 | I15: 2474 | J15: =I15 -> 2474 | K15: =J15 -> 2474 | L15: =K15 -> 2474 | M15: =L15 -> 2474 | N15: =M15 -> 2474
B16: Other intangible assets, net | C16: 845 | D16: 834 | E16: 821 | F16: 831 | G16: 1504 | H16: 1499 | I16: 1496 | J16: ='[1]Amort Intangible'!J14 -> 1467 | K16: ='[1]Amort Intangible'!K14 -> 1438 | L16: ='[1]Amort Intangible'!L14 -> 1409 | M16: ='[1]Amort Intangible'!M14 -> 1380 | N16: ='[1]Amort Intangible'!N14 -> 1351
B17: Deferred income taxes | C17: 0 | D17: 0 | E17: 0 | F17: 84 | G17: 115 | H17: 92 | I17: 77 | J17: ='[1]Other Long Term Asset Liability'!J8 -> 77 | K17: ='[1]Other Long Term Asset Liability'!K8 -> 77 | L17: ='[1]Other Long Term Asset Liability'!L8 -> 77 | M17: ='[1]Other Long Term Asset Liability'!M8 -> 77 | N17: ='[1]Other Long Term Asset Liability'!N8 -> 77
B18: Other assets | C18: 361 | D18: 164 | E18: 685 | F18: 472 | G18: 541 | H18: 905 | I18: 924 | J18: ='[1]Other Long Term Asset Liability'!J9 -> 924 | K18: ='[1]Other Long Term Asset Liability'!K9 -> 924 | L18: ='[1]Other Long Term Asset Liability'!L9 -> 924 | M18: ='[1]Other Long Term Asset Liability'!M9 -> 924 | N18: ='[1]Other Long Term Asset Liability'!N9 -> 924
B19: Total assets | C19: =SUM(C12:C18) -> 10112 | D19: =SUM(D12:D18) -> 9979 | E19: =SUM(E12:E18) -> 11134 | F19: =SUM(F12:F18) -> 11172 | G19: =SUM(G12:G18) -> 12724 | H19: =SUM(H12:H18) -> 19854 | I19: =SUM(I12:I18) -> 20634 | J19: =SUM(J12:J18) -> 21160.255 | ... N19: =SUM(N12:N18) -> 23047.5
B21: Liabilities and Shareholders' Equity
B22: Current Liabilities
B23: Notes and loans payable | C23: 156 | D23: 107 | E23: 35 | F23: 48 | G23: 34
B24: Current portion of long-term debt | C24: 138 | D24: 91 | E24: 326 | F24: 561 | G24: 346
B25: Accounts payable | C25: 1067 | D25: 1061 | E25: 1172 | F25: 1165 | G25: 1244
B26: Accrued income taxes | C26: 263 | D26: 272 | E26: 387 | F26: 272 | G26: 392
B27: Other accruals | C27: 1539 | D27: 1421 | E27: 1679 | F27: 1682 | G27: 1700
B28: Total current liabilities | C28: =SUM(C23:C27) -> 3163 | D28: =SUM(D23:D27) -> 2952 | E28: =SUM(E23:E27) -> 3599 | F28: =SUM(F23:F27) -> 3728 | G28: =SUM(G23:G27) -> 3716 | H28: =SUM(H23:H27) -> 0 | I28: =SUM(I23:I27) -> 0 | J28: =SUM(J23:J27) -> 0 | ... N28: =SUM(N23:N27) -> 0
J29: =[1]Debt!J19 -> 0 | K29: =[1]Debt!K19 -> 939.62554 | L29: =[1]Debt!L19 -> 679.70223 | M29: =[1]Debt!M19 -> 1038.8901 | N29: =[1]Debt!N19 -> 1022.8764
B30: Revolver
B32: Long-term debt | C32: 3222 | D32: 3585 | E32: 2821 | F32: 2815 | G32: 4430 | H32: 4926 | I32: 4749 | J32: =[1]Debt!J28 -> 4258 | K32: =[1]Debt!K28 -> 4003 | L32: =[1]Debt!L28 -> 3339 | M32: =[1]Debt!M28 -> 2644 | N32: =[1]Debt!N28 -> 1944
B33: Deferred income taxes | C33: 264 | D33: 82 | E33: 82 | F33: 108 | G33: 252 | H33: 293 | I33: 444 | J33: ='[1]Other Long Term Asset Liability'!J12 -> 444 | K33: ='[1]Other Long Term Asset Liability'!K12 -> 444 | L33: ='[1]Other Long Term Asset Liability'!L12 -> 444 | M33: ='[1]Other Long Term Asset Liability'!M12 -> 444 | N33: ='[1]Other Long Term Asset Liability'!N12 -> 444
B34: Other liabilities | C34: 1067 | D34: 1316 | E34: 1375 | F34: 1704 | G34: 1785 | H34: 2049 | I34: 1677 | J34: ='[1]Other Long Term Asset Liability'!J13 -> 1677 | K34: ='[1]Other Long Term Asset Liability'!K13 -> 1677 | L34: ='[1]Other Long Term Asset Liability'!L13 -> 1677 | M34: ='[1]Other Long Term Asset Liability'!M13 -> 1677 | N34: ='[1]Other Long Term Asset Liability'!N13 -> 1677
B35: Total liabilities | C35: =SUM(C28:C34) -> 7716 | D35: =SUM(D28:D34) -> 7935 | E35: =SUM(E28:E34) -> 7877 | F35: =SUM(F28:F34) -> 8355 | G35: =SUM(G28:G34) -> 10183 | H35: =SUM(H28:H34) -> 7268 | I35: =SUM(I28:I34) -> 6870 | J35: =SUM(J28:J34) -> 6379 | ... N35: =SUM(N28:N34) -> 5087.8764
B36: Commitments and contingent liabilities | C36: - | D36: - | E36: - | F36: - | G36: -
B37: Shareholders' Equity
B38: Preference stock | C38: 198 | D38: 181 | E38: 169 | F38: - | G38: -
B39: Common stock | C39: 733 | D39: 733 | E39: 733 | F39: 733 | G39: 733
B40: Additional paid-in capital | C40: 1518 | D40: 1610 | E40: 1764 | F40: 1132 | G40: 1336
B41: Retained earnings | C41: 10628 | D41: 11760 | E41: 13157 | F41: 14329 | G41: 15649
B42: Accumulated other comprehensive income (loss) | C42: -1668 | D42: -2477 | E42: -2096 | F42: -2115 | G42: -2475
B43: Unearned compensation | C43: -219 | D43: -187 | E43: -133 | F43: -99 | G43: -60
B44: Treasury stock, at cost | C44: -8904 | D44: -9697 | E44: -10478 | F44: -11305 | G44: -12808
...

Sheet CF
A1: =IS!A1 -> Colgate-Palmolive Company
A3: Consolidated Cash Flows
C5: =BS!C5 -> 39447 | D5: =BS!D5 -> 39813 | E5: =BS!E5 -> 40178 | F5: =BS!F5 -> 40543 | G5: =BS!G5 -> 40908 | H5: =BS!H5 -> 41274 | I5: =BS!I5 -> 41639 | J5: =BS!J5 -> 42004 | ... N5: =BS!N5 -> 43465
B6: Operating Activities
B7: Net income including noncontrolling interests | F7: 2313 | G7: 2554 | H7: 2631 | I7: 2410 | J7: =[1]IS!J17 -> 2576.0222 | K7: =[1]IS!K17 -> 2628.2746 | L7: =[1]IS!L17 -> 2679.4872 | M7: =[1]IS!M17 -> 2739.6822 | N7: =[1]IS!N17 -> 2793.2907
B8: Adjustments to reconcile net income
B9: to net cash provided by operations:
B10: Depreciation and amortization | F10: 376 | G10: 421 | H10: 425 | I10: 439 | J10: =-('[1]Dep Capex '!J12+'[1]Amort Intangible'!J12) -> 445.15646 | K10: =-('[1]Dep Capex '!K12+'[1]Amort Intangible'!K12) -> 479.79532 | L10: =-('[1]Dep Capex '!L12+'[1]Amort Intangible'!L12) -> 515.14894 | M10: =-('[1]Dep Capex '!M12+'[1]Amort Intangible'!M12) -> 551.23216 | N10: =-('[1]Dep Capex '!N12+'[1]Amort Intangible'!N12) -> 588.06014
B11: Restructuring and termination benefits, net of cash | F11: 86 | G11: 103 | H11: 35 | I11: 182
B12: Venezuela hyperinflationary transition charge | F12: 271 | G12: 0 | H12: 0 | I12: 172
B13: Gain before tax on sales of non-core product lines | F13: -50 | G13: -207 | H13: 0
B14: Voluntary benefit plan contributions | F14: -35 | G14: -178 | H14: -101 | I14: -101
B15: Stock-based compensation expense | F15: 121 | G15: 122 | H15: 120 | I15: 128
B16: Deferred income taxes | F16: 29 | G16: 88 | H16: 63 | I16: 71
B17: Cash effects of changes in:
B18: Receivables | F18: 40 | G18: -130 | H18: 19 | I18: -37 | J18: ='[1]Working Capital'!J36 -> -79.845689 | K18: ='[1]Working Capital'!K36 -> -35.403484 | L18: ='[1]Working Capital'!L36 -> -36.138718 | M18: ='[1]Working Capital'!M36 -> -36.889336 | N18: ='[1]Working Capital'!N36 -> -37.655662
B19: Inventories | F19: -10 | G19: -130 | H19: -21 | I19: -97 | J19: ='[1]Working Capital'!J37 -> 0.84807787 | K19: ='[1]Working Capital'!K37 -> -29.384892 | L19: ='[1]Working Capital'!L37 -> -29.995136 | M19: ='[1]Working Capital'!M37 -> -30.618149 | N19: ='[1]Working Capital'!N37 -> -31.254199
B20: Accounts payable and other accruals | F20: -65 | G20: 199 | H20: -5 | I20: 24 | J20: ='[1]Working Capital'!J39+'[1]Working Capital'!J41 -> 4.2782133 | K20: ='[1]Working Capital'!K39+'[1]Working Capital'!K41 -> 74.039654 | L20: ='[1]Working Capital'!L39+'[1]Working Capital'!L41 -> 70.190166 | M20: ='[1]Working Capital'!M39+'[1]Working Capital'!M41 -> 71.648065 | N20: ='[1]Working Capital'!N39+'[1]Working Capital'!N41 -> 73.136474
B21: Other non-current assets and liabilities | F21: 135 | G21: 54 | H21: 30 | I21: 13 | J21: ='[1]Working Capital'!J38+'[1]Working Capital'!J40 -> 14.685856 | K21: ='[1]Working Capital'!K38+'[1]Working Capital'!K40 -> -11.251607 | L21: ='[1]Working Capital'!L38+'[1]Working Capital'!L40 -> -11.485272 | M21: ='[1]Working Capital'!M38+'[1]Working Capital'!M40 -> -11.723826 | N21: ='[1]Working Capital'!N38+'[1]Working Capital'!N40 -> -11.967373
B22: Net cash provided by operations | F22: =SUM(F7:F21) -> 3211 | G22: =SUM(G7:G21) -> 2896 | H22: =SUM(H7:H21) -> 3196 | I22: =SUM(I7:I21) -> 3204 | J22: =SUM(J7:J21) -> 2961.1451 | K22: =SUM(K7:K21) -> 3106.0696 | L22: =SUM(L7:L21) -> 3187.2072 | M22: =SUM(M7:M21) -> 3283.3312 | N22: =SUM(N7:N21) -> 3373.6101
B24: Investing Activities
B25: Capital expenditures | F25: -550 | G25: -537 | H25: -565 | I25: -670 | J25: =-('[1]Dep Capex '!J7+'[1]Amort Intangible'!J7) -> -715.75277 | K25: =-('[1]Dep Capex '!K7+'[1]Amort Intangible'!K7) -> -730.52108 | L25: =-('[1]Dep Capex '!L7+'[1]Amort Intangible'!L7) -> -745.59609 | M25: =-('[1]Dep Capex '!M7+'[1]Amort Intangible'!M7) -> -760.98421 | N25: =-('[1]Dep Capex '!N7+'[1]Amort Intangible'!N7) -> -776.692
B26: Sale of property and non-core product lines | F26: 42 | G26: 263 | H26: 72 | I26: 15
B27: Purchases of marketable securities and investments | F27: -308 | G27: -356 | H27: -545 | I27: -505
B28: Proceeds from sale of marketable securities and investments | F28: 167 | G28: 423 | H28: 147 | I28: 267
B29: Payment for acquisitions, net of cash acquired | F29: 0 | G29: -966 | H29: -29 | I29: -3
B30: Other | F30: -9 | G30: -40 | H30: 55 | I30: 6
B31: Net cash used in investing activities | F31: =SUM(F25:F30) -> -658 | G31: =SUM(G25:G30) -> -1213 | H31: =SUM(H25:H30) -> -865 | I31: =SUM(I25:I30) -> -890 | J31: =SUM(J25:J30) -> -715.75277 | K31: =SUM(K25:K30) -> -730.52108 | L31: =SUM(L25:L30) -> -745.59609 | M31: =SUM(M25:M30) -> -760.98421 | N31: =SUM(N25:N30) -> -776.692
B33: Cash Flow for Financing Activities | F33: =F31+F22 -> 2553 | G33: =G31+G22 -> 1683 | H33: =H31+H22 -> 2331 | I33: =I31+I22 -> 2314 | J33: =J31+J22 -> 2245.3924 | K33: =K31+K22 -> 2375.5485 | L33: =L31+L22 -> 2441.6111 | M33: =M31+M22 -> 2522.3469 | N33: =N31+N22 -> 2596.9181
B35: Financing Activities
B36: Principal payments on debt | F36: -4719 | G36: -4429 | H36: -5011 | I36: -7554 | J36: =[1]Debt!J25 -> -895 | K36: =[1]Debt!K25 -> -491 | L36: =[1]Debt!L25 -> -255 | M36: =[1]Debt!M25 -> -664 | N36: =[1]Debt!N25 -> -695
B37: Proceeds from issuance of debt | F37: 5015 | G37: 5843 | H37: 5452 | I37: 7976
B38: Revolver | J38: =[1]Debt!J19 -> 0 | K38: =[1]Debt!K19 -> 939.62554 | L38: =[1]Debt!L19 -> 679.70223 | M38: =[1]Debt!M19 -> 1038.8901 | N38: =[1]Debt!N19 -> 1022.8764
B39: Dividends paid | F39: -1142 | G39: -1203 | H39: -1277 | I39: -1382 | J39: =-'[1]Shareholders Equity'!J30 -> -1317.6354 | K39: =-'[1]Shareholders Equity'!K30 -> -1344.3625 | L39: =-'[1]Shareholders Equity'!L30 -> -1370.5577 | M39: =-'[1]Shareholders Equity'!M30 -> -1401.3475 | N39: =-'[1]Shareholders Equity'!N30 -> -1428.7682
B40: Purchases of treasury shares | F40: -2020 | G40: -1806 | H40: -1943 | I40: -1521 | J40: =-'[1]Shareholders Equity'!J18 -> -1500 | K40: =-'[1]Shareholders Equity'!K18 -> -1500 | L40: =-'[1]Shareholders Equity'!L18 -> -1500 | M40: =-'[1]Shareholders Equity'!M18 -> -1500 | N40: =-'[1]Shareholders Equity'!N18 -> -1500
B41: Proceeds from exercise of stock options and excess tax benefits | F41: 242 | G41: 353 | H41: 478 | I41: 339 | J41: ='[1]Shareholders Equity'!J23 -> 1014.342 | K41: ='[1]Shareholders Equity'!K23 -> 0 | L41: ='[1]Shareholders Equity'!L23 -> 0 | M41: ='[1]Shareholders Equity'!M23 -> 0 | N41: ='[1]Shareholders Equity'!N23 -> 0
B42: Net cash used in financing activities | F42: =SUM(F36:F41) -> -2624 | G42: =SUM(G36:G41) -> -1242 | H42: =SUM(H36:H41) -> -2301 | I42: =SUM(I36:I41) -> -2142 | J42: =SUM(J36:J41) -> -2698.2934 | K42: =SUM(K36:K41) -> -2395.7369 | L42: =SUM(L36:L41) -> -2445.8555 | M42: =SUM(M36:M41) -> -2526.4573 | N42: =SUM(N36:N41) -> -2600.8918
B44: Effect of exchange rate changes on Cash and cash equivalents | F44: -39 | G44: -53 | H44: -24 | I44: -94
B45: Net increase (decrease) in Cash and cash equivalents | F45: =F22+F31+F42+F44 -> -110 | G45: =G22+G31+G42+G44 -> 388 | H45: =H22+H31+H42+H44 -> 6 | I45: =I22+I31+I42+I44 -> 78 | J45: =J22+J31+J42+J44 -> -452.901 | K45: =K22+K31+K42+K44 -> -20.188393 | L45: =L22+L31+L42+L44 -> -4.2443894 | M45: =M22+M31+M42+M44 -> -4.1103776 | N45: =N22+N31+N42+N44 -> -3.9736855
B47: Cash and cash equivalents at beginning of year | F47: 600 | G47: 490 | H47: 878 | I47: 884 | J47: =I48 -> 962 | K47: =J48 -> 509.099 | L47: =K48 -> 488.91061 | M47: =L48 -> 484.66622 | N47: =M48 -> 480.55584
...

Sheet Dep Capex 
A1: =IS!A1 -> Colgate-Palmolive Company
A3: Consolidated Depreciation and Capex
C5: =BS!C5 -> 39447 | D5: =BS!D5 -> 39813 | E5: =BS!E5 -> 40178 | F5: =BS!F5 -> 40543 | G5: =BS!G5 -> 40908 | H5: =BS!H5 -> 41274 | I5: =BS!I5 -> 41639 | J5: =BS!J5 -> 42004 | ... N5: =BS!N5 -> 43465
B6: Net Sales | F6: =[2]IS!F6 -> 15564 | G6: =[2]IS!G6 -> 16734 | H6: =[2]IS!H6 -> 17085 | I6: =[2]IS!I6 -> 17420 | J6: =[2]IS!J6 -> 17893.819 | K6: =[2]IS!K6 -> 18263.027 | L6: =[2]IS!L6 -> 18639.902 | M6: =[2]IS!M6 -> 19024.605 | N6: =[2]IS!N6 -> 19417.3
B7: Capital Expenditures | F7: =-[2]CF!F25 -> 550 | G7: =-[2]CF!G25 -> 537 | H7: =-[2]CF!H25 -> 565 | I7: =-[2]CF!I25 -> 670 | J7: =J8*J6 -> 715.75277 | K7: =K8*K6 -> 730.52108 | L7: =L8*L6 -> 745.59609 | M7: =M8*M6 -> 760.98421 | N7: =N8*N6 -> 776.692
B8: Capital Expenditures as % of Net Sales | F8: =F7/F6 -> 0.035337959 | G8: =G7/G6 -> 0.032090355 | H8: =H7/H6 -> 0.033069944 | I8: =I7/I6 -> 0.038461538 | J8: 0.04 | K8: 0.04 | L8: 0.04 | M8: 0.04 | N8: 0.04
B10: Beginning Net PP&E | J10: =I13 -> 4083 | K10: =J13 -> 4798.7528 | L10: =K13 -> 5529.2739 | M10: =L13 -> 6274.8699 | N10: =M13 -> 7035.8542
B11: Capital Expenditures | J11: =J7 -> 715.75277 | K11: =K7 -> 730.52108 | L11: =L7 -> 745.59609 | M11: =M7 -> 760.98421 | N11: =N7 -> 776.692
B12: (Depreciation Expense) | J12: =-J79 -> 0 | K12: =-K79 -> 0 | L12: =-L79 -> 0 | M12: =-M79 -> 0 | N12: =-N79 -> 0
B13: Ending Net PP&E | F13: =[2]BS!F14 -> 3693 | G13: =[2]BS!G14 -> 3668 | H13: =[2]BS!H14 -> 3842 | I13: =[2]BS!I14 -> 4083 | J13: =J10+J11+J12 -> 4798.7528 | K13: =K10+K11+K12 -> 5529.2739 | L13: =L10+L11+L12 -> 6274.8699 | M13: =M10+M11+M12 -> 7035.8542 | N13: =N10+N11+N12 -> 7812.5462
B16: PPE (Break-up for 2013)
B17: Land
B18: Building Improvements
B19: Machinery and equipment
B20: Other Equipment
B21: Total
B24: Total Capex
B25: Breakup
B26: =B17 -> Land
B27: =B18 -> Building Improvements
B28: =B19 -> Machinery and equipment
B29: =B20 -> Other Equipment
B32: Building Improvements - Straight Line Method
B33: Useful Life
B34: Building Improvement
B35: Depreciation Expense (existing)
B38: 2014
B39: =B38+1 -> 2015
B40: =B39+1 -> 2016
B41: =B40+1 -> 2017
B42: =B41+1 -> 2018
B44: Depreciation (Building Improvements)
B46: Machinery & Equipments
B47: Useful Life
B48: Machinery & Equipments
B49: Depreciation Expense (existing)
B52: 2014
B53: =B52+1 -> 2015
B54: =B53+1 -> 2016
B55: =B54+1 -> 2017
...

Sheet Amort Intangible
A1: =IS!A1 -> Colgate-Palmolive Company
A3: Consolidated Amortization & Intangible
C5: =BS!C5 -> 39447 | D5: =BS!D5 -> 39813 | E5: =BS!E5 -> 40178 | F5: =BS!F5 -> 40543 | G5: =BS!G5 -> 40908 | H5: =BS!H5 -> 41274 | I5: =BS!I5 -> 41639 | J5: =BS!J5 -> 42004 | ... N5: =BS!N5 -> 43465
B6: Net Sales | F6: =[2]IS!F6 -> 15564 | G6: =[2]IS!G6 -> 16734 | H6: =[2]IS!H6 -> 17085 | I6: =[2]IS!I6 -> 17420 | J6: =[2]IS!J6 -> 17893.819 | K6: =[2]IS!K6 -> 18263.027 | L6: =[2]IS!L6 -> 18639.902 | M6: =[2]IS!M6 -> 19024.605 | N6: =[2]IS!N6 -> 19417.3
B7: Additions to Intangibles
B8: Additions to Intangibles as % of Net Sales
B10: Beginning Net Intangibles | J10: =I14 -> 1496 | K10: =J14 -> 1467 | L10: =K14 -> 1438 | M10: =L14 -> 1409 | N10: =M14 -> 1380
B11: Additions to Intangibles | J11: =J7 -> 0 | K11: =K7 -> 0 | L11: =L7 -> 0 | M11: =M7 -> 0 | N11: =N7 -> 0
B12: (Amortization Expense) | J12: -29 | K12: -29 | L12: -29 | M12: -29 | N12: -29
B13: (Intangible Sales and write offs)
B14: Ending Net Intangibles | I14: =[2]BS!I16 -> 1496 | J14: =SUM(J10:J13) -> 1467 | K14: =SUM(K10:K13) -> 1438 | L14: =SUM(L10:L13) -> 1409 | M14: =SUM(M10:M13) -> 1380 | N14: =SUM(N10:N13) -> 1351

Sheet Working Capital
A1: =IS!A1 -> Colgate-Palmolive Company
A3: Consolidated Working Capital
C5: =BS!C5 -> 39447 | D5: =BS!D5 -> 39813 | E5: =BS!E5 -> 40178 | F5: =BS!F5 -> 40543 | G5: =BS!G5 -> 40908 | H5: =BS!H5 -> 41274 | I5: =BS!I5 -> 41639 | J5: =BS!J5 -> 42004 | ... N5: =BS!N5 -> 43465
B6: Net Sales | C6: =IS!C6 -> 13790 | D6: =IS!D6 -> 15330 | E6: 15337 | F6: =IS!F6 -> 15564 | G6: =IS!G6 -> 16734 | H6: =IS!H6 -> 17085 | I6: =IS!I6 -> 17420 | J6: =IS!J6 -> 17893.819 | K6: =IS!K6 -> 18263.027 | L6: =IS!L6 -> 18639.902 | M6: =IS!M6 -> 19024.605 | N6: =IS!N6 -> 19417.3 | O6: =IS!P6 -> 0
B7: Cost of Sales | C7: =IS!C7 -> 6043 | D7: =IS!D7 -> 6704 | E7: 6319 | F7: =IS!F7 -> 6360 | G7: =IS!G7 -> 7144 | H7: =IS!H7 -> 7153 | I7: =IS!I7 -> 7219 | J7: =IS!J7 -> 7425.935 | K7: =IS!K7 -> 7579.1562 | L7: =IS!L7 -> 7735.5595 | M7: =IS!M7 -> 7895.2112 | N7: =IS!N7 -> 8058.1796
B9: Working Capital Balances
B10: Receivables | C10: =BS!C9 -> 1681 | D10: =BS!D9 -> 1592 | E10: 1626 | F10: 1610 | G10: 1675 | H10: 1668 | I10: 1636 | J10: =J27/$S$10*J6 -> 1715.8457 | K10: =K27/$S$10*K6 -> 1751.2492 | L10: =L27/$S$10*L6 -> 1787.3879 | M10: =M27/$S$10*M6 -> 1824.2772 | N10: =N27/$S$10*N6 -> 1861.9329 | R10: Number of days assumption | S10: 365
B11: Inventories | C11: =BS!C10 -> 1171 | D11: =BS!D10 -> 1197 | E11: 1209 | F11: 1222 | G11: 1327 | H11: 1365 | I11: 1425 | J11: =J28/$S$10*J7 -> 1424.1519 | K11: =K28/$S$10*K7 -> 1453.5368 | L11: =L28/$S$10*L7 -> 1483.5319 | M11: =M28/$S$10*M7 -> 1514.1501 | N11: =N28/$S$10*N7 -> 1545.4043
B12: Other current assets | C12: =BS!C11 -> 338 | D12: =BS!D11 -> 366 | E12: 375 | F12: 408 | G12: 522 | H12: 639 | I12: 799 | J12: =J6*J29 -> 805.22187 | K12: =K6*K29 -> 821.83622 | L12: =L6*L29 -> 838.7956 | M12: =M6*M29 -> 856.10724 | N12: =N6*N29 -> 873.77851
B13: Total Non Cash Current Assets | C13: =SUM(C10:C12) -> 3190 | D13: =SUM(D10:D12) -> 3155 | E13: =SUM(E10:E12) -> 3210 | F13: =SUM(F10:F12) -> 3240 | G13: =SUM(G10:G12) -> 3524 | H13: =SUM(H10:H12) -> 3672 | I13: =SUM(I10:I12) -> 3860 | J13: =SUM(J10:J12) -> 3945.2195 | ... N13: =SUM(N10:N12) -> 4281.1157
B15: Accounts payable | C15: =BS!C25 -> 1067 | D15: =BS!D25 -> 1061 | E15: 1172 | F15: 1165 | G15: 1244 | H15: 1290 | I15: 1343 | J15: =J31/$S$10*J24 -> 1322.2758 | K15: =K31/$S$10*K24 -> 1354.9457 | L15: =L31/$S$10*L24 -> 1382.907 | M15: =M31/$S$10*M24 -> 1411.4491 | N15: =N31/$S$10*N24 -> 1440.5841
B16: Accrued income taxes | C16: =BS!C26 -> 263 | D16: =BS!D26 -> 272 | E16: 387 | F16: 272 | G16: 392 | H16: 254 | I16: 239 | J16: =J7*J32 -> 259.90773 | K16: =K7*K32 -> 265.27047 | L16: =L7*L32 -> 270.74458 | M16: =M7*M32 -> 276.33239 | N16: =N7*N32 -> 282.03628
B17: Other accruals | C17: =BS!C27 -> 1539 | D17: =BS!D27 -> 1421 | E17: 1679 | F17: 1682 | G17: 1700 | H17: 1888 | I17: 1980 | J17: =J7*J33 -> 2005.0025 | K17: =K7*K33 -> 2046.3722 | L17: =L7*L33 -> 2088.6011 | M17: =M7*M33 -> 2131.707 | N17: =N7*N33 -> 2175.7085
B18: Total Non-Debt Current Liabilities | C18: =SUM(C15:C17) -> 2869 | D18: =SUM(D15:D17) -> 2754 | E18: =SUM(E15:E17) -> 3238 | F18: =SUM(F15:F17) -> 3119 | G18: =SUM(G15:G17) -> 3336 | H18: =SUM(H15:H17) -> 3432 | I18: =SUM(I15:I17) -> 3562 | J18: =SUM(J15:J17) -> 3587.1859 | ... N18: =SUM(N15:N17) -> 3898.3289
B20: Net Working Capital/ (Deficit) | C20: =C13-C18 -> 321 | D20: =D13-D18 -> 401 | E20: =E13-E18 -> -28 | F20: =F13-F18 -> 121 | G20: =G13-G18 -> 188 | H20: =H13-H18 -> 240 | I20: =I13-I18 -> 298 | J20: =J13-J18 -> 358.03354 | ... N20: =N13-N18 -> 382.78684
B22: (Increase)/ Decrease in Working Capital | D22: =C20-D20 -> -80 | E22: =D20-E20 -> 429 | F22: =E20-F20 -> -149 | G22: =F20-G20 -> -67 | H22: =G20-H20 -> -52 | I22: =H20-I20 -> -58 | J22: =I20-J20 -> -60.033542 | K22: =J20-K20 -> -2.0003282 | ... N22: =M20-N20 -> -7.7407604
B24: Purchases | D24: =D7+D11-C11 -> 6730 | E24: =E7+E11-D11 -> 6331 | F24: =F7+F11-E11 -> 6373 | G24: =G7+G11-F11 -> 7249 | H24: =H7+H11-G11 -> 7191 | I24: =I7+I11-H11 -> 7279 | J24: =J7+J11-I11 -> 7425.0869 | K24: =K7+K11-J11 -> 7608.5411 | ... N24: =N7+N11-M11 -> 8089.4338
B26: Ratios & Assumptions
A27: 0 | B27: Accounts Receivable, net (Collection period in days) | C27: =$S$10/(C6/C10) -> 44.493474 | D27: =$S$10/(D6/D10) -> 37.904762 | E27: =S10/(E6/E10) -> 38.696616 | F27: =$S$10/(F6/F10) -> 37.757003 | G27: =$S$10/(G6/G10) -> 36.534899 | H27: =$S$10/(H6/H10) -> 35.634767 | I27: =$S$10/(I6/I10) -> 34.27899 | J27: 35 | K27: 35 | L27: 35 | M27: 35 | N27: 35
B28: Inventory (Days outstanding) | C28: =$S$10/(C7/C11) -> 70.728943 | D28: =$S$10/(D7/D11) -> 65.170794 | E28: =$S$10/(E6/E11) -> 28.772576 | F28: =$S$10/(F6/F11) -> 28.6578 | G28: =$S$10/(G6/G11) -> 28.944365 | H28: =$S$10/(H6/H11) -> 29.161545 | I28: =$S$10/(I6/I11) -> 29.857922 | J28: 70 | K28: 70 | L28: 70 | M28: 70 | N28: 70
B29: Other Current Assets (% of Net Sales) | C29: =C12/C6 -> 0.024510515 | D29: =D12/D6 -> 0.023874755 | E29: =E12/E6 -> 0.024450675 | F29: =F12/F6 -> 0.026214341 | G29: =G12/G6 -> 0.031193976 | H29: =H12/H6 -> 0.037401229 | I29: =I12/I6 -> 0.04586682 | J29: 0.045 | K29: 0.045 | L29: 0.045 | M29: 0.045 | N29: 0.045
B31: Accounts Payable (Days Payable) | D31: =$S$10/(D24/D15) -> 57.543091 | E31: =$S$10/(E7/E15) -> 67.69742 | F31: =$S$10/(F7/F15) -> 66.859277 | G31: =$S$10/(G7/G15) -> 63.558231 | H31: =$S$10/(H7/H15) -> 65.825528 | I31: =$S$10/(I7/I15) -> 67.903449 | J31: 65 | K31: 65 | L31: 65 | M31: 65 | N31: 65
B32: Accrued Income Taxes (% of COGS) | D32: =D16/D7 -> 0.040572792 | E32: =E16/E7 -> 0.061243868 | F32: =F16/F7 -> 0.042767296 | G32: =G16/G7 -> 0.054871221 | H32: =H16/H7 -> 0.035509576 | I32: =I16/I7 -> 0.033107079 | J32: 0.035 | K32: 0.035 | L32: 0.035 | M32: 0.035 | N32: 0.035
B33: Other accruals (% of COGS) | D33: =D17/D7 -> 0.21196301 | E33: =E17/E7 -> 0.2657066 | F33: =F17/F7 -> 0.26446541 | G33: =G17/G7 -> 0.23796193 | H33: =H17/H7 -> 0.2639452 | I33: =I17/I7 -> 0.27427622 | J33: 0.27 | K33: 0.27 | L33: 0.27 | M33: 0.27 | N33: 0.27
B35: Cash Flow from Individual line items
B36: Receivables (net of allowances of $49, $53, $52, $47 and $51 respectively) | E36: =D10-E10 -> -34 | F36: =E10-F10 -> 16 | G36: =F10-G10 -> -65 | H36: =G10-H10 -> 7 | I36: =H10-I10 -> 32 | J36: =I10-J10 -> -79.845689 | K36: =J10-K10 -> -35.403484 | L36: =K10-L10 -> -36.138718 | ... N36: =M10-N10 -> -37.655662
B37: Inventories | E37: =D11-E11 -> -12 | F37: =E11-F11 -> -13 | G37: =F11-G11 -> -105 | H37: =G11-H11 -> -38 | I37: =H11-I11 -> -60 | J37: =I11-J11 -> 0.84807787 | K37: =J11-K11 -> -29.384892 | L37: =K11-L11 -> -29.995136 | ... N37: =M11-N11 -> -31.254199
B38: Other current assets | E38: =D12-E12 -> -9 | F38: =E12-F12 -> -33 | G38: =F12-G12 -> -114 | H38: =G12-H12 -> -117 | I38: =H12-I12 -> -160 | J38: =I12-J12 -> -6.2218699 | K38: =J12-K12 -> -16.614349 | L38: =K12-L12 -> -16.959384 | ... N38: =M12-N12 -> -17.671264
B39: Accounts payable | E39: =E15-D15 -> 111 | F39: =F15-E15 -> -7 | G39: =G15-F15 -> 79 | H39: =H15-G15 -> 46 | I39: =I15-H15 -> 53 | J39: =J15-I15 -> -20.724243 | K39: =K15-J15 -> 32.669924 | L39: =L15-K15 -> 27.9613 | ... N39: =N15-M15 -> 29.135026
B40: Accrued income taxes | E40: =E16-D16 -> 115 | F40: =F16-E16 -> -115 | G40: =G16-F16 -> 120 | H40: =H16-G16 -> -138 | I40: =I16-H16 -> -15 | J40: =J16-I16 -> 20.907726 | K40: =K16-J16 -> 5.3627427 | L40: =L16-K16 -> 5.4741123 | ... N40: =N16-M16 -> 5.7038914
B41: Other accruals | E41: =E17-D17 -> 258 | F41: =F17-E17 -> 3 | G41: =G17-F17 -> 18 | H41: =H17-G17 -> 188 | I41: =I17-H17 -> 92 | J41: =J17-I17 -> 25.002456 | K41: =K17-J17 -> 41.36973 | L41: =L17-K17 -> 42.228866 | ... N41: =N17-M17 -> 44.001448
B42: (Incease)/ Decrease in Working Capital | E42: =SUM(E36:E41) -> 429 | F42: =SUM(F36:F41) -> -149 | G42: =SUM(G36:G41) -> -67 | H42: =SUM(H36:H41) -> -52 | I42: =SUM(I36:I41) -> -58 | J42: =SUM(J36:J41) -> -60.033542 | K42: =SUM(K36:K41) -> -2.0003282 | L42: =SUM(L36:L41) -> -7.4289595 | ... N42: =SUM(N36:N41) -> -7.7407604
B44: Check

Sheet Other Long Term Asset Liability
A1: =IS!A1 -> Colgate-Palmolive Company
A3: Other Long Term Asset Liability Schedule
C5: =BS!C5 -> 39447 | D5: =BS!D5 -> 39813 | E5: =BS!E5 -> 40178 | F5: =BS!F5 -> 40543 | G5: =BS!G5 -> 40908 | H5: =BS!H5 -> 41274 | I5: =BS!I5 -> 41639 | J5: =BS!J5 -> 42004 | ... N5: =BS!N5 -> 43465
A7: Assets
B8: Deferred income taxes | C8: =BS!C17 -> 0 | D8: =BS!D17 -> 0 | E8: =BS!E17 -> 0 | F8: =[2]BS!F17 -> 84 | G8: =[2]BS!G17 -> 115 | H8: =[2]BS!H17 -> 92 | I8: =[2]BS!I17 -> 77 | J8: =I8 -> 77 | K8: =J8 -> 77 | L8: =K8 -> 77 | M8: =L8 -> 77 | N8: =M8 -> 77
B9: Other assets | C9: =BS!C18 -> 361 | D9: =BS!D18 -> 164 | E9: =BS!E18 -> 685 | F9: =[2]BS!F18 -> 472 | G9: =[2]BS!G18 -> 541 | H9: =[2]BS!H18 -> 905 | I9: =[2]BS!I18 -> 924 | J9: =I9 -> 924 | K9: =J9 -> 924 | L9: =K9 -> 924 | M9: =L9 -> 924 | N9: =M9 -> 924
A11: Liability
B12: Deferred income taxes | C12: =BS!C33 -> 264 | D12: =BS!D33 -> 82 | E12: =BS!E33 -> 82 | F12: =[2]BS!F33 -> 108 | G12: =[2]BS!G33 -> 252 | H12: =[2]BS!H33 -> 293 | I12: =[2]BS!I33 -> 444 | J12: =I12 -> 444 | K12: =J12 -> 444 | L12: =K12 -> 444 | M12: =L12 -> 444 | N12: =M12 -> 444
B13: Other liabilities | C13: =BS!C34 -> 1067 | D13: =BS!D34 -> 1316 | E13: =BS!E34 -> 1375 | F13: =[2]BS!F34 -> 1704 | G13: =[2]BS!G34 -> 1785 | H13: =[2]BS!H34 -> 2049 | I13: =[2]BS!I34 -> 1677 | J13: =I13 -> 1677 | K13: =J13 -> 1677 | L13: =K13 -> 1677 | M13: =L13 -> 1677 | N13: =M13 -> 1677

Sheet Shareholders Equity
A1: =IS!A1 -> Colgate-Palmolive Company
A3: Consolidated Shareholder's Equity
C5: =BS!C5 -> 39447 | D5: =BS!D5 -> 39813 | E5: =BS!E5 -> 40178 | F5: =BS!F5 -> 40543 | G5: =BS!G5 -> 40908 | H5: =BS!H5 -> 41274 | I5: =BS!I5 -> 41639 | J5: =BS!J5 -> 42004 | ... N5: =BS!N5 -> 43465
B6: Beginning Equity Balance | J6: =I11 -> 2305 | K6: =J11 -> 2897.4073 | L6: =K11 -> 2497.3402 | M6: =L11 -> 2118.7056 | N6: =M11 -> 1765.2626
B7: Net Income | J7: =[2]IS!J19 -> 2395.7007 | K7: =[2]IS!K19 -> 2444.2954 | L7: =[2]IS!L19 -> 2491.9231 | M7: =[2]IS!M19 -> 2547.9045 | N7: =[2]IS!N19 -> 2597.7604
B8: Issuance/ (Repurchase) of Equity | J8: =-J18 -> -1500 | K8: =-K18 -> -1500 | L8: =-L18 -> -1500 | M8: =-M18 -> -1500 | N8: =-N18 -> -1500
B9: Dividends Paid | J9: =-J30 -> -1317.6354 | K9: =-K30 -> -1344.3625 | L9: =-L30 -> -1370.5577 | M9: =-M30 -> -1401.3475 | N9: =-N30 -> -1428.7682
B10: Option Proceeds | J10: =J23 -> 1014.342 | K10: =K23 -> 0 | L10: =L23 -> 0 | M10: =M23 -> 0 | N10: =N23 -> 0
B11: Ending Equity Balance | C11: =BS!C47 -> 2396 | D11: =BS!D47 -> 2044 | E11: =BS!E47 -> 3257 | F11: =[2]BS!F45 -> 2675 | G11: =[2]BS!G45 -> 2375 | H11: =[2]BS!H45 -> 2189 | I11: =[2]BS!I45 -> 2305 | J11: =SUM(J6:J10) -> 2897.4073 | K11: =SUM(K6:K10) -> 2497.3402 | L11: =SUM(L6:L10) -> 2118.7056 | M11: =SUM(M6:M10) -> 1765.2626 | N11: =SUM(N6:N10) -> 1434.2548
B13: Share Repurchase Assumptions
B14: Current Year EPS | C14: =IS!C21 -> 1.6 | D14: =IS!D21 -> 1.83 | E14: =IS!E21 -> 2.185 | F14: =[2]IS!F21 -> 2.155 | G14: =[2]IS!G21 -> 2.47 | H14: =[2]IS!H21 -> 2.57 | I14: =[2]IS!I21 -> 2.38 | J14: =[2]IS!J21 -> 2.6070151 | K14: =[2]IS!K21 -> 2.7118992 | L14: =[2]IS!L21 -> 2.8548404 | M14: =[2]IS!M21 -> 3.0119079 | N14: =[2]IS!N21 -> 3.1665637
B15: Assumed Current Year EPS Multiple | G15: =G16/G14 -> 17.146857 | H15: =H16/H14 -> 19.520252 | I15: =I16/I14 -> 24.989939 | J15: 19 | K15: 19 | L15: 19 | M15: 19 | N15: 19
B16: Implied Share Price | G16: =G18/G17 -> 42.352737 | H16: =H18/H17 -> 50.167049 | I16: =I18/I17 -> 59.476055 | J16: =J15*J14 -> 49.533287 | K16: =K15*K14 -> 51.526086 | L16: =L15*L14 -> 54.241967 | M16: =M15*M14 -> 57.226249 | N16: =N15*N14 -> 60.164711
B17: Shares Repurchased - millions | G17: 42.641872 | H17: 38.730602 | I17: 25.573317 | J17: =J18/J16 -> 30.282667 | K17: =K18/K16 -> 29.111468 | L17: =L18/L16 -> 27.653864 | M17: =M18/M16 -> 26.211747 | N17: =N18/N16 -> 24.931558
B18: Amount Repurchased ( $ outgo) | F18: =-[2]CF!F40 -> 2020 | G18: =-[2]CF!G40 -> 1806 | H18: =-[2]CF!H40 -> 1943 | I18: =-[2]CF!I40 -> 1521 | J18: 1500 | K18: 1500 | L18: 1500 | M18: 1500 | N18: 1500
B20: New Shares from Exercised Options
B21: New Shares from Exercised Options - millions | G21: 11.517758 | H21: 12.21723 | I21: 7.883834 | J21: 24.151
B22: Average Strike Price | G22: =G23/G21 -> 30.648326 | H22: =H23/H21 -> 39.125072 | I22: =I23/I21 -> 42.999383 | J22: 42
B23: Option Proceeds | F23: =[2]CF!F41 -> 242 | G23: =[2]CF!G41 -> 353 | H23: =[2]CF!H41 -> 478 | I23: =[2]CF!I41 -> 339 | J23: =J22*J21 -> 1014.342
B25: Restricted Stock Units (RSUs) | G25: 1.45933 | H25: 2.205898 | I25: 1.907382 | J25: =4.539/2.2 -> 2.0631818 | K25: =4.539/2.2 -> 2.0631818 | L25: 2 | M25: 2 | N25: 2
B29: Dividend Assumptions
B30: Total Dividends Paid | G30: 1203 | H30: 1277 | I30: 1382 | J30: =J32*J31 -> 1317.6354 | K30: =K32*K31 -> 1344.3625 | L30: =L32*L31 -> 1370.5577 | M30: =M32*M31 -> 1401.3475 | N30: =N32*N31 -> 1428.7682
B31: Net Income | G31: =[2]IS!G19 -> 2431 | H31: =[2]IS!H19 -> 2472 | I31: =[2]IS!I19 -> 2241 | J31: =[2]IS!J19 -> 2395.7007 | K31: =[2]IS!K19 -> 2444.2954 | L31: =[2]IS!L19 -> 2491.9231 | M31: =[2]IS!M19 -> 2547.9045 | N31: =[2]IS!N19 -> 2597.7604
B32: Dividend Payout Ratio | G32: =G30/G31 -> 0.49485808 | H32: =H30/H31 -> 0.51658576 | I32: =I30/I31 -> 0.61668898 | J32: 0.55 | K32: 0.55 | L32: 0.55 | M32: 0.55 | N32: 0.55
E34: `
B47: Shares and ESOPs
C50: Common Stock
C51: Outstanding | D51: Treasury Stock
B52: Balance, January 1, 2011 | C52: 989700934 | D52: 476005426
B54: Common stock acquired | C54: -42641872 | D54: 42641872
B55: Shares issued for stock options | C55: 11517758 | D55: -11517758
B56: Shares issued for restricted stock units and other | C56: 1459330 | D56: -1459330
B57: Balance, December 31, 2011 | C57: =SUM(C52:C56) -> 960036150 | D57: =SUM(D52:D56) -> 505670210
B59: Common stock acquired | C59: -38730602 | D59: 38730602
B60: Shares issued for stock options | C60: 12217230 | D60: -12217230
B61: Shares issued for restricted stock units and other | C61: 2205898 | D61: -2205898
B62: Balance, December 31, 2012 | C62: =SUM(C57:C61) -> 935728676 | D62: 529977684
B64: Common stock acquired | C64: -25573317 | D64: 25573317
B65: Shares issued for stock options | C65: 7883834 | D65: -7883834
B66: Shares issued for restricted stock units and other | C66: 1907382 | D66: -1907382
...

Sheet Shares Outstanding 
A1: =IS!A1 -> Colgate-Palmolive Company
A3: Consolidated Shares Outstanding
C5: =BS!C5 -> 39447 | D5: =BS!D5 -> 39813 | E5: =BS!E5 -> 40178 | F5: =BS!F5 -> 40543 | G5: =BS!G5 -> 40908 | H5: =BS!H5 -> 41274 | I5: =BS!I5 -> 41639 | J5: =BS!J5 -> 42004 | ... N5: =BS!N5 -> 43465
B6: Beginning Balance - Basic (actual) | G6: =F9 -> 989.70093 | H6: =G9 -> 960.03615 | I6: =H9 -> 935.72868 | J6: =I9 -> 919.94657 | K6: =J9 -> 913.81491 | L6: =K9 -> 884.70344 | M6: =L9 -> 857.04958 | N6: =M9 -> 830.83783
B7: Shares Issued (actual realization of options) | G7: =11.517758+1.45933 -> 12.977088 | H7: =12.21723+2.205898 -> 14.423128 | I7: =7.883834+1.907382 -> 9.791216 | J7: ='[2]Shareholders Equity'!J21 -> 24.151
B8: Shares Repurchased | G8: -42.641872 | H8: -38.730602 | I8: -25.573317 | J8: =-'[2]Shareholders Equity'!J17 -> -30.282667 | K8: =-'[2]Shareholders Equity'!K17 -> -29.111468 | L8: =-'[2]Shareholders Equity'!L17 -> -27.653864 | M8: =-'[2]Shareholders Equity'!M17 -> -26.211747 | N8: =-'[2]Shareholders Equity'!N17 -> -24.931558
B9: Ending Balance - Basic (actual) | F9: 989.70093 | G9: =SUM(G6:G8) -> 960.03615 | H9: =SUM(H6:H8) -> 935.72868 | I9: =SUM(I6:I8) -> 919.94657 | J9: =SUM(J6:J8) -> 913.81491 | K9: =SUM(K6:K8) -> 884.70344 | L9: =SUM(L6:L8) -> 857.04958 | M9: =SUM(M6:M8) -> 830.83783 | N9: =SUM(N6:N8) -> 805.90627
B11: Basic Weighted Average Shares | G11: 976.7 | H11: 952.1 | I11: 930.8 | J11: =AVERAGE(I9:J9) -> 916.88074 | K11: =AVERAGE(J9:K9) -> 899.25917 | L11: =AVERAGE(K9:L9) -> 870.87651 | M11: =AVERAGE(L9:M9) -> 843.9437 | N11: =AVERAGE(M9:N9) -> 818.37205
B12: Effects of Options & Restricted Stock Units | G12: 7.4 | H12: 8.1 | I12: 9.1 | J12: ='[2]Shareholders Equity'!J25 -> 2.0631818 | K12: ='[2]Shareholders Equity'!K25 -> 2.0631818 | L12: ='[2]Shareholders Equity'!L25 -> 2 | M12: ='[2]Shareholders Equity'!M25 -> 2 | N12: ='[2]Shareholders Equity'!N25 -> 2
B13: Diluted Weighted Average Shares | G13: 984.1 | H13: =SUM(H11:H12) -> 960.2 | I13: =SUM(I11:I12) -> 939.9 | J13: =SUM(J11:J12) -> 918.94392 | K13: =SUM(K11:K12) -> 901.32236 | L13: =SUM(L11:L12) -> 872.87651 | M13: =SUM(M11:M12) -> 845.9437 | N13: =SUM(N11:N12) -> 820.37205

Sheet Debt
A1: =IS!A1 -> Colgate-Palmolive Company
A3: Debt Schedule
C5: =BS!C5 -> 39447 | D5: =BS!D5 -> 39813 | E5: =BS!E5 -> 40178 | F5: =BS!F5 -> 40543 | G5: =BS!G5 -> 40908 | H5: =BS!H5 -> 41274 | I5: =BS!I5 -> 41639 | J5: =BS!J5 -> 42004 | ... N5: =BS!N5 -> 43465
B6: Cash Flow Available for Financing Activities | J6: =[1]CF!J33 -> 2250.5185 | K6: =[1]CF!K33 -> 2381.5118 | L6: =[1]CF!L33 -> 2445.8555 | M6: =[1]CF!M33 -> 2526.4573 | N6: =[1]CF!N33 -> 2600.8918
B7: Proceeds from/ (Repurchase of) Equity | J7: ='[1]Shareholders Equity'!J8 -> -1500 | K7: ='[1]Shareholders Equity'!K8 -> -1500 | L7: ='[1]Shareholders Equity'!L8 -> -1500 | M7: ='[1]Shareholders Equity'!M8 -> -1500 | N7: ='[1]Shareholders Equity'!N8 -> -1500
B8: Dividends | J8: ='[1]Shareholders Equity'!J9 -> -1317.6354 | K8: ='[1]Shareholders Equity'!K9 -> -1344.3625 | L8: ='[1]Shareholders Equity'!L9 -> -1370.5577 | M8: ='[1]Shareholders Equity'!M9 -> -1401.3475 | N8: ='[1]Shareholders Equity'!N9 -> -1428.7682
B9: Option Proceeds | J9: ='[1]Shareholders Equity'!J10 -> 1014.342 | K9: ='[1]Shareholders Equity'!K10 -> 0 | L9: ='[1]Shareholders Equity'!L10 -> 0 | M9: ='[1]Shareholders Equity'!M10 -> 0 | N9: ='[1]Shareholders Equity'!N10 -> 0
B10: + Beginning Cash Balance | J10: =[1]CF!J47 -> 962 | K10: =[1]CF!K47 -> 514.22511 | L10: =[1]CF!L47 -> 500 | M10: =[1]CF!M47 -> 500 | N10: =[1]CF!N47 -> 500
B11: - Minimum Cash Balance | J11: -500 | K11: -500 | L11: -500 | M11: -500 | N11: -500
B12: Cash Available for Debt Repayment | J12: =SUM(J6:J11) -> 909.22511 | K12: =SUM(K6:K11) -> -448.62554 | L12: =SUM(L6:L11) -> -424.70223 | M12: =SUM(M6:M11) -> -374.89015 | N12: =SUM(N6:N11) -> -327.87643
B13: Long Term Debt Issuance | J13: =J24 -> 0 | K13: =K24 -> 0 | L13: =L24 -> 0 | M13: =M24 -> 0 | N13: =N24 -> 0
B14: Long Term Debt (Repayments) | J14: =J25 -> -895 | K14: =K25 -> -491 | L14: =L25 -> -255 | M14: =M25 -> -664 | N14: =N25 -> -695
B15: Cash Available for Revolving Credit Facility | J15: =J12+J13+J14 -> 14.225112 | K15: =K12+K13+K14 -> -939.62554 | L15: =L12+L13+L14 -> -679.70223 | M15: =M12+M13+M14 -> -1038.8901 | N15: =N12+N13+N14 -> -1022.8764
B17: Revolving Credit Facility
B18: Beginning Balance | J18: =I20 -> 0 | K18: =J20 -> 0 | L18: =K20 -> 939.62554 | M18: =L20 -> 1619.3278 | N18: =M20 -> 2658.2179
B19: Discretionary (Paydown)/ Borrowings | J19: =IF(J15<0,-J15,-MIN(J15,J18)) -> 0 | K19: =IF(K15<0,-K15,-MIN(K15,K18)) -> 939.62554 | L19: =IF(L15<0,-L15,-MIN(L15,L18)) -> 679.70223 | M19: =IF(M15<0,-M15,-MIN(M15,M18)) -> 1038.8901 | N19: =IF(N15<0,-N15,-MIN(N15,N18)) -> 1022.8764
B20: Ending Balance | I20: 0 | J20: =SUM(J18:J19) -> 0 | K20: =SUM(K18:K19) -> 939.62554 | L20: =SUM(L18:L19) -> 1619.3278 | M20: =SUM(M18:M19) -> 2658.2179 | N20: =SUM(N18:N19) -> 3681.0943
B22: Long Term Debt
B23: Beginning Balance | J23: =I26 -> 5644 | K23: =J26 -> 4749 | L23: =K26 -> 4258 | M23: =L26 -> 4003 | N23: =M26 -> 3339
B24: Issuance
B25: (Repayment/ Amortization) | J25: -895 | K25: -491 | L25: -255 | M25: -664 | N25: -695
B26: Ending Balance | I26: =[2]BS!I32+[2]BS!I24 -> 5644 | J26: =SUM(J23:J25) -> 4749 | K26: =SUM(K23:K25) -> 4258 | L26: =SUM(L23:L25) -> 4003 | M26: =SUM(M23:M25) -> 3339 | N26: =SUM(N23:N25) -> 2644
B28: Long Term Debt | J28: =J26+K25 -> 4258 | K28: =K26+L25 -> 4003 | L28: =L26+M25 -> 3339 | M28: =M26+N25 -> 2644 | N28: =N26+O25 -> 2644
B29: Current Portion of Long Term Debt | J29: =-K25 -> 491 | K29: =-L25 -> 255 | L29: =-M25 -> 664 | M29: =-N25 -> 695 | N29: =-O25 -> 0
B33: Revolving Credit Facility | F33: Average Balance | J33: =AVERAGE(I20:J20) -> 0 | K33: =AVERAGE(J20:K20) -> 469.81277 | L33: =AVERAGE(K20:L20) -> 1279.4767 | M33: =AVERAGE(L20:M20) -> 2138.7728 | N33: =AVERAGE(M20:N20) -> 3169.6561
F34: Interest Rate | J34: 0.015 | K34: 0.015 | L34: 0.015 | M34: 0.015 | N34: 0.015
F35: Interest Expense | J35: =J34*J33 -> 0 | K35: =K34*K33 -> 7.0471915 | L35: =L34*L33 -> 19.19215 | M35: =M34*M33 -> 32.081593 | N35: =N34*N33 -> 47.544842
B38: Long Term Debt | F38: Average Balance | J38: =AVERAGE(I26:J26) -> 5196.5 | K38: =AVERAGE(J26:K26) -> 4503.5 | L38: =AVERAGE(K26:L26) -> 4130.5 | M38: =AVERAGE(L26:M26) -> 3671 | N38: =AVERAGE(M26:N26) -> 2991.5
F39: Interest Rate | J39: =J40/J38 -> 0.01731935 | K39: =K40/K38 -> 0.017986011 | L39: =L40/L38 -> 0.015978695 | M39: =M40/M38 -> 0.016889131 | N39: =N40/N38 -> 0.01470834
F40: Interest Expense | J40: 90 | K40: 81 | L40: 66 | M40: 62 | N40: 44
B42: Total Interest Expense | J42: =J40+J35 -> 90 | K42: =K40+K35 -> 88.047192 | L42: =L40+L35 -> 85.19215 | M42: =M40+M35 -> 94.081593 | N42: =N40+N35 -> 91.544842
B45: Cash Balances | F45: Average Balance | J45: =AVERAGE([1]CF!I48:J48) -> 738.11256 | K45: =AVERAGE([1]CF!J48:K48) -> 507.11256 | L45: =AVERAGE([1]CF!K48:L48) -> 500 | M45: =AVERAGE([1]CF!L48:M48) -> 500 | N45: =AVERAGE([1]CF!M48:N48) -> 500
F46: Interest Rate | J46: 0.01 | K46: 0.01 | L46: 0.01 | M46: 0.01 | N46: 0.01
F47: Interest Income | J47: =J45*J46 -> 7.3811256 | K47: =K45*K46 -> 5.0711256 | L47: =L45*L46 -> 5 | M47: =M45*M46 -> 5 | N47: =N45*N46 -> 5
