Workbook
Name \a: #REF!
Name \a: #REF!
Name \a: #REF!
Name \b: [1]model!#REF!
Name \b: [1]model!#REF!
Name \B: #REF!
Name \c: [1]model!#REF!
Name \c: [1]model!#REF!
Name \C: #REF!
Name \d: #REF!
Name \d: #REF!
Name \d: #REF!
Name \e: #REF!
Name \e: #REF!
Name \e: #REF!
Name \f: #REF!
Name \f: #REF!
Name \F: #REF!
Name \g: #REF!
Name \g: #REF!
Name \g: #REF!
Name \h: #REF!
Name \h: #REF!
Name \H: #REF!
Name \i: #REF!
Name \i: #REF!
Name \I: #REF!
Name \j: #REF!
Name \j: #REF!
Name \j: #REF!
Name \l: #REF!
Name \l: #REF!
Name \l: #REF!
Name \M: #REF!
Name \n: '[2]P&L'!#REF!
Name \o: #REF!
Name \o: #REF!
Name \O: #REF!
Name \p: #REF!
Name \p: #REF!
Name \P: #REF!
Name \q: #REF!
Name \q: #REF!
Name \q: #REF!
Name \r: #REF!
Name \r: #REF!
Name \r: #REF!
Name \s: #REF!
Name \s: #REF!
Name \S: #REF!
Name \t: #REF!
Name \t: #REF!
Name \T: #REF!
Name \v: #REF!
Name \v: #REF!
Name \v: #REF!
Name \VAL: #REF!
Name \w: #REF!
Name \w: #REF!
Name \w: #REF!

Sheet Dashboard
A2: Bajaj Auto
B4: Lead Analyst | D4: Associate 1
A5: Analyst Name
A6: Contact Number
A7: Email
A9: Sector Name
A11: Financial Year
A13: Valuation Method
E15: =+E17/D17-1 -> #NAME?
D16: CMP | E16: TARGET | F16: RECO | G16: RISK
D17: =+Uploader!E11 -> #NAME? | E17: =' Valuation'!E8 -> 2900 | F17: HOLD | G17: HIGH
A18: BSE Code | B18: 532977
A19: NSE Code | B19: BAJAJAUTO | E19: Mar '18
A20: Bloomberg Code | B20: BJAUT IN
D22: UPDATE HISTORY
D23: Date | E23: Key Changes

Sheet Summary Financials
A2: Company Data
A3: Market cap (Rs mn ) | K3: 860534.11
A4: Market cap (US$ mn ) | K4: =K3/67.5 -> 12748.654
A5: Outstanding equity shares (mn) | K5: =G37 -> 289.36702
A6: Free float (%) | K6: =+_xll.BDP(CONCATENATE(Dashboard!B20," Equity"),"eqy_float") -> #NAME?
A7: Dividend yield (%) | K7: 1.34506
A8: 52-week high/low (Rs) | K8: =+CONCATENATE(ROUND(_xll.BDP(CONCATENATE(Dashboard!B20," Equity"),"high_52week"),0)," / ",ROUND(_xll.BDP(CONCATENATE(Dashboard!B20," Equity"),"low_52week"),0)) -> #NAME?
A9: 2-month average daily volume | K9: =+_xll.BDP(CONCATENATE(Dashboard!B20," Equity"),"volume_avg_40d") -> #NAME?
Q10: Valuation Matrix
A11: Enterprise Value | Q11: (x) | R11: =+D18 -> FY08 | S11: =+E18 -> FY09 | T11: =+F18 -> FY10 | U11: =+G18 -> FY11 | V11: =+H18 -> FY12 | W11: =+I18 -> FY13 | X11: =+J18 -> FY14 | Y11: =+K18 -> FY15 | ... AD11: =+P18 -> FY20E
A12: CMP | K12: 2973.85 | Q12: P/E @ CMP | R12: =+R67 -> 104.46594 | S12: =+S67 -> 127.03956 | T12: =+T67 -> 48.420771 | U12: =+U67 -> 30.380245 | V12: =+V67 -> 28.645799 | W12: =+W67 -> 29.986201 | X12: =+X67 -> 26.279775 | Y12: =+Y67 -> 27.936254 | ... AD12: =+AD67 -> -
A13: Market cap | K13: =+K12*K37 -> 860534.11 | Q13: P/E @ Target | R13: =+Dashboard!$E$17/D38 -> 101.87173 | S13: =+Dashboard!$E$17/E38 -> 123.88477 | T13: =+Dashboard!$E$17/F38 -> 47.218332
A14: Net debt | K14: =-'Bal Sheet'!P36 -> -91905 | Q14: EV/EBITDA | R14: =+R66 -> 62.517619 | S14: =+S66 -> 68.364518 | T14: =+T66 -> 30.047462 | U14: =+U66 -> 24.21474 | V14: =+V66 -> 20.662128 | W14: =+W66 -> 21.127503 | X14: =+X66 -> 18.101022 | Y14: =+Y66 -> 18.446641 | ... AD14: =+AD66 -> 11.517271
A15: Enterprise value | K15: =+K13+K14 -> 768629.11
O16: =(O19/M19)^(1/2)-1 -> 0.18143577
A17: Income statement (Rs mn) | O17: =(O35/M35)^(1/2)-1 -> 0.15371399 | Q17: Balance sheet (Rs mn)
A18: FYE March, Rs mn | B18: FY06 | C18: FY07 | D18: FY08 | E18: FY09 | F18: FY10 | G18: FY11 | H18: FY12 | I18: FY13 | J18: FY14 | K18: FY15 | L18: FY16 | M18: FY17E | N18: FY18E | O18: FY19E | P18: FY20E | Q18: FYE March, Rs mn | R18: =+D18 -> FY08 | S18: =+E18 -> FY09 | T18: =+F18 -> FY10 | U18: =+G18 -> FY11 | V18: =+H18 -> FY12 | W18: =+I18 -> FY13 | X18: =+J18 -> FY14 | Y18: =+K18 -> FY15 | ... AD18: =+P18 -> FY20E
A19: Revenues | B19: - | C19: - | D19: =+'Inc Stmt'!H9 -> 90169.5 | E19: =+'Inc Stmt'!I9 -> 88148.1 | F19: =+'Inc Stmt'!J9 -> 118864.7 | G19: =+'Inc Stmt'!K9 -> 163982.3 | H19: =+'Inc Stmt'!L9 -> 195289.8 | I19: =+'Inc Stmt'!M9 -> 199972.5 | J19: =+'Inc Stmt'!N9 -> 201495.1 | K19: =+'Inc Stmt'!O9 -> 216120.1 | ... P19: =+'Inc Stmt'!T9 -> 352252.66 | Q19: Cash and cash eq | R19: =+'Bal Sheet'!H13 -> 712.4 | S19: =+'Bal Sheet'!I13 -> 1426.4 | T19: =+'Bal Sheet'!J13 -> 1014.1 | U19: =+'Bal Sheet'!K13 -> 5564.9 | V19: =+'Bal Sheet'!L13 -> 16538.3 | W19: =+'Bal Sheet'!M13 -> 5588.5 | X19: =+'Bal Sheet'!N13 -> 4862.8 | Y19: =+'Bal Sheet'!O13 -> 5750.7 | ... AD19: =+'Bal Sheet'!T13 -> 33834
A20: Growth (%) | B20: - | C20: - | D20: - | E20: =+(E19/D19-1)*100 -> -2.241778 | F20: =+(F19/E19-1)*100 -> 34.846582 | G20: =+(G19/F19-1)*100 -> 37.957106 | H20: =+(H19/G19-1)*100 -> 19.092 | I20: =+(I19/H19-1)*100 -> 2.3978211 | J20: =+(J19/I19-1)*100 -> 0.76140469 | K20: =+(K19/J19-1)*100 -> 7.258241 | L20: =+(L19/K19-1)*100 -> 4.5091132 | ... P20: =+(P19/O19-1)*100 -> 15.942287 | Q20: Accounts receivable | R20: =+'Bal Sheet'!H10 -> 2528.5 | S20: =+'Bal Sheet'!I10 -> 2809.4 | T20: =+'Bal Sheet'!J10 -> 2728.4 | U20: =+'Bal Sheet'!K10 -> 3627.6 | V20: =+'Bal Sheet'!L10 -> 4227.9 | W20: =+'Bal Sheet'!M10 -> 7675.8 | X20: =+'Bal Sheet'!N10 -> 7962.1 | Y20: =+'Bal Sheet'!O10 -> 7169.6 | ... AD20: =+'Bal Sheet'!T10 -> 9650.7579
A21: EBITDA | B21: - | C21: - | D21: =+'Inc Stmt'!H21 -> 12294.6 | E21: =+'Inc Stmt'!I21 -> 11243.1 | F21: =+'Inc Stmt'!J21 -> 25580.5 | G21: =+'Inc Stmt'!K21 -> 31742.2 | H21: =+'Inc Stmt'!L21 -> 37199.9 | I21: =+'Inc Stmt'!M21 -> 36380.5 | J21: =+'Inc Stmt'!N21 -> 42463.3 | K21: =+'Inc Stmt'!O21 -> 41667.7 | ... P21: =+'Inc Stmt'!T21 -> 66737.086 | Q21: Inventories | R21: =+'Bal Sheet'!H9 -> 3661.3 | S21: =+'Bal Sheet'!I9 -> 3717.6 | T21: =+'Bal Sheet'!J9 -> 4462.1 | U21: =+'Bal Sheet'!K9 -> 5472.8 | V21: =+'Bal Sheet'!L9 -> 6785.3 | W21: =+'Bal Sheet'!M9 -> 6362.8 | X21: =+'Bal Sheet'!N9 -> 6397.2 | Y21: =+'Bal Sheet'!O9 -> 8141.5 | ... AD21: =+'Bal Sheet'!T9 -> 10669.878
A22: Growth (%) | B22: - | C22: - | D22: - | E22: =+(E21/D21-1)*100 -> -8.5525353 | F22: =+(F21/E21-1)*100 -> 127.52177 | G22: =+(G21/F21-1)*100 -> 24.087489 | H22: =+(H21/G21-1)*100 -> 17.19383 | I22: =+(I21/H21-1)*100 -> -2.2026941 | J22: =+(J21/I21-1)*100 -> 16.719946 | K22: =+(K21/J21-1)*100 -> -1.8736179 | L22: =+(L21/K21-1)*100 -> 14.763714 | ... P22: =+(P21/O21-1)*100 -> 10.38179 | Q22: Others current assets | R22: =+'Bal Sheet'!H12+'Bal Sheet'!H11 -> 9778.3 | S22: =+'Bal Sheet'!I12+'Bal Sheet'!I11 -> 15065.8 | T22: =+'Bal Sheet'!J12+'Bal Sheet'!J11 -> 21804.9 | U22: =+'Bal Sheet'!K12+'Bal Sheet'!K11 -> 14060.6 | V22: =+'Bal Sheet'!L12+'Bal Sheet'!L11 -> 19197.3 | W22: =+'Bal Sheet'!M12+'Bal Sheet'!M11 -> 19874.8 | X22: =+'Bal Sheet'!N12+'Bal Sheet'!N11 -> 21164.6 | Y22: =+'Bal Sheet'!O12+'Bal Sheet'!O11 -> 21195.2 | ... AD22: =+'Bal Sheet'!T12+'Bal Sheet'!T11 -> 23826.781
A23: Depreciation & amortisation | B23: - | C23: - | D23: =+'Inc Stmt'!H23+'Inc Stmt'!H24 -> 1746.1 | E23: =+'Inc Stmt'!I23+'Inc Stmt'!I24 -> 1306.2 | F23: =+'Inc Stmt'!J23+'Inc Stmt'!J24 -> 1364.5 | G23: =+'Inc Stmt'!K23+'Inc Stmt'!K24 -> 1228.4 | H23: =+'Inc Stmt'!L23+'Inc Stmt'!L24 -> 1456.2 | I23: =+'Inc Stmt'!M23+'Inc Stmt'!M24 -> 1667.7 | J23: =+'Inc Stmt'!N23+'Inc Stmt'!N24 -> 1796.1 | K23: =+'Inc Stmt'!O23+'Inc Stmt'!O24 -> 2674 | ... P23: =+'Inc Stmt'!T23+'Inc Stmt'!T24 -> 3983.175 | Q23: Investments | R23: =+'Bal Sheet'!H17 -> 15632.6 | S23: =+'Bal Sheet'!I17 -> 14231.9 | T23: =+'Bal Sheet'!J17 -> 40215.2 | U23: =+'Bal Sheet'!K17 -> 47952 | V23: =+'Bal Sheet'!L17 -> 48828.4 | W23: =+'Bal Sheet'!M17 -> 64304.9 | X23: =+'Bal Sheet'!N17 -> 85588.3 | Y23: =+'Bal Sheet'!O17 -> 91644 | ... AD23: =+'Bal Sheet'!T17 -> 170126.6
A24: EBIT | B24: - | C24: - | D24: =+'Inc Stmt'!H25 -> 10548.5 | E24: =+'Inc Stmt'!I25 -> 9936.9 | F24: =+'Inc Stmt'!J25 -> 24216 | G24: =+'Inc Stmt'!K25 -> 30513.8 | H24: =+'Inc Stmt'!L25 -> 35743.7 | I24: =+'Inc Stmt'!M25 -> 34712.8 | J24: =+'Inc Stmt'!N25 -> 40667.2 | K24: =+'Inc Stmt'!O25 -> 38993.7 | ... P24: =+'Inc Stmt'!T25 -> 62753.911 | Q24: Gross fixed assets | R24: =+'Bal Sheet'!H86 -> 29895.5 | S24: =+'Bal Sheet'!I86 -> 33395.1 | T24: =+'Bal Sheet'!J86 -> 33792.5 | U24: =+'Bal Sheet'!K86 -> 33908.8 | V24: =+'Bal Sheet'!L86 -> 33939.2 | W24: =+'Bal Sheet'!M86 -> 38288.5 | X24: =+'Bal Sheet'!N86 -> 40770.4 | Y24: =+'Bal Sheet'!O86 -> 41009.1 | ... AD24: =+'Bal Sheet'!T86 -> 58902.5
A25: Growth (%) | B25: - | C25: - | D25: - | E25: =+(E24/D24-1)*100 -> -5.7979808 | F25: =+(F24/E24-1)*100 -> 143.69773 | G25: =+(G24/F24-1)*100 -> 26.006772 | H25: =+(H24/G24-1)*100 -> 17.139458 | I25: =+(I24/H24-1)*100 -> -2.8841446 | J25: =+(J24/I24-1)*100 -> 17.153327 | K25: =+(K24/J24-1)*100 -> -4.11511 | L25: =+(L24/K24-1)*100 -> 14.756486 | ... P25: =+(P24/O24-1)*100 -> 10.462869 | Q25: Net fixed assets | R25: =+'Bal Sheet'!H88 -> 12627.6 | S25: =+'Bal Sheet'!I88 -> 15301.2 | T25: =+'Bal Sheet'!J88 -> 14795.9 | U25: =+'Bal Sheet'!K88 -> 14784.3 | V25: =+'Bal Sheet'!L88 -> 14795.9 | W25: =+'Bal Sheet'!M88 -> 18044.3 | X25: =+'Bal Sheet'!N88 -> 20060.4 | Y25: =+'Bal Sheet'!O88 -> 19172.4 | ... AD25: =+'Bal Sheet'!T88 -> 21176.08
A26: Interest | B26: - | C26: - | D26: =+'Inc Stmt'!H27 -> 51.6 | E26: =+'Inc Stmt'!I27 -> 218.9 | F26: =+'Inc Stmt'!J27 -> 59.8 | G26: =+'Inc Stmt'!K27 -> 16.9 | H26: =+'Inc Stmt'!L27 -> 222.4 | I26: =+'Inc Stmt'!M27 -> 5.4 | J26: =+'Inc Stmt'!N27 -> 5.4 | K26: =+'Inc Stmt'!O27 -> 64.9 | ... P26: =+'Inc Stmt'!T27 -> 10 | Q26: CWIP | R26: =+'Bal Sheet'!H89 -> 347.4 | S26: =+'Bal Sheet'!I89 -> 220.6 | T26: =+'Bal Sheet'!J89 -> 415.2 | U26: =+'Bal Sheet'!K89 -> 698.6 | V26: =+'Bal Sheet'!L89 -> 416.5 | W26: =+'Bal Sheet'!M89 -> 2935.5 | X26: =+'Bal Sheet'!N89 -> 1440.6 | Y26: =+'Bal Sheet'!O89 -> 2549.4 | ... AD26: =+'Bal Sheet'!T89 -> 522.4
A27: Other income | B27: - | C27: - | D27: =+'Inc Stmt'!H28+'Inc Stmt'!H29 -> 446.9 | E27: =+'Inc Stmt'!I28+'Inc Stmt'!I29 -> -832 | F27: =+'Inc Stmt'!J28+'Inc Stmt'!J29 -> -44.9 | G27: =+'Inc Stmt'!K28+'Inc Stmt'!K29 -> 13010.6 | H27: =+'Inc Stmt'!L28+'Inc Stmt'!L29 -> 4740.4 | I27: =+'Inc Stmt'!M28+'Inc Stmt'!M29 -> 5472 | J27: =+'Inc Stmt'!N28+'Inc Stmt'!N29 -> 6118.2 | K27: =+'Inc Stmt'!O28+'Inc Stmt'!O29 -> 2324.9 | ... P27: =+'Inc Stmt'!T28+'Inc Stmt'!T29 -> 14193.775 | Q27: Intangible assets | R27: =+'Bal Sheet'!H16 -> 105.3 | S27: =+'Bal Sheet'!I16 -> 162.6 | T27: =+'Bal Sheet'!J16 -> 0 | U27: =+'Bal Sheet'!K16 -> 42.8 | V27: =+'Bal Sheet'!L16 -> 21.4 | W27: =+'Bal Sheet'!M16 -> 0 | X27: =+'Bal Sheet'!N16 -> 0 | Y27: =+'Bal Sheet'!O16 -> 0 | ... AD27: =+'Bal Sheet'!T16 -> 0
A28: EBT | B28: - | C28: - | D28: =+'Inc Stmt'!H30 -> 10943.8 | E28: =+'Inc Stmt'!I30 -> 8886 | F28: =+'Inc Stmt'!J30 -> 24111.3 | G28: =+'Inc Stmt'!K30 -> 43507.5 | H28: =+'Inc Stmt'!L30 -> 40261.7 | I28: =+'Inc Stmt'!M30 -> 40179.4 | J28: =+'Inc Stmt'!N30 -> 46780 | K28: =+'Inc Stmt'!O30 -> 41253.7 | ... P28: =+'Inc Stmt'!T30 -> 76937.686 | Q28: Deferred tax assets, net | R28: =+'Bal Sheet'!H18 -> -109.8 | S28: =+'Bal Sheet'!I18 -> 221.7 | T28: =+'Bal Sheet'!J18 -> -16.9 | U28: =+'Bal Sheet'!K18 -> -297.1 | V28: =+'Bal Sheet'!L18 -> -484.4 | W28: =+'Bal Sheet'!M18 -> -1151 | X28: =+'Bal Sheet'!N18 -> -1431.8 | Y28: =+'Bal Sheet'!O18 -> -1415.8 | ... AD28: =+'Bal Sheet'!T18 -> -1882.5
A29: Income taxes | B29: - | C29: - | D29: =+'Inc Stmt'!H32 -> 3684.2 | E29: =+'Inc Stmt'!I32 -> 2888.8 | F29: =+'Inc Stmt'!J32 -> 7075 | G29: =+'Inc Stmt'!K32 -> 10110.2 | H29: =+'Inc Stmt'!L32 -> 10221.2 | I29: =+'Inc Stmt'!M32 -> 12226.6 | J29: =+'Inc Stmt'!N32 -> 13901 | K29: =+'Inc Stmt'!O32 -> 12710.5 | ... P29: =+'Inc Stmt'!T32 -> 22311.929 | Q29: Other assets | R29: =+'Bal Sheet'!H20+'Bal Sheet'!H19 -> 3258.1 | S29: =+'Bal Sheet'!I20+'Bal Sheet'!I19 -> 5505.3 | T29: =+'Bal Sheet'!J20+'Bal Sheet'!J19 -> 0 | U29: =+'Bal Sheet'!K20+'Bal Sheet'!K19 -> 0 | V29: =+'Bal Sheet'!L20+'Bal Sheet'!L19 -> 0 | W29: =+'Bal Sheet'!M20+'Bal Sheet'!M19 -> 0 | X29: =+'Bal Sheet'!N20+'Bal Sheet'!N19 -> 0 | Y29: =+'Bal Sheet'!O20+'Bal Sheet'!O19 -> 0.4 | ... AD29: =+'Bal Sheet'!T20+'Bal Sheet'!T19 -> 0
A30: Effective tax rate (%) | B30: - | C30: - | D30: =+D29/D28% -> 33.664723 | E30: =+E29/E28% -> 32.509566 | F30: =+F29/F28% -> 29.343088 | G30: =+G29/G28% -> 23.237833 | H30: =+H29/H28% -> 25.386906 | I30: =+I29/I28% -> 30.430021 | J30: =+J29/J28% -> 29.71569 | K30: =+K29/K28% -> 30.81057 | ... P30: =+P29/P28% -> 29 | Q30: Total assets | R30: =+SUM(R19:R29)-R24 -> 48541.7 | S30: =+SUM(S19:S29)-S24 -> 58662.5 | T30: =+SUM(T19:T29)-T24 -> 85418.9 | U30: =+SUM(U19:U29)-U24 -> 91906.5 | V30: =+SUM(V19:V29)-V24 -> 110326.6 | W30: =+SUM(W19:W29)-W24 -> 123635.6 | X30: =+SUM(X19:X29)-X24 -> 146044.2 | Y30: =+SUM(Y19:Y29)-Y24 -> 154207.4 | ... AD30: =+SUM(AD19:AD29)-AD24 -> 267924
A31: Extra-ordinary items | B31: - | C31: - | D31: =+'Inc Stmt'!H33 -> 0 | E31: =+'Inc Stmt'!I33 -> 0 | F31: =+'Inc Stmt'!J33 -> 0 | G31: =+'Inc Stmt'!K33 -> 0 | H31: =+'Inc Stmt'!L33 -> 0 | I31: =+'Inc Stmt'!M33 -> 2482.9 | J31: =+'Inc Stmt'!N33 -> -446.3 | K31: =+'Inc Stmt'!O33 -> -405.8 | ... P31: =+'Inc Stmt'!T33 -> 0 | Q31: Accounts payable | R31: =+'Bal Sheet'!H135 -> 9509.1 | S31: =+'Bal Sheet'!I135 -> 12339.5 | T31: =+'Bal Sheet'!J135 -> 15712 | U31: =+'Bal Sheet'!K135 -> 19430.8 | V31: =+'Bal Sheet'!L135 -> 17240.8 | W31: =+'Bal Sheet'!M135 -> 19796.1 | X31: =+'Bal Sheet'!N135 -> 21114 | Y31: =+'Bal Sheet'!O135 -> 17997.5 | ... AD31: =+'Bal Sheet'!T135 -> 19990.002
A32: Min int / inc from assoc | B32: - | C32: - | D32: =+'Inc Stmt'!H34+'Inc Stmt'!H35 -> 223 | E32: =+'Inc Stmt'!I34+'Inc Stmt'!I35 -> -626.9 | F32: =+'Inc Stmt'!J34+'Inc Stmt'!J35 -> 0 | G32: =+'Inc Stmt'!K34+'Inc Stmt'!K35 -> 0 | H32: =+'Inc Stmt'!L34+'Inc Stmt'!L35 -> 0 | I32: =+'Inc Stmt'!M34+'Inc Stmt'!M35 -> 0 | J32: =+'Inc Stmt'!N34+'Inc Stmt'!N35 -> 0 | K32: =+'Inc Stmt'!O34+'Inc Stmt'!O35 -> 0 | ... P32: =+'Inc Stmt'!T34+'Inc Stmt'!T35 -> 0 | Q32: Other current liabilities | R32: =+'Bal Sheet'!H140-'Bal Sheet'!H135 -> 987.9 | S32: =+'Bal Sheet'!I140-'Bal Sheet'!I135 -> 0 | T32: =+'Bal Sheet'!J140-'Bal Sheet'!J135 -> 4550.5 | U32: =+'Bal Sheet'!K140-'Bal Sheet'!K135 -> 4835.7 | V32: =+'Bal Sheet'!L140-'Bal Sheet'!L135 -> 9951.1 | W32: =+'Bal Sheet'!M140-'Bal Sheet'!M135 -> 6682.2 | X32: =+'Bal Sheet'!N140-'Bal Sheet'!N135 -> 8535.7 | Y32: =+'Bal Sheet'!O140-'Bal Sheet'!O135 -> 8250.02 | ... AD32: =+'Bal Sheet'!T140-'Bal Sheet'!T135 -> 0
A33: Reported net income | B33: - | C33: - | D33: =+'Inc Stmt'!H36 -> 7495.6 | E33: =+'Inc Stmt'!I36 -> 5379.3 | F33: =+'Inc Stmt'!J36 -> 17036.3 | G33: =+'Inc Stmt'!K36 -> 33397.3 | H33: =+'Inc Stmt'!L36 -> 30040.5 | I33: =+'Inc Stmt'!M36 -> 30435.7 | J33: =+'Inc Stmt'!N36 -> 32432.7 | K33: =+'Inc Stmt'!O36 -> 28137.4 | ... P33: =+'Inc Stmt'!T36 -> 54625.757 | Q33: Provisions | R33: =+'Bal Sheet'!H24 -> 8341.3 | S33: =+'Bal Sheet'!I24 -> 12241.5 | T33: =+'Bal Sheet'!J24 -> 22487.2 | U33: =+'Bal Sheet'!K24 -> 15286.3 | V33: =+'Bal Sheet'!L24 -> 21748.9 | W33: =+'Bal Sheet'!M24 -> 17424.7 | X33: =+'Bal Sheet'!N24 -> 19736.9 | Y33: =+'Bal Sheet'!O24 -> 19920.1 | ... AD33: =+'Bal Sheet'!T24 -> 27340.856
A34: Adjustments | B34: - | C34: - | D34: =+'Inc Stmt'!H38 -> -446.7412 | E34: =+'Inc Stmt'!I38 -> -1992.07 | F34: =+'Inc Stmt'!J38 -> -1051.005 | G34: =+'Inc Stmt'!K38 -> 7245.5 | H34: =+'Inc Stmt'!L38 -> 0 | I34: =+'Inc Stmt'!M38 -> 2482.9 | J34: =+'Inc Stmt'!N38 -> -446.3 | K34: =+'Inc Stmt'!O38 -> -3808.7 | ... P34: =+'Inc Stmt'!T38 -> 0 | Q34: Debt funds | R34: =+'Bal Sheet'!H25+'Bal Sheet'!H26 -> 13463.8 | S34: =+'Bal Sheet'!I25+'Bal Sheet'!I26 -> 15953.6 | T34: =+'Bal Sheet'!J25+'Bal Sheet'!J26 -> 13385.6 | U34: =+'Bal Sheet'!K25+'Bal Sheet'!K26 -> 3251.5 | V34: =+'Bal Sheet'!L25+'Bal Sheet'!L26 -> 974.8 | W34: =+'Bal Sheet'!M25+'Bal Sheet'!M26 -> 712.7 | X34: =+'Bal Sheet'!N25+'Bal Sheet'!N26 -> 577.4 | Y34: =+'Bal Sheet'!O25+'Bal Sheet'!O26 -> 1118.28 | ... AD34: =+'Bal Sheet'!T25+'Bal Sheet'!T26 -> 1624.8
A35: Adjusted net income | B35: - | C35: - | D35: =+'Inc Stmt'!H40 -> 7942.3412 | E35: =+'Inc Stmt'!I40 -> 6773.749 | F35: =+'Inc Stmt'!J40 -> 17772.003 | G35: =+'Inc Stmt'!K40 -> 28325.45 | H35: =+'Inc Stmt'!L40 -> 30040.5 | I35: =+'Inc Stmt'!M40 -> 28697.67 | J35: =+'Inc Stmt'!N40 -> 32745.11 | K35: =+'Inc Stmt'!O40 -> 30803.49 | ... P35: =+'Inc Stmt'!T40 -> 54625.757 | Q35: Other liabilities | R35: =+'Bal Sheet'!H27+'Bal Sheet'!H28 -> 4.2 | S35: =+'Bal Sheet'!I27+'Bal Sheet'!I28 -> 0 | T35: =+'Bal Sheet'!J27+'Bal Sheet'!J28 -> 0 | U35: =+'Bal Sheet'!K27+'Bal Sheet'!K28 -> 0 | V35: =+'Bal Sheet'!L27+'Bal Sheet'!L28 -> 0 | W35: =+'Bal Sheet'!M27+'Bal Sheet'!M28 -> 0 | X35: =+'Bal Sheet'!N27+'Bal Sheet'!N28 -> 0 | Y35: =+'Bal Sheet'!O27+'Bal Sheet'!O28 -> 0 | ... AD35: =+'Bal Sheet'!T27+'Bal Sheet'!T28 -> 0
A36: Growth (%) | B36: - | C36: - | D36: - | E36: =+(E35/D35-1)*100 -> -14.713447 | F36: =+(F35/E35-1)*100 -> 162.36584 | G36: =+(G35/F35-1)*100 -> 59.382424 | H36: =+(H35/G35-1)*100 -> 6.0548023 | I36: =+(I35/H35-1)*100 -> -4.4700654 | J36: =+(J35/I35-1)*100 -> 14.103723 | K36: =+(K35/J35-1)*100 -> -5.929496 | L36: =+(L35/K35-1)*100 -> 27.572233 | ... P36: =+(P35/O35-1)*100 -> 7.2208242 | Q36: Equity capital | R36: =+'Bal Sheet'!H173+'Bal Sheet'!H177 -> 2893.6702 | S36: =+'Bal Sheet'!I173+'Bal Sheet'!I177 -> 2893.6702 | T36: =+'Bal Sheet'!J173+'Bal Sheet'!J177 -> 2893.6702 | U36: =+'Bal Sheet'!K173+'Bal Sheet'!K177 -> 2893.6702 | V36: =+'Bal Sheet'!L173+'Bal Sheet'!L177 -> 2893.6702 | W36: =+'Bal Sheet'!M173+'Bal Sheet'!M177 -> 2893.6702 | X36: =+'Bal Sheet'!N173+'Bal Sheet'!N177 -> 2893.6702 | Y36: =+'Bal Sheet'!O173+'Bal Sheet'!O177 -> 2893.7 | ... AD36: =+'Bal Sheet'!T173+'Bal Sheet'!T177 -> 2893.6702
A37: Shares outstanding (mn) | B37: - | C37: - | D37: =+'Inc Stmt'!H45 -> 289.36702 | E37: =+'Inc Stmt'!I45 -> 289.36702 | F37: =+'Inc Stmt'!J45 -> 289.36702 | G37: =+'Inc Stmt'!K45 -> 289.36702 | H37: =+'Inc Stmt'!L45 -> 289.36702 | I37: =+'Inc Stmt'!M45 -> 289.36702 | J37: =+'Inc Stmt'!N45 -> 289.36702 | K37: =+'Inc Stmt'!O45 -> 289.36702 | ... P37: =+'Inc Stmt'!T45 -> 289.36702 | Q37: Reserves & surplus | R37: =+'Bal Sheet'!H186-'Bal Sheet'!H177 -> 13342.065 | S37: =+'Bal Sheet'!I186-'Bal Sheet'!I177 -> 15234.265 | T37: =+'Bal Sheet'!J186-'Bal Sheet'!J177 -> 26389.865 | U37: =+'Bal Sheet'!K186-'Bal Sheet'!K177 -> 46208.5 | V37: =+'Bal Sheet'!L186-'Bal Sheet'!L177 -> 57517 | W37: =+'Bal Sheet'!M186-'Bal Sheet'!M177 -> 76125.8 | X37: =+'Bal Sheet'!N186-'Bal Sheet'!N177 -> 93186.5 | Y37: =+'Bal Sheet'!O186-'Bal Sheet'!O177 -> 104027.8 | ... AD37: =+'Bal Sheet'!T186-'Bal Sheet'!T177 -> 235067.33
A38: EPS (Rs) | B38: - | C38: - | D38: =+'Inc Stmt'!H57 -> 28.467173 | E38: =+'Inc Stmt'!I57 -> 23.408849 | F38: =+'Inc Stmt'!J57 -> 61.416825 | G38: =+'Inc Stmt'!K57 -> 97.887624 | H38: =+'Inc Stmt'!L57 -> 103.81453 | I38: =+'Inc Stmt'!M57 -> 99.173949 | J38: =+'Inc Stmt'!N57 -> 113.16117 | K38: =+'Inc Stmt'!O57 -> 106.45128 | ... P38: =+'Inc Stmt'!T57 -> 0 | Q38: Shareholder's funds | R38: =+R37+R36 -> 16235.735 | S38: =+S37+S36 -> 18127.935 | T38: =+T37+T36 -> 29283.535 | U38: =+U37+U36 -> 49102.17 | V38: =+V37+V36 -> 60410.67 | W38: =+W37+W36 -> 79019.47 | X38: =+X37+X36 -> 96080.17 | Y38: =+Y37+Y36 -> 106921.5 | ... AD38: =+AD37+AD36 -> 237961
A39: Growth (%) | B39: - | C39: - | D39: - | E39: =+(E38/D38-1)*100 -> -17.76897 | F39: =+(F38/E38-1)*100 -> 162.36584 | G39: =+(G38/F38-1)*100 -> 59.382424 | H39: =+(H38/G38-1)*100 -> 6.0548023 | I39: =+(I38/H38-1)*100 -> -4.4700654 | J39: =+(J38/I38-1)*100 -> 14.103723 | K39: =+(K38/J38-1)*100 -> -5.929496 | L39: =+(L38/K38-1)*100 -> 27.572233 | ... P39: =+(P38/O38-1)*100 -> #DIV/0! | Q39: Total liabilities | R39: =+R38+SUM(R31:R35) -> 48542.035 | S39: =+S38+SUM(S31:S35) -> 58662.535 | T39: =+T38+SUM(T31:T35) -> 85418.835 | U39: =+U38+SUM(U31:U35) -> 91906.47 | V39: =+V38+SUM(V31:V35) -> 110326.27 | W39: =+W38+SUM(W31:W35) -> 123635.17 | X39: =+X38+SUM(X31:X35) -> 146044.17 | Y39: =+Y38+SUM(Y31:Y35) -> 154207.4 | ... AD39: =+AD38+SUM(AD31:AD35) -> 286916.66
A40: DPS (Rs) | B40: - | C40: - | D40: =+'Inc Stmt'!H62 -> 10 | E40: =+'Inc Stmt'!I62 -> 11 | F40: =+'Inc Stmt'!J62 -> 19.99986 | G40: =+'Inc Stmt'!K62 -> 40.000066 | H40: =+'Inc Stmt'!L62 -> 44.999945 | I40: =+'Inc Stmt'!M62 -> 45 | J40: =+'Inc Stmt'!N62 -> 50 | K40: =+'Inc Stmt'!O62 -> 50 | ... P40: =+'Inc Stmt'!T62 -> 75 | Q40: BVPS (Rs) | R40: =+'Ratio Sheet'!H62 -> 56.107759 | S40: =+'Ratio Sheet'!I62 -> 62.64686 | T40: =+'Ratio Sheet'!J62 -> 101.19859 | U40: =+'Ratio Sheet'!K62 -> 169.6882 | V40: =+'Ratio Sheet'!L62 -> 208.76833 | W40: =+'Ratio Sheet'!M62 -> 273.07697 | X40: =+'Ratio Sheet'!N62 -> 332.03566 | Y40: =+'Ratio Sheet'!O62 -> 369.50133 | ... AD40: =+'Ratio Sheet'!T62 -> 0
A42: CPS | E42: =(S19-S34+SUM('Bal Sheet'!I109:I112))/'Summary Financials'!E37 -> -12.323104 | F42: =(T19-T34+SUM('Bal Sheet'!J109:J112))/'Summary Financials'!F37 -> 68.276267 | G42: =(U19-U34+SUM('Bal Sheet'!K109:K112))/'Summary Financials'!G37 -> 141.02402 | H42: =(V19-V34+SUM('Bal Sheet'!L109:L112))/'Summary Financials'!H37 -> 187.48785 | I42: =(W19-W34+SUM('Bal Sheet'!M109:M112))/'Summary Financials'!I37 -> 201.84056 | J42: =(X19-X34+SUM('Bal Sheet'!N109:N112))/'Summary Financials'!J37 -> 275.36552 | K42: =(Y19-Y34+SUM('Bal Sheet'!O109:O112))/'Summary Financials'!K37 -> 297.49216 | L42: =(Z19-Z34+SUM('Bal Sheet'!P109:P112))/'Summary Financials'!L37 -> 317.60703 | ... P42: =(AD19-AD34+SUM('Bal Sheet'!T109:T112))/'Summary Financials'!P37 -> 664.01416 | Q42: Cash CHECK | S42: =+IF(ROUND(S19-E60,0)<>0,"Error",0) -> 0 | T42: =+IF(ROUND(T19-F60,0)<>0,"Error",0) -> 0 | U42: =+IF(ROUND(U19-G60,0)<>0,"Error",0) -> 0 | V42: =+IF(ROUND(V19-H60,0)<>0,"Error",0) -> 0 | W42: =+IF(ROUND(W19-I60,0)<>0,"Error",0) -> 0 | X42: =+IF(ROUND(X19-J60,0)<>0,"Error",0) -> 0 | Y42: =+IF(ROUND(Y19-K60,0)<>0,"Error",0) -> 0 | Z42: =+IF(ROUND(Z19-L60,0)<>0,"Error",0) -> 0 | ... AD42: =+IF(ROUND(AD19-P60,0)<>0,"Error",0) -> Error
...

Sheet DCF
B2: Discounted cash flow analysis, FY 2018- FY 2025
B3: (All figures in Rs mn, unless specified) | C3: FY12A | D3: FY13E | E3: FY14E | F3: FY15E | G3: FY16E | H3: FY17E | I3: FY18E | J3: FY19E | K3: FY20E | L3: FY21E | M3: FY22E | N3: FY23E | O3: FY24E | P3: FY25E
B4: Key financial data | R4: 7 year CAGR
B5: Volumes ('000) | C5: =+'Driver Sheet'!H59/1000 -> 4349.56 | D5: =+'Driver Sheet'!I59/1000 -> 4237.151 | E5: =+'Driver Sheet'!J59/1000 -> 3870.077 | F5: =+'Driver Sheet'!K59/1000 -> 3811.201 | G5: =+'Driver Sheet'!L59/1000 -> 3872.025 | H5: =+'Driver Sheet'!M59/1000 -> 3639.81 | I5: =+'Driver Sheet'!N59/1000 -> 4095.2643 | J5: =I5*(1+J6/100) -> 4504.7908 | K5: =J5*(1+K6/100) -> 4955.2698 | L5: =K5*(1+L6/100) -> 5450.7968 | M5: =L5*(1+M6/100) -> 5995.8765 | N5: =M5*(1+N6/100) -> 6595.4642 | O5: =N5*(1+O6/100) -> 7255.0106 | P5: =O5*(1+P6/100) -> 7980.5116 | Q5: Calculation here | R5: =((P5/I5)^(1/10)-1)*100 -> 6.8993045
B6: % YoY | D6: =+(D5/C5-1)*100 -> -2.5843764 | E6: =+(E5/D5-1)*100 -> -8.6632268 | F6: =+(F5/E5-1)*100 -> -1.5213134 | G6: =+(G5/F5-1)*100 -> 1.5959274 | H6: =+(H5/G5-1)*100 -> -5.9972495 | I6: =+(I5/H5-1)*100 -> 12.513135 | J6: 10 | K6: 10 | L6: 10 | M6: 10 | N6: 10 | O6: 10 | P6: 10 | Q6: Assumptions here
B7: Avg. realisation | C7: =+C9*10^3/C5 -> 44898.748 | D7: =+D9*10^3/D5 -> 47195.037 | E7: =+E9*10^3/E5 -> 52064.881 | F7: =+F9*10^3/F5 -> 56706.56 | G7: =+G9*10^3/G5 -> 58332.578 | H7: =+H9*10^3/H5 -> 59801.693 | I7: =+I9*10^3/I5 -> 64065.127 | J7: =I7*(1+J8/100) -> 65987.081 | K7: =J7*(1+K8/100) -> 67966.693 | L7: =K7*(1+L8/100) -> 70005.694 | M7: =L7*(1+M8/100) -> 72105.865 | N7: =M7*(1+N8/100) -> 74269.041 | O7: =N7*(1+O8/100) -> 76497.112 | P7: =O7*(1+P8/100) -> 78792.025 | Q7: Calculation here
B8: % YoY | D8: =+(D7/C7-1)*100 -> 5.1143721 | E8: =+(E7/D7-1)*100 -> 10.318551 | F8: =+(F7/E7-1)*100 -> 8.9151823 | G8: =+(G7/F7-1)*100 -> 2.8674238 | H8: =+(H7/G7-1)*100 -> 2.5185155 | I8: =+(I7/H7-1)*100 -> 7.1292864 | J8: 3 | K8: 3 | L8: 3 | M8: 3 | N8: 3 | O8: 3 | P8: 3 | Q8: Assumptions here
B9: Revenues | C9: =+'Inc Stmt'!L9 -> 195289.8 | D9: =+'Inc Stmt'!M9 -> 199972.5 | E9: =+'Inc Stmt'!N9 -> 201495.1 | F9: =+'Inc Stmt'!O9 -> 216120.1 | G9: =+'Inc Stmt'!P9 -> 225865.2 | H9: =+'Inc Stmt'!Q9 -> 217666.8 | I9: =+'Inc Stmt'!R9 -> 262363.63 | J9: =+J7*J5/10^3 -> 297257.99 | K9: =+K7*K5/10^3 -> 336793.3 | L9: =+L7*L5/10^3 -> 381586.81 | M9: =+M7*M5/10^3 -> 432337.86 | N9: =+N7*N5/10^3 -> 489838.8 | O9: =+O7*O5/10^3 -> 554987.36 | P9: =+P7*P5/10^3 -> 628800.67
B10: % YoY | D10: =+(D9/C9-1)*100 -> 2.3978211 | E10: =+(E9/D9-1)*100 -> 0.76140469 | F10: =+(F9/E9-1)*100 -> 7.258241 | G10: =+(G9/F9-1)*100 -> 4.5091132 | H10: =+(H9/G9-1)*100 -> -3.6297756 | I10: =+(I9/H9-1)*100 -> 20.534518 | J10: =+(J9/I9-1)*100 -> 13.3 | K10: =+(K9/J9-1)*100 -> 13.3 | ... P10: =+(P9/O9-1)*100 -> 13.3
B11: EBITDA | C11: =+'Inc Stmt'!L21 -> 37199.9 | D11: =+'Inc Stmt'!M21 -> 36380.5 | E11: =+'Inc Stmt'!N21 -> 42463.3 | F11: =+'Inc Stmt'!O21 -> 41667.7 | G11: =+'Inc Stmt'!P21 -> 47819.4 | H11: =+'Inc Stmt'!Q21 -> 44223.5 | I11: =+'Inc Stmt'!R21 -> 51977.351 | J11: =J12*J9 -> 56479.018 | K11: =K12*K9 -> 63990.728 | L11: =L12*L9 -> 68685.627 | M11: =M12*M9 -> 77820.815 | N11: =N12*N9 -> 88170.983 | O11: =O12*O9 -> 99897.724 | P11: =P12*P9 -> 113184.12 | Q11: Calculation here
B12: EBITDA margin | C12: =C11/C9 -> 0.19048563 | D12: =D11/D9 -> 0.18192752 | E12: =E11/E9 -> 0.2107411 | F12: =F11/F9 -> 0.19279882 | G12: =G11/G9 -> 0.21171655 | H12: =H11/H9 -> 0.20317063 | I12: =I11/I9 -> 0.19811188 | J12: 0.19 | K12: =J12 -> 0.19 | L12: 0.18 | M12: 0.18 | N12: 0.18 | O12: 0.18 | P12: 0.18 | Q12: Assumptions here
B13: Gross Block | C13: =+'Bal Sheet'!L86 -> 33939.2 | D13: =+'Bal Sheet'!M86 -> 38288.5 | E13: =+'Bal Sheet'!N86 -> 40770.4 | F13: =+'Bal Sheet'!O86 -> 41009.1 | G13: =+'Bal Sheet'!P14+'Bal Sheet'!P18 -> 38939.2 | H13: =+'Bal Sheet'!Q14+'Bal Sheet'!Q18 -> 33755.97 | I13: =+'Bal Sheet'!R14+'Bal Sheet'!R18 -> 36523.445 | J13: =I13+5000 -> 41523.445 | K13: =J13+K14 -> 47523.445 | L13: =K13+L14 -> 54523.445 | M13: =L13+M14 -> 62523.445 | N13: =M13+N14 -> 71523.445 | O13: =N13+O14 -> 81523.445 | P13: =O13+P14 -> 92523.445 | Q13: Calculation here
B14: Capex | C14: =-'Fixed Assets'!M70 -> -14795.9 | D14: =-'Fixed Assets'!N70 -> -18044.3 | E14: =-'Fixed Assets'!O70 -> -20060.4 | F14: =-'Fixed Assets'!P70 -> -19172.4 | G14: =-'Fixed Assets'!Q70 -> -20256.7 | H14: =-'Fixed Assets'!R70 -> -20183.8 | I14: =I28 -> -4000 | J14: 5000 | K14: =J14+1000 -> 6000 | L14: =K14+1000 -> 7000 | M14: =L14+1000 -> 8000 | N14: =M14+1000 -> 9000 | O14: =N14+1000 -> 10000 | P14: =O14+1000 -> 11000 | Q14: Assumptions here
B15: Depreciation and amortization | C15: =+'Inc Stmt'!L12 -> 0 | D15: =+'Inc Stmt'!M12 -> 0 | E15: =+'Inc Stmt'!N12 -> 0 | F15: =+'Inc Stmt'!O12 -> 0 | G15: =+'Inc Stmt'!P12 -> 0 | H15: =+H7*0.046 -> 2750.8779 | I15: =+I13*0.046 -> 1680.0784 | J15: =J13*4.6% -> 1910.0784 | K15: =K13*4.6% -> 2186.0784 | L15: =L13*4.6% -> 2508.0784 | M15: =M13*4.6% -> 2876.0784 | N15: =N13*4.6% -> 3290.0784 | O15: =O13*4.6% -> 3750.0784 | P15: =P13*4.6% -> 4256.0784 | Q15: Assumption with Calculation here
B16: EBIT | C16: =+'Inc Stmt'!L25 -> 35743.7 | D16: =+'Inc Stmt'!M25 -> 34712.8 | E16: =+'Inc Stmt'!N25 -> 40667.2 | F16: =+'Inc Stmt'!O25 -> 38993.7 | G16: =+G11-G26 -> 44747.8 | H16: =+H11-H26 -> 42670.725 | I16: =+I11-I15 -> 50297.273 | J16: =J11-J15 -> 54568.94 | K16: =K11-K15 -> 61804.649 | L16: =L11-L15 -> 66177.548 | M16: =M11-M15 -> 74944.736 | N16: =N11-N15 -> 84880.905 | O16: =O11-O15 -> 96147.646 | P16: =P11-P15 -> 108928.04 | Q16: Calculation here
B17: EBIT margin | C17: =C16/C9 -> 0.18302902 | D17: =D16/D9 -> 0.17358787 | E17: =E16/E9 -> 0.20182724 | F17: =F16/F9 -> 0.18042607 | G17: =G16/G9 -> 0.19811728 | H17: =H16/H9 -> 0.1960369 | I17: =I16/I9 -> 0.19170825
B18: Net income | C18: =+'Inc Stmt'!L40 -> 30040.5 | D18: =+'Inc Stmt'!M40 -> 28697.67 | E18: =+'Inc Stmt'!N40 -> 32745.11 | F18: =+'Inc Stmt'!O40 -> 30803.49 | G18: =+'Inc Stmt'!P40 -> 39296.7
B19: Cash & cash equivalent | C19: =+'Bal Sheet'!L13+'Bal Sheet'!L17 -> 65366.7 | D19: =+'Bal Sheet'!M13+'Bal Sheet'!M17 -> 69893.4 | E19: =+'Bal Sheet'!N13+'Bal Sheet'!N17 -> 90451.1 | F19: =+'Bal Sheet'!O13+'Bal Sheet'!O17 -> 97394.7 | G19: =+'Bal Sheet'!P13+'Bal Sheet'!P17 -> 103721.8
B20: Tax Rate | C20: =+'Inc Stmt'!L29 -> 0 | D20: =+'Inc Stmt'!M29 -> 0 | E20: =+'Inc Stmt'!N29 -> 0 | F20: =+'Inc Stmt'!O29 -> -3402.9 | G20: =+G15-G30 -> -1 | H20: =+H15-H30 -> 2749.8779 | I20: 0.33 | J20: =I20 -> 0.33 | K20: =J20 -> 0.33 | L20: =K20 -> 0.33 | M20: =L20 -> 0.33 | N20: =M20 -> 0.33 | O20: =N20 -> 0.33 | P20: =O20 -> 0.33 | Q20: Calculation here
B21: Debt
B22: Shareholder’s equity | C22: =+'Bal Sheet'!L29 -> 60410.67 | D22: =+'Bal Sheet'!M29 -> 79019.47 | E22: =+'Bal Sheet'!N29 -> 96080.17 | F22: =+'Bal Sheet'!O29 -> 106921.5 | G22: =+'Bal Sheet'!P29 -> 122916.57
B24: Free cash flow (FCF) analysis
B25: NOPLAT | C25: =C16*(1-$N$58) -> 23948.279 | D25: =D16*(1-$N$58) -> 23257.576 | E25: =E16*(1-$N$58) -> 27247.024 | F25: =F16*(1-$N$58) -> 26125.779 | G25: =G16*(1-$N$58) -> 29981.026 | H25: =H16*(1-$N$58) -> 28589.386 | I25: =I16*(1-$I$20) -> 33699.173 | J25: =J16*(1-J20) -> 36561.19 | K25: =K16*(1-K20) -> 41409.115 | L25: =L16*(1-L20) -> 44338.957 | M25: =M16*(1-M20) -> 50212.973 | N25: =N16*(1-N20) -> 56870.206 | O25: =O16*(1-O20) -> 64418.922 | P25: =P16*(1-P20) -> 72981.789 | Q25: Calculation here
B26: Depreciation and amortization | C26: =+'Inc Stmt'!L23 -> 1456.2 | D26: =+'Inc Stmt'!M23 -> 1667.7 | E26: =+'Inc Stmt'!N23 -> 1796.1 | F26: =+'Inc Stmt'!O23 -> 2674 | G26: =+'Inc Stmt'!P23 -> 3071.6 | H26: =+H13*0.046 -> 1552.7746 | I26: =+I13*0.046 -> 1680.0784 | J26: =+J13*0.046 -> 1910.0784 | K26: =+K13*0.046 -> 2186.0784 | L26: =+L13*0.046 -> 2508.0784 | M26: =+M13*0.046 -> 2876.0784 | N26: =+N13*0.046 -> 3290.0784 | O26: =+O13*0.046 -> 3750.0784 | P26: =+P13*0.046 -> 4256.0784 | Q26: From above
B27: Change in working capital | C27: =+Cashflow!L26 -> 988.7 | D27: =+Cashflow!M26 -> -5011.3 | E27: =+Cashflow!N26 -> 4318.5 | F27: =+Cashflow!O26 -> -5825.2 | G27: =+Cashflow!P26 -> 5302.3 | H27: =-H9*0.005 -> -1088.334 | I27: =-I9*0.005 -> -1311.8181 | J27: =J9*0.5% -> 1486.29 | K27: =K9*0.5% -> 1683.9665 | L27: =L9*0.5% -> 1907.9341 | M27: =M9*0.5% -> 2161.6893 | N27: =N9*0.5% -> 2449.194 | O27: =O9*0.5% -> 2774.9368 | P27: =P9*0.5% -> 3144.0034 | Q27: Assumption with Calculation here
B28: Capex | C28: =-'Fixed Assets'!M84 -> -30.4 | D28: =-'Fixed Assets'!N84 -> -4349.3 | E28: =-'Fixed Assets'!O84 -> -2481.9 | F28: =-'Fixed Assets'!P84 -> -238.7 | G28: =-'Fixed Assets'!Q84 -> -2893.4 | H28: =-'Fixed Assets'!R84 -> -3000 | I28: =-'Fixed Assets'!S84 -> -4000 | J28: =J14 -> 5000 | K28: =K14 -> 6000 | L28: =L14 -> 7000 | M28: =M14 -> 8000 | N28: =N14 -> 9000 | O28: =O14 -> 10000 | P28: =P14 -> 11000 | Q28: From above
B29: FCF | C29: =SUM(C25:C28) -> 26362.779 | D29: =SUM(D25:D28) -> 15564.676 | E29: =SUM(E25:E28) -> 30879.724 | F29: =SUM(F25:F28) -> 22735.879 | G29: =SUM(G25:G28) -> 35461.526 | H29: =SUM(H25:H28) -> 26053.827 | I29: =SUM(I25:I28) -> 30067.433 | J29: =SUM(J25:J28) -> 44957.558 | ... P29: =SUM(P25:P28) -> 91381.87
B30: Discount factor | D30: =1/(1+$P$35)^D39 -> 1 | E30: =1/(1+$P$35)^E39 -> 1 | F30: =1/(1+$P$35)^F39 -> 1 | G30: =1/(1+$P$35)^G39 -> 1 | H30: =1/(1+$P$35)^H39 -> 1 | I30: =1/(1+$P$35)^I39 -> 0.88727205 | J30: =1/(1+$P$35)^J39 -> 0.7872517 | K30: =1/(1+$P$35)^K39 -> 0.69850643 | ... P30: =1/(1+$P$35)^P39 -> 0.38410895 | Q30: Calculation here
B31: PV of FCF | D31: =D29*D30 -> 15564.676 | E31: =E29*E30 -> 30879.724 | F31: =F29*F30 -> 22735.879 | G31: =G29*G30 -> 35461.526 | H31: =H29*H30 -> 26053.827 | I31: =I29*I30 -> 26677.993 | J31: =J29*J30 -> 35392.914 | K31: =K29*K30 -> 35818.823 | ... P31: =P29*P30 -> 35100.594
B34: Terminal Growth Rate | P34: 0.04
B35: WACC | P35: =N61 -> 0.12705004 | Q35: Coming from below
B38: Valuation date | C38: 42826 | D38: 41364 | E38: 41729 | F38: 42094 | G38: 42460 | H38: 42825 | I38: 43190 | J38: 43555 | K38: 43921 | L38: 44286 | M38: 44651 | N38: 45016 | O38: 45382 | P38: 45747
B39: Year fraction | C39: =YEARFRAC(C40,C38) -> 111.725 | D39: 0 | E39: 0 | F39: 0 | G39: 0 | H39: 0 | I39: =1+H39 -> 1 | J39: =1+I39 -> 2 | K39: =1+J39 -> 3 | L39: =1+K39 -> 4 | M39: =1+L39 -> 5 | N39: =1+M39 -> 6 | O39: =1+N39 -> 7 | P39: =1+O39 -> 8
B40: Valuation year | C40: 2018
B41: ROIC in FY16 | P41: 0.75
B43: Terminal cash flow calculation | L43: Assumptions
B44: Terminal Growth Rate | I44: 0.04 | J44: Assumption here | L44: Debt Premium | N44: 0
B45: Continuing Value - Last FCF | I45: =P29 -> 91381.87 | L45: Debt in FY 2012 | N45: =+'Bal Sheet'!L25 -> 974.8
B46: FCF - Next Year | I46: =I45*(1+I44) -> 95037.145 | J46: Formula here | L46: share price - Rs | N46: 2197
B47: Terminal Value | I47: =I46/(P35-I44) -> 1091753.1 | J47: Formula here | L47: No. Shares (mn) | N47: 289.36702
...

Sheet KTM
A2: KTM
A3: Total Investment (Euro mn) | B3: 198.1
A4: Total Investment (Rs mn) | B4: =B3*80 -> 15848
A5: Value/Share (Rs) | B5: =B4/'Inc Stmt'!O49 -> 54.767817
A6: Stake held (% | B6: 0.48
A8: KTM Financials | B8: CY 2013 | C8: CY 2014 | D8: CY 2015 | E8: YoY %
A9: Volumes | B9: 123859 | C9: 158760 | E9: =+C9/B9-1 -> 0.28178009
A10: Revenues (Euro mn) | B10: 716.4 | C10: 864.6 | E10: =+C10/B10-1 -> 0.20686767
A11: PAT | B11: 36.5 | C11: 57.2 | E11: =+C11/B11-1 -> 0.56712329
A12: Dividend/Share (Euro) | B12: 1 | C12: 1.5 | E12: =+C12/B12-1 -> 0.5
A13: Bajaj' Share | B13: =B11*48% -> 17.52 | C13: =C11*48% -> 27.456 | E13: =+C13/B13-1 -> 0.56712329
A15: Bajaj Sales of KTM Bikes | B15: FY14 | C15: FY15 | D15: FY16 | E15: YoY %
A16: KTM Bikes Made in India | B16: 36047 | C16: 73101 | D16: 69532 | E16: =+D16/C16-1 -> -0.048822862
A17: Sold through Pro-Biking | B17: 11050 | C17: 22627 | D17: 30362 | E17: =+D17/C17-1 -> 0.34184823
A18: Exported to KTM | B18: 24016 | C18: 51009 | D18: 38926 | E18: =+D18/C18-1 -> -0.23687977
A20: KTM Mcap | B20: FY14 | C20: FY15 | D20: FY16 | E20: YoY %
A21: (Euro mn) | B21: 818 | C21: 1359 | D21: 1329 | E21: =+D21/C21-1 -> -0.022075055

Sheet  Valuation
B1: EPS
B2: FY15EPS | C2: FY16EPS | D2: FY17EPS | E2: FY18 EPS | F2: FY19 EPS
A3: EPS | B3: ='Inc Stmt'!O57 -> 106.45128 | C3: ='Inc Stmt'!P57 -> 135.80228 | D3: ='Inc Stmt'!Q57 -> 132.27354 | E3: ='Inc Stmt'!R57 -> 0 | F3: ='Inc Stmt'!S57 -> 0
A4: # of months | B4: 0 | C4: 0 | D4: 0 | E4: 0 | F4: 12
A6: Target Multiple | E6: 17
A7: Target Price | E7: =((E3*E4/12)+(F3*F4/12))*E6 -> 0
A8: Rounded Off | E8: 2900
B10: FY15E | C10: FY16E | D10: FY17E | E10: FY18E
A11: EBITDA | B11: ='Inc Stmt'!O21 -> 41667.7 | C11: ='Inc Stmt'!P21 -> 47819.4 | D11: ='Inc Stmt'!Q21 -> 44223.5 | E11: ='Inc Stmt'!R21 -> 51977.351
A12: Net Cash | B12: ='Bal Sheet'!O36 -> 86084.42 | C12: ='Bal Sheet'!P36 -> 91905 | D12: ='Bal Sheet'!Q36 -> 128877.3 | E12: ='Bal Sheet'!R36 -> 148671.8
A13: Target EV/EBITDA (x) | B13: 10 | C13: 10 | D13: 10 | E13: 10
A14: Mcap | C14: =(C11*C13)+C12 -> 570099 | D14: =(D11*D13)+D12 -> 571112.3 | E14: =(E11*E13)+E12 -> 668445.31
A15: Target Price | E15: =E14/'Inc Stmt'!R49 -> 2310.0259
A19: KTM
A20: Total Investment (Euro mn) | B20: 198.1
A21: Total Investment (Rs mn) | B21: =B20*75 -> 14857.5
A22: Value/Share (Rs) | B22: =B21/'Inc Stmt'!O49 -> 51.344828
A23: Stake held (%) | B23: 0.48
E27: 2810
E28: 2650
E29: =+E28/E27-1 -> -0.056939502

Sheet Uploader
F1: =IF(F3=12,"CY"&TEXT(F2,"YY"),"FY"&TEXT(F2,"YY")) -> FY96 | G1: =IF(G3=12,"CY"&TEXT(G2,"YY"),"FY"&TEXT(G2,"YY")) -> FY97 | H1: =IF(H3=12,"CY"&TEXT(H2,"YY"),"FY"&TEXT(H2,"YY")) -> FY98 | I1: =IF(I3=12,"CY"&TEXT(I2,"YY"),"FY"&TEXT(I2,"YY")) -> FY99 | J1: =IF(J3=12,"CY"&TEXT(J2,"YY"),"FY"&TEXT(J2,"YY")) -> FY00 | K1: =IF(K3=12,"CY"&TEXT(K2,"YY"),"FY"&TEXT(K2,"YY")) -> FY01 | L1: =IF(L3=12,"CY"&TEXT(L2,"YY"),"FY"&TEXT(L2,"YY")) -> FY02 | M1: =IF(M3=12,"CY"&TEXT(M2,"YY"),"FY"&TEXT(M2,"YY")) -> FY03 | ... AD1: =IF(AD3=12,"CY"&TEXT(AD2,"YY"),"FY"&TEXT(AD2,"YY")) -> FY20 | AF1: Q1FY07 | AG1: Q2FY07 | AH1: Q3FY07 | AI1: Q4FY07 | AJ1: Q1FY08 | AK1: Q2FY08 | AL1: Q3FY08 | AM1: Q4FY08 | AN1: Q1FY09 | AO1: Q2FY09 | AP1: Q3FY09 | AQ1: Q4FY09 | AR1: Q1FY10 | AS1: Q2FY10 | AT1: Q3FY10 | AU1: Q4FY10 | AV1: Q1FY11 | AW1: Q2FY11 | AX1: Q3FY11 | AY1: Q4FY11 | AZ1: Q1FY12 | BA1: Q2FY12 | BB1: Q3FY12 | BC1: Q4FY12 | BD1: Q1FY13 | BE1: Q2FY13 | BF1: Q3FY13 | BG1: Q4FY13 | BH1: Q1FY14 | BI1: Q2FY14 | BJ1: Q3FY14 | BK1: Q4FY14 | BL1: Q1FY15 | BM1: Q2FY15 | BN1: Q3FY15 | BO1: Q4FY15 | BP1: Q1FY16 | BQ1: Q2FY16 | BR1: Q3FY16 | BS1: Q4FY16 | BT1: Q1FY17 | BU1: Q2FY17 | BV1: Q3FY17 | BW1: Q4FY17
C2: Full balance date (don't use text format) | F2: 35155 | G2: 35520 | H2: 35885 | I2: 36250 | J2: 36616 | K2: 36981 | L2: 37346 | M2: 37711 | N2: 38077 | O2: 38442 | P2: 38807 | Q2: 39172 | R2: 39538 | S2: 39903 | T2: 40268 | U2: 40633 | V2: 40999 | W2: 41364 | X2: 41729 | Y2: 42094 | Z2: 42460 | AA2: 42825 | AB2: 43190 | AC2: 43555 | AD2: 43921 | AF2: 38898 | AG2: 38990 | AH2: 39082 | AI2: 39172 | AJ2: 39263 | AK2: 39355 | AL2: 39447 | AM2: 39538 | AN2: 39629 | AO2: 39721 | AP2: 39813 | AQ2: 39903 | AR2: 39994 | AS2: 40086 | AT2: 40178 | AU2: 40268 | AV2: 40359 | AW2: 40451 | AX2: 40543 | AY2: 40633 | AZ2: 40724 | BA2: 40816 | BB2: 40908 | BC2: 40999 | BD2: 41090 | BE2: 41182 | BF2: 41274 | BG2: 41364 | BH2: 41455 | BI2: 41547 | BJ2: 41639 | BK2: 41729 | BL2: 41820 | BM2: 41912 | BN2: 42004 | BO2: 42094 | BP2: 42185 | BQ2: 42277 | BR2: 42369 | BS2: 42460 | BT2: 42551 | BU2: 42643 | BV2: 42734 | BW2: 42825
C3: Year end | D3: Mar | F3: =MONTH(F2) -> 3 | G3: =MONTH(G2) -> 3 | H3: =MONTH(H2) -> 3 | I3: =MONTH(I2) -> 3 | J3: =MONTH(J2) -> 3 | K3: =MONTH(K2) -> 3 | L3: =MONTH(L2) -> 3 | M3: =MONTH(M2) -> 3 | ... X3: =MONTH(X2) -> 3 | Y3: 3 | Z3: 3 | AA3: 3 | AB3: 3 | AC3: 3 | AD3: 3 | AF3: =MONTH(AF2) -> 6 | AG3: =MONTH(AG2) -> 9 | AH3: =MONTH(AH2) -> 12 | AI3: =MONTH(AI2) -> 3 | AJ3: =MONTH(AJ2) -> 6 | AK3: =MONTH(AK2) -> 9 | AL3: =MONTH(AL2) -> 12 | AM3: =MONTH(AM2) -> 3 | ... BW3: =MONTH(BW2) -> 3
C4: Number of months in year | F4: 12 | G4: 12 | H4: 12 | I4: 12 | J4: 12 | K4: 12 | L4: 12 | M4: 12 | N4: 12 | O4: 12 | P4: 12 | Q4: 12 | R4: 12 | S4: 12 | T4: 12 | U4: 12 | V4: 12 | W4: 12 | X4: 12 | Y4: 12 | Z4: 12 | AA4: 12 | AB4: 12 | AC4: 12 | AD4: 12 | AF4: 3 | AG4: 3 | AH4: 3 | AI4: 3 | AJ4: 3 | AK4: 3 | AL4: 3 | AM4: 3 | AN4: 3 | AO4: 3 | AP4: 3 | AQ4: 3 | AR4: 3 | AS4: 3 | AT4: 3 | AU4: 3 | AV4: 3 | AW4: 3 | AX4: 3 | AY4: 3 | AZ4: 3 | BA4: 3 | BB4: 3 | BC4: 3 | BD4: 3 | BE4: 3 | BF4: 3 | BG4: 3 | BH4: 3 | BI4: 3 | BJ4: 3 | BK4: 3 | BL4: =BK4 -> 3 | BM4: =BL4 -> 3 | BN4: =BM4 -> 3 | BO4: =BN4 -> 3 | BP4: =BO4 -> 3 | BQ4: =BP4 -> 3 | BR4: =BQ4 -> 3 | BS4: =BR4 -> 3 | ... BW4: =BV4 -> 3
C5: Actual/Estimate | F5: =IF(F2<=$E$16,"Actual","Estimate") -> Actual | G5: =IF(G2<=$E$16,"Actual","Estimate") -> Actual | H5: =IF(H2<=$E$16,"Actual","Estimate") -> Actual | I5: =IF(I2<=$E$16,"Actual","Estimate") -> Actual | J5: =IF(J2<=$E$16,"Actual","Estimate") -> Actual | K5: =IF(K2<=$E$16,"Actual","Estimate") -> Actual | L5: =IF(L2<=$E$16,"Actual","Estimate") -> Actual | M5: =IF(M2<=$E$16,"Actual","Estimate") -> Actual | ... AD5: =IF(AD2<=$E$16,"Actual","Estimate") -> Estimate | AF5: =IF(AF2<=$E$16,"Actual","Estimate") -> Actual | AG5: =IF(AG2<=$E$16,"Actual","Estimate") -> Actual | AH5: =IF(AH2<=$E$16,"Actual","Estimate") -> Actual | AI5: =IF(AI2<=$E$16,"Actual","Estimate") -> Actual | AJ5: =IF(AJ2<=$E$16,"Actual","Estimate") -> Actual | AK5: =IF(AK2<=$E$16,"Actual","Estimate") -> Actual | AL5: =IF(AL2<=$E$16,"Actual","Estimate") -> Actual | AM5: =IF(AM2<=$E$16,"Actual","Estimate") -> Actual | ... BW5: =IF(BW2<=$E$16,"Actual","Estimate") -> Actual
C7: COMPANY DATA
C8: Bloomberg code | D8: bbt | E8: BJAUT IB
C9: Company Name | D9: fullname | E9: =_xll.GETCOMPANYDATA(E8,"fullname") -> #NAME?
C10: Sector | D10: sector | E10: =_xll.GETCOMPANYDATA(E8,"sector") -> #NAME?
C11: CMP | D11: cmp | E11: =_xll.GETMARKETDATA("cmp",E8) -> #NAME?
C12: Target | D12: target | E12: =+Dashboard!E17 -> 2900
C13: Target Date | D13: targetdt | E13: =+Dashboard!E19 -> Mar '18
C14: Recommendation | D14: rec | E14: =+Dashboard!F17 -> HOLD
C15: Standalone/Consolidated | D15: type | E15: Standalone
C16: Date of results | D16: resultdt | E16: 42874
C18: Segment Names
C19: Segment Name 1 | D19: seg1
C20: Segment Name 2 | D20: seg2
C21: Segment Name 3 | D21: seg3
C22: Segment Name 4 | D22: seg4
C23: Segment Name 5 | D23: seg5
C25: Face Value
C32: ANNUAL FINANCIALS
C34: Income Statement (Rs mn)
B35: gsl | C35: Gross Sales | M35: =+'Inc Stmt'!C9 -> 43169.178 | N35: =+'Inc Stmt'!D9 -> 49876.86 | O35: =+'Inc Stmt'!E9 -> 59485.318 | P35: =+'Inc Stmt'!F9 -> 77409.6 | Q35: =+'Inc Stmt'!G9 -> 95928.2 | R35: =+'Inc Stmt'!H9 -> 90169.5 | S35: =+'Inc Stmt'!I9 -> 88148.1 | T35: =+'Inc Stmt'!J9 -> 118864.7 | ... AD35: =+'Inc Stmt'!T9 -> 352252.66 | AF35: =Quarterly!C11 -> 25053.6 | AG35: =Quarterly!D11 -> 27751.4 | AH35: =Quarterly!E11 -> 29267 | AI35: =Quarterly!F11 -> 26270.7 | AJ35: =Quarterly!G11 -> 22885.9 | AK35: =Quarterly!H11 -> 25197.3 | AL35: =Quarterly!I11 -> 26957.3 | AM35: =Quarterly!J11 -> 21859 | ... BW35: =Quarterly!AT11 -> 51205.4
B36: excise | C36: Less: Excise Duty | AF36: =Quarterly!C12 -> 3027 | AG36: =Quarterly!D12 -> 3391.7 | AH36: =Quarterly!E12 -> 3584.7 | AI36: =Quarterly!F12 -> 3135.2 | AJ36: =Quarterly!G12 -> 2524.9 | AK36: =Quarterly!H12 -> 2756 | AL36: =Quarterly!I12 -> 2971.3 | AM36: =Quarterly!J12 -> 2014.4 | ... BW36: =Quarterly!AT12 -> 3155.1
B37: nsl | C37: Net Sales | F37: =F35-F36 -> 0 | G37: =G35-G36 -> 0 | H37: =H35-H36 -> 0 | I37: =I35-I36 -> 0 | J37: =J35-J36 -> 0 | K37: =K35-K36 -> 0 | M37: =M35-M36 -> 43169.178 | N37: =N35-N36 -> 49876.86 | O37: =O35-O36 -> 59485.318 | P37: =P35-P36 -> 77409.6 | Q37: =Q35-Q36 -> 95928.2 | R37: =R35-R36 -> 90169.5 | S37: =S35-S36 -> 88148.1 | T37: =T35-T36 -> 118864.7 | ... AD37: =AD35-AD36 -> 352252.66 | AF37: =AF35-AF36 -> 22026.6 | AG37: =AG35-AG36 -> 24359.7 | AH37: =AH35-AH36 -> 25682.3 | AI37: =AI35-AI36 -> 23135.5 | AJ37: =AJ35-AJ36 -> 20361 | AK37: =AK35-AK36 -> 22441.3 | AL37: =AL35-AL36 -> 23986 | AM37: =AM35-AM36 -> 19844.6 | ... BW37: =BW35-BW36 -> 48050.3
B38: gt | C38: Growth (%) | F38: =IF(E37<0,"n.a.",((F37*12/F$4)/(E37*12/E$4)-1))*100 -> #DIV/0! | G38: =IF(F37<0,"n.a.",((G37*12/G$4)/(F37*12/F$4)-1))*100 -> #DIV/0! | H38: =IF(G37<0,"n.a.",((H37*12/H$4)/(G37*12/G$4)-1))*100 -> #DIV/0! | I38: =IF(H37<0,"n.a.",((I37*12/I$4)/(H37*12/H$4)-1))*100 -> #DIV/0! | J38: =IF(I37<0,"n.a.",((J37*12/J$4)/(I37*12/I$4)-1))*100 -> #DIV/0! | K38: =IF(J37<0,"n.a.",((K37*12/K$4)/(J37*12/J$4)-1))*100 -> #DIV/0! | M38: =IF(L37<0,"n.a.",((M37*12/M$4)/(L37*12/L$4)-1))*100 -> #DIV/0! | N38: =IF(M37<0,"n.a.",((N37*12/N$4)/(M37*12/M$4)-1))*100 -> 15.538128 | O38: =IF(N37<0,"n.a.",((O37*12/O$4)/(N37*12/N$4)-1))*100 -> 19.26436 | P38: =IF(O37<0,"n.a.",((P37*12/P$4)/(O37*12/O$4)-1))*100 -> 30.132279 | Q38: =IF(P37<0,"n.a.",((Q37*12/Q$4)/(P37*12/P$4)-1))*100 -> 23.922873 | R38: =IF(Q37<0,"n.a.",((R37*12/R$4)/(Q37*12/Q$4)-1))*100 -> -6.0031357 | S38: =IF(R37<0,"n.a.",((S37*12/S$4)/(R37*12/R$4)-1))*100 -> -2.241778 | T38: =IF(S37<0,"n.a.",((T37*12/T$4)/(S37*12/S$4)-1))*100 -> 34.846582 | ... AD38: =IF(AC37<0,"n.a.",((AD37*12/AD$4)/(AC37*12/AC$4)-1))*100 -> 15.942287 | AF38: =IF(AE37<0,"n.a.",((AF37*12/AF$4)/(AE37*12/AE$4)-1))*100 -> #DIV/0! | AG38: =IF(AF37<0,"n.a.",((AG37*12/AG$4)/(AF37*12/AF$4)-1))*100 -> 10.592193 | AH38: =IF(AG37<0,"n.a.",((AH37*12/AH$4)/(AG37*12/AG$4)-1))*100 -> 5.4294593 | AI38: =IF(AH37<0,"n.a.",((AI37*12/AI$4)/(AH37*12/AH$4)-1))*100 -> -9.9165573 | AJ38: =IF(AI37<0,"n.a.",((AJ37*12/AJ$4)/(AI37*12/AI$4)-1))*100 -> -11.992393 | AK38: =IF(AJ37<0,"n.a.",((AK37*12/AK$4)/(AJ37*12/AJ$4)-1))*100 -> 10.217082 | AL38: =IF(AK37<0,"n.a.",((AL37*12/AL$4)/(AK37*12/AK$4)-1))*100 -> 6.8832911 | AM38: =IF(AL37<0,"n.a.",((AM37*12/AM$4)/(AL37*12/AL$4)-1))*100 -> -17.265905 | ... BW38: =IF(BV37<0,"n.a.",((BW37*12/BW$4)/(BV37*12/BV$4)-1))*100 -> -3.4273529
B39: ooi | C39: Other operating income | AF39: =Quarterly!C13 -> 0 | AG39: =Quarterly!D13 -> 0 | AH39: =Quarterly!E13 -> 0 | AI39: =Quarterly!F13 -> 0 | AJ39: =Quarterly!G13 -> 725.5 | AK39: =Quarterly!H13 -> 1176.9 | AL39: =Quarterly!I13 -> 1026.5 | AM39: =Quarterly!J13 -> 899.9 | ... BW39: =Quarterly!AT13 -> 922.9
B40: toi | C40: Total Revenue | F40: =F37+F39 -> 0 | G40: =G37+G39 -> 0 | H40: =H37+H39 -> 0 | I40: =I37+I39 -> 0 | J40: =J37+J39 -> 0 | K40: =K37+K39 -> 0 | M40: =M37+M39 -> 43169.178 | N40: =N37+N39 -> 49876.86 | O40: =O37+O39 -> 59485.318 | P40: =P37+P39 -> 77409.6 | Q40: =Q37+Q39 -> 95928.2 | R40: =R37+R39 -> 90169.5 | S40: =S37+S39 -> 88148.1 | T40: =T37+T39 -> 118864.7 | ... AD40: =AD37+AD39 -> 352252.66 | AF40: =AF37+AF39 -> 22026.6 | AG40: =AG37+AG39 -> 24359.7 | AH40: =AH37+AH39 -> 25682.3 | AI40: =AI37+AI39 -> 23135.5 | AJ40: =AJ37+AJ39 -> 21086.5 | AK40: =AK37+AK39 -> 23618.2 | AL40: =AL37+AL39 -> 25012.5 | AM40: =AM37+AM39 -> 20744.5 | ... BW40: =BW37+BW39 -> 48973.2
B41: gth | C41: Growth (%) | F41: =IF(E40<0,"n.a.",((F40*12/F$4)/(E40*12/E$4)-1))*100 -> #DIV/0! | G41: =IF(F40<0,"n.a.",((G40*12/G$4)/(F40*12/F$4)-1))*100 -> #DIV/0! | H41: =IF(G40<0,"n.a.",((H40*12/H$4)/(G40*12/G$4)-1))*100 -> #DIV/0! | I41: =IF(H40<0,"n.a.",((I40*12/I$4)/(H40*12/H$4)-1))*100 -> #DIV/0! | J41: =IF(I40<0,"n.a.",((J40*12/J$4)/(I40*12/I$4)-1))*100 -> #DIV/0! | K41: =IF(J40<0,"n.a.",((K40*12/K$4)/(J40*12/J$4)-1))*100 -> #DIV/0! | M41: =IF(L40<0,"n.a.",((M40*12/M$4)/(L40*12/L$4)-1))*100 -> #DIV/0! | N41: =IF(M40<0,"n.a.",((N40*12/N$4)/(M40*12/M$4)-1))*100 -> 15.538128 | O41: =IF(N40<0,"n.a.",((O40*12/O$4)/(N40*12/N$4)-1))*100 -> 19.26436 | P41: =IF(O40<0,"n.a.",((P40*12/P$4)/(O40*12/O$4)-1))*100 -> 30.132279 | Q41: =IF(P40<0,"n.a.",((Q40*12/Q$4)/(P40*12/P$4)-1))*100 -> 23.922873 | R41: =IF(Q40<0,"n.a.",((R40*12/R$4)/(Q40*12/Q$4)-1))*100 -> -6.0031357 | S41: =IF(R40<0,"n.a.",((S40*12/S$4)/(R40*12/R$4)-1))*100 -> -2.241778 | T41: =IF(S40<0,"n.a.",((T40*12/T$4)/(S40*12/S$4)-1))*100 -> 34.846582 | ... AD41: =IF(AC40<0,"n.a.",((AD40*12/AD$4)/(AC40*12/AC$4)-1))*100 -> 15.942287 | AF41: =IF(AE40<0,"n.a.",((AF40*12/AF$4)/(AE40*12/AE$4)-1))*100 -> #DIV/0! | AG41: =IF(AF40<0,"n.a.",((AG40*12/AG$4)/(AF40*12/AF$4)-1))*100 -> 10.592193 | AH41: =IF(AG40<0,"n.a.",((AH40*12/AH$4)/(AG40*12/AG$4)-1))*100 -> 5.4294593 | AI41: =IF(AH40<0,"n.a.",((AI40*12/AI$4)/(AH40*12/AH$4)-1))*100 -> -9.9165573 | AJ41: =IF(AI40<0,"n.a.",((AJ40*12/AJ$4)/(AI40*12/AI$4)-1))*100 -> -8.8565192 | AK41: =IF(AJ40<0,"n.a.",((AK40*12/AK$4)/(AJ40*12/AJ$4)-1))*100 -> 12.00626 | AL41: =IF(AK40<0,"n.a.",((AL40*12/AL$4)/(AK40*12/AK$4)-1))*100 -> 5.9034981 | AM41: =IF(AL40<0,"n.a.",((AM40*12/AM$4)/(AL40*12/AL$4)-1))*100 -> -17.063468 | ... BW41: =IF(BV40<0,"n.a.",((BW40*12/BW$4)/(BV40*12/BV$4)-1))*100 -> -3.3466288
B42: opex | C42: Total Expenditure | F42: =F43+F47+F66+F69 -> 0 | G42: =G43+G47+G66+G69 -> 0 | H42: =H43+H47+H66+H69 -> 0 | I42: =I43+I47+I66+I69 -> 0 | J42: =J43+J47+J66+J69 -> 0 | K42: =K43+K47+K66+K69 -> 0 | M42: =M43+M47+M66+M69 -> 35204.089 | N42: =N43+N47+N66+N69 -> 40639.788 | O42: =O43+O47+O66+O69 -> 50136.831 | P42: =P43+P47+P66+P69 -> 63116.3 | Q42: =Q43+Q47+Q66+Q69 -> 81034.4 | R42: =R43+R47+R66+R69 -> 77874.9 | S42: =S43+S47+S66+S69 -> 76905 | T42: =T43+T47+T66+T69 -> 93284.2 | ... AD42: =AD43+AD47+AD66+AD69 -> 285515.58 | AF42: =AF43+AF47+AF66+AF69 -> 18419.7 | AG42: =AG43+AG47+AG66+AG69 -> 20707.8 | AH42: =AH43+AH47+AH66+AH69 -> 22046.1 | AI42: =AI43+AI47+AI66+AI69 -> 19872.6 | AJ42: =AJ43+AJ47+AJ66+AJ69 -> 18337.5 | AK42: =AK43+AK47+AK66+AK69 -> 19837.7 | AL42: =AL43+AL47+AL66+AL69 -> 21342.7 | AM42: =AM43+AM47+AM66+AM69 -> 18128.8 | ... BW42: =BW43+BW47+BW66+BW69 -> 39913.4
B43: mcd | C43: Raw-Materials | F43: =SUM(F44:F46) -> 0 | G43: =SUM(G44:G46) -> 0 | H43: =SUM(H44:H46) -> 0 | I43: =SUM(I44:I46) -> 0 | J43: =SUM(J44:J46) -> 0 | K43: =SUM(K44:K46) -> 0 | M43: =SUM(M44:M46) -> 26883.081 | N43: =SUM(N44:N46) -> 31992.219 | O43: =SUM(O44:O46) -> 41020.847 | P43: =SUM(P44:P46) -> 53246 | Q43: =SUM(Q44:Q46) -> 69010.1 | R43: =SUM(R44:R46) -> 66192.9 | S43: =SUM(S44:S46) -> 64615.7 | T43: =SUM(T44:T46) -> 80704.4 | ... AD43: =SUM(AD44:AD46) -> 243406.59 | AF43: =SUM(AF44:AF46) -> 15543.9 | AG43: =SUM(AG44:AG46) -> 17691.8 | AH43: =SUM(AH44:AH46) -> 18855.8 | AI43: =SUM(AI44:AI46) -> 16918.6 | AJ43: =SUM(AJ44:AJ46) -> 15260.2 | AK43: =SUM(AK44:AK46) -> 17066.7 | AL43: =SUM(AL44:AL46) -> 18636.5 | AM43: =SUM(AM44:AM46) -> 15240.3 | ... BW43: =SUM(BW44:BW46) -> 33202.7
B44: rms | C44: Raw Material Consumed | M44: =+'Inc Stmt'!C10 -> 26883.081 | N44: =+'Inc Stmt'!D10 -> 31992.219 | O44: =+'Inc Stmt'!E10 -> 41020.847 | P44: =+'Inc Stmt'!F10 -> 53246 | Q44: =+'Inc Stmt'!G10 -> 69010.1 | R44: =+'Inc Stmt'!H10 -> 66192.9 | S44: =+'Inc Stmt'!I10 -> 64615.7 | T44: =+'Inc Stmt'!J10 -> 80704.4 | ... AD44: =+'Inc Stmt'!T10 -> 243406.59 | AF44: =Quarterly!C18 -> 15543.9 | AG44: =Quarterly!D18 -> 17691.8 | AH44: =Quarterly!E18 -> 18855.8 | AI44: =Quarterly!F18 -> 16918.6 | AJ44: =Quarterly!G18 -> 15260.2 | AK44: =Quarterly!H18 -> 17066.7 | AL44: =Quarterly!I18 -> 18636.5 | AM44: =Quarterly!J18 -> 15240.3 | ... BW44: =Quarterly!AT18 -> 33202.7
B45: sa | C45: Stock Adjustment
B46: poftp | C46: Purchase of finished/traded products
B47: opexp | C47: Operating Expenses | F47: =SUM(F48:F65) -> 0 | G47: =SUM(G48:G65) -> 0 | H47: =SUM(H48:H65) -> 0 | I47: =SUM(I48:I65) -> 0 | J47: =SUM(J48:J65) -> 0 | K47: =SUM(K48:K65) -> 0 | M47: =SUM(M48:M65) -> 8321.008 | N47: =SUM(N48:N65) -> 8647.569 | O47: =SUM(O48:O65) -> 9115.984 | P47: =SUM(P48:P65) -> 9870.3 | Q47: =SUM(Q48:Q65) -> 12024.3 | R47: =SUM(R48:R65) -> 11682 | S47: =SUM(S48:S65) -> 12289.3 | T47: =SUM(T48:T65) -> 12579.8 | ... AD47: =SUM(AD48:AD65) -> 42108.987 | AF47: =SUM(AF48:AF65) -> 2875.8 | AG47: =SUM(AG48:AG65) -> 3016 | AH47: =SUM(AH48:AH65) -> 3190.3 | AI47: =SUM(AI48:AI65) -> 2954 | AJ47: =SUM(AJ48:AJ65) -> 3077.3 | AK47: =SUM(AK48:AK65) -> 2771 | AL47: =SUM(AL48:AL65) -> 2706.2 | AM47: =SUM(AM48:AM65) -> 2888.5 | ... BW47: =SUM(BW48:BW65) -> 6710.7
B48: frt | C48: Freight
B49: pwr | C49: Power&Fuel
B50: emct | C50: Employee Cost | M50: =+'Inc Stmt'!C14 -> 2838.404 | N50: =+'Inc Stmt'!D14 -> 2405.356 | O50: =+'Inc Stmt'!E14 -> 2490.636 | P50: =+'Inc Stmt'!F14 -> 2741.3 | Q50: =+'Inc Stmt'!G14 -> 3015.2 | R50: =+'Inc Stmt'!H14 -> 3467.3 | S50: =+'Inc Stmt'!I14 -> 3600.9 | T50: =+'Inc Stmt'!J14 -> 3994.6 | ... AD50: =+'Inc Stmt'!T14 -> 15563.226 | AF50: =Quarterly!C27 -> 855.8 | AG50: =Quarterly!D27 -> 725.9 | AH50: =Quarterly!E27 -> 757.1 | AI50: =Quarterly!F27 -> 688.2 | AJ50: =Quarterly!G27 -> 986.7 | AK50: =Quarterly!H27 -> 735.2 | AL50: =Quarterly!I27 -> 845.9 | AM50: =Quarterly!J27 -> 863 | ... BW50: =Quarterly!AT27 -> 2273.2
...

Sheet Ratio Sheet
A2: Bajaj Auto
A4: Financial Ratios Analysis
B5: FYE Mar, in Rs millions
C7: FY03 | D7: FY04 | E7: FY05 | F7: FY06 | G7: FY07 | H7: FY08 | I7: FY09E | J7: FY10E | K7: FY11E | L7: FY12E | M7: FY13E | N7: FY14E | O7: FY15E | P7: FY16E | Q7: FY17E | R7: FY18E | S7: FY19E | T7: FY20E
B9: Common-sized P&L
A11: % | B11: Net revenues | C11: =+'Inc Stmt'!C9/'Inc Stmt'!C$9 -> 1 | D11: =+'Inc Stmt'!D9/'Inc Stmt'!D$9 -> 1 | E11: =+'Inc Stmt'!E9/'Inc Stmt'!E$9 -> 1 | F11: =+'Inc Stmt'!F9/'Inc Stmt'!F$9 -> 1 | G11: =+'Inc Stmt'!G9/'Inc Stmt'!G$9 -> 1 | H11: =+'Inc Stmt'!H9/'Inc Stmt'!H$9 -> 1 | I11: =+'Inc Stmt'!I9/'Inc Stmt'!I$9 -> 1 | J11: =+'Inc Stmt'!J9/'Inc Stmt'!J$9 -> 1 | ... Q11: =+'Inc Stmt'!Q9/'Inc Stmt'!Q$9 -> 1
A12: % | B12: Cost of revenues | C12: =+'Inc Stmt'!C10/'Inc Stmt'!C$9 -> 0.62273785 | D12: =+'Inc Stmt'!D10/'Inc Stmt'!D$9 -> 0.64142408 | E12: =+'Inc Stmt'!E10/'Inc Stmt'!E$9 -> 0.68959616 | F12: =+'Inc Stmt'!F10/'Inc Stmt'!F$9 -> 0.6878475 | G12: =+'Inc Stmt'!G10/'Inc Stmt'!G$9 -> 0.71939325 | H12: =+'Inc Stmt'!H10/'Inc Stmt'!H$9 -> 0.73409412 | I12: =+'Inc Stmt'!I10/'Inc Stmt'!I$9 -> 0.73303565 | J12: =+'Inc Stmt'!J10/'Inc Stmt'!J$9 -> 0.6789602 | ... Q12: =+'Inc Stmt'!Q10/'Inc Stmt'!Q$9 -> 0.67185947
A13: % | B13: Other operating costs | C13: =+SUM('Inc Stmt'!C14:C20)/'Inc Stmt'!C$9 -> 0.19275345 | D13: =+SUM('Inc Stmt'!D14:D20)/'Inc Stmt'!D$9 -> 0.17337838 | E13: =+SUM('Inc Stmt'!E14:E20)/'Inc Stmt'!E$9 -> 0.15324763 | F13: =+SUM('Inc Stmt'!F14:F20)/'Inc Stmt'!F$9 -> 0.12750744 | G13: =+SUM('Inc Stmt'!G14:G20)/'Inc Stmt'!G$9 -> 0.12534687 | H13: =+SUM('Inc Stmt'!H14:H20)/'Inc Stmt'!H$9 -> 0.129556 | I13: =+SUM('Inc Stmt'!I14:I20)/'Inc Stmt'!I$9 -> 0.1394165 | J13: =+SUM('Inc Stmt'!J14:J20)/'Inc Stmt'!J$9 -> 0.10583293 | ... Q13: =+SUM('Inc Stmt'!Q14:Q20)/'Inc Stmt'!Q$9 -> 0.12496991
A14: % | B14: Depreciation | C14: =+'Inc Stmt'!C23/'Inc Stmt'!C$9 -> 0.039647848 | D14: =+'Inc Stmt'!D23/'Inc Stmt'!D$9 -> 0.036067748 | E14: =+'Inc Stmt'!E23/'Inc Stmt'!E$9 -> 0.031161689 | F14: =+'Inc Stmt'!F23/'Inc Stmt'!F$9 -> 0.024673942 | G14: =+'Inc Stmt'!G23/'Inc Stmt'!G$9 -> 0.019833584 | H14: =+'Inc Stmt'!H23/'Inc Stmt'!H$9 -> 0.019364641 | I14: =+'Inc Stmt'!I23/'Inc Stmt'!I$9 -> 0.014818243 | J14: =+'Inc Stmt'!J23/'Inc Stmt'!J$9 -> 0.011479438 | ... Q14: =+'Inc Stmt'!Q23/'Inc Stmt'!Q$9 -> 0.014117449
A15: % | B15: Amortisation | C15: =+'Inc Stmt'!C24/'Inc Stmt'!C$9 -> 0 | D15: =+'Inc Stmt'!D24/'Inc Stmt'!D$9 -> 0 | E15: =+'Inc Stmt'!E24/'Inc Stmt'!E$9 -> 0 | F15: =+'Inc Stmt'!F24/'Inc Stmt'!F$9 -> 0 | G15: =+'Inc Stmt'!G24/'Inc Stmt'!G$9 -> 0 | H15: =+'Inc Stmt'!H24/'Inc Stmt'!H$9 -> 0 | I15: =+'Inc Stmt'!I24/'Inc Stmt'!I$9 -> 0 | J15: =+'Inc Stmt'!J24/'Inc Stmt'!J$9 -> 0 | ... Q15: =+'Inc Stmt'!Q24/'Inc Stmt'!Q$9 -> 0
A16: % | B16: Interest expenses | C16: =+'Inc Stmt'!C27/'Inc Stmt'!C$9 -> 0.00025891158 | D16: =+'Inc Stmt'!D27/'Inc Stmt'!D$9 -> 0.00018748173 | E16: =+'Inc Stmt'!E27/'Inc Stmt'!E$9 -> 0.00011231343 | F16: =+'Inc Stmt'!F27/'Inc Stmt'!F$9 -> 4.3922201e-05 | G16: =+'Inc Stmt'!G27/'Inc Stmt'!G$9 -> 0.00055666634 | H16: =+'Inc Stmt'!H27/'Inc Stmt'!H$9 -> 0.00057225559 | I16: =+'Inc Stmt'!I27/'Inc Stmt'!I$9 -> 0.0024833207 | J16: =+'Inc Stmt'!J27/'Inc Stmt'!J$9 -> 0.00050309301 | ... Q16: =+'Inc Stmt'!Q27/'Inc Stmt'!Q$9 -> 6.431849e-05
A17: % | B17: Other income | C17: =+'Inc Stmt'!C28/'Inc Stmt'!C$9 -> 0.038079344 | D17: =+'Inc Stmt'!D28/'Inc Stmt'!D$9 -> 0.056656353 | E17: =+'Inc Stmt'!E28/'Inc Stmt'!E$9 -> 0.064998762 | F17: =+'Inc Stmt'!F28/'Inc Stmt'!F$9 -> 0.047200864 | G17: =+'Inc Stmt'!G28/'Inc Stmt'!G$9 -> 0.050369964 | H17: =+'Inc Stmt'!H28/'Inc Stmt'!H$9 -> 0.016308175 | I17: =+'Inc Stmt'!I28/'Inc Stmt'!I$9 -> 0.013828999 | J17: =+'Inc Stmt'!J28/'Inc Stmt'!J$9 -> 0.013209136 | ... Q17: =+'Inc Stmt'!Q28/'Inc Stmt'!Q$9 -> 0.056139476
A18: % | B18: Income taxes | C18: =+'Inc Stmt'!C32/'Inc Stmt'!C$9 -> 0.057957439 | D18: =+'Inc Stmt'!D32/'Inc Stmt'!D$9 -> 0.045895612 | E18: =+'Inc Stmt'!E32/'Inc Stmt'!E$9 -> 0.053732603 | F18: =+'Inc Stmt'!F32/'Inc Stmt'!F$9 -> 0.06189284 | G18: =+'Inc Stmt'!G32/'Inc Stmt'!G$9 -> 0.051089252 | H18: =+'Inc Stmt'!H32/'Inc Stmt'!H$9 -> 0.040858605 | I18: =+'Inc Stmt'!I32/'Inc Stmt'!I$9 -> 0.032772119 | J18: =+'Inc Stmt'!J32/'Inc Stmt'!J$9 -> 0.059521456 | ... Q18: =+'Inc Stmt'!Q32/'Inc Stmt'!Q$9 -> 0.069283419
B21: Common-sized Balance Sheet
A23: % | B23: Assets | C23: =+'Bal Sheet'!C21/'Bal Sheet'!C$21 -> 1 | D23: =+'Bal Sheet'!D21/'Bal Sheet'!D$21 -> 1 | E23: =+'Bal Sheet'!E21/'Bal Sheet'!E$21 -> 1 | F23: =+'Bal Sheet'!F21/'Bal Sheet'!F$21 -> 1 | G23: =+'Bal Sheet'!G21/'Bal Sheet'!G$21 -> 1 | H23: =+'Bal Sheet'!H21/'Bal Sheet'!H$21 -> 1 | I23: =+'Bal Sheet'!I21/'Bal Sheet'!I$21 -> 1 | J23: =+'Bal Sheet'!J21/'Bal Sheet'!J$21 -> 1 | ... Q23: =+'Bal Sheet'!Q21/'Bal Sheet'!Q$21 -> 1
A24: % | B24: Current assets | C24: =+'Bal Sheet'!C14/'Bal Sheet'!C$21 -> 0.35790425 | D24: =+'Bal Sheet'!D14/'Bal Sheet'!D$21 -> 0.29223118 | E24: =+'Bal Sheet'!E14/'Bal Sheet'!E$21 -> 0.31755288 | F24: =+'Bal Sheet'!F14/'Bal Sheet'!F$21 -> 0.29194663 | G24: =+'Bal Sheet'!G14/'Bal Sheet'!G$21 -> 0.33227148 | H24: =+'Bal Sheet'!H14/'Bal Sheet'!H$21 -> 0.34363238 | I24: =+'Bal Sheet'!I14/'Bal Sheet'!I$21 -> 0.3924006 | J24: =+'Bal Sheet'!J14/'Bal Sheet'!J$21 -> 0.35132155 | ... Q24: =+'Bal Sheet'!Q14/'Bal Sheet'!Q$21 -> 0.18797775
A25: % | B25: Current assets - Cash | C25: =+('Bal Sheet'!C14-'Bal Sheet'!C13)/'Bal Sheet'!C$21 -> 0.35291794 | D25: =+('Bal Sheet'!D14-'Bal Sheet'!D13)/'Bal Sheet'!D$21 -> 0.28093356 | E25: =+('Bal Sheet'!E14-'Bal Sheet'!E13)/'Bal Sheet'!E$21 -> 0.3042265 | F25: =+('Bal Sheet'!F14-'Bal Sheet'!F13)/'Bal Sheet'!F$21 -> 0.28356543 | G25: =+('Bal Sheet'!G14-'Bal Sheet'!G13)/'Bal Sheet'!G$21 -> 0.32500846 | H25: =+('Bal Sheet'!H14-'Bal Sheet'!H13)/'Bal Sheet'!H$21 -> 0.32895634 | I25: =+('Bal Sheet'!I14-'Bal Sheet'!I13)/'Bal Sheet'!I$21 -> 0.36808523 | J25: =+('Bal Sheet'!J14-'Bal Sheet'!J13)/'Bal Sheet'!J$21 -> 0.33944947 | ... Q25: =+('Bal Sheet'!Q14-'Bal Sheet'!Q13)/'Bal Sheet'!Q$21 -> 0.15861156
A26: % | B26: Net fixed assets | C26: =+'Bal Sheet'!C15/'Bal Sheet'!C$21 -> 0.21269206 | D26: =+'Bal Sheet'!D15/'Bal Sheet'!D$21 -> 0.17288341 | E26: =+'Bal Sheet'!E15/'Bal Sheet'!E$21 -> 0.13774198 | F26: =+'Bal Sheet'!F15/'Bal Sheet'!F$21 -> 0.11636363 | G26: =+'Bal Sheet'!G15/'Bal Sheet'!G$21 -> 0.11128156 | H26: =+'Bal Sheet'!H15/'Bal Sheet'!H$21 -> 0.26729595 | I26: =+'Bal Sheet'!I15/'Bal Sheet'!I$21 -> 0.26459493 | J26: =+'Bal Sheet'!J15/'Bal Sheet'!J$21 -> 0.17807651 | ... Q26: =+'Bal Sheet'!Q15/'Bal Sheet'!Q$21 -> 0.10921638
A27: % | B27: Net intangible assets | C27: =+'Bal Sheet'!C16/'Bal Sheet'!C$21 -> 0.0017739362 | D27: =+'Bal Sheet'!D16/'Bal Sheet'!D$21 -> 0.0010922208 | E27: =+'Bal Sheet'!E16/'Bal Sheet'!E$21 -> 0.00049728391 | F27: =+'Bal Sheet'!F16/'Bal Sheet'!F$21 -> 0.00013697776 | G27: =+'Bal Sheet'!G16/'Bal Sheet'!G$21 -> 0.00035936574 | H27: =+'Bal Sheet'!H16/'Bal Sheet'!H$21 -> 0.0021692689 | I27: =+'Bal Sheet'!I16/'Bal Sheet'!I$21 -> 0.0027717878 | J27: =+'Bal Sheet'!J16/'Bal Sheet'!J$21 -> 0 | ... Q27: =+'Bal Sheet'!Q16/'Bal Sheet'!Q$21 -> 0
A28: % | B28: Investments | C28: =+'Bal Sheet'!C17/'Bal Sheet'!C$21 -> 0.45335593 | D28: =+'Bal Sheet'!D17/'Bal Sheet'!D$21 -> 0.54878499 | E28: =+'Bal Sheet'!E17/'Bal Sheet'!E$21 -> 0.55921607 | F28: =+'Bal Sheet'!F17/'Bal Sheet'!F$21 -> 0.5987165 | G28: =+'Bal Sheet'!G17/'Bal Sheet'!G$21 -> 0.56101865 | H28: =+'Bal Sheet'!H17/'Bal Sheet'!H$21 -> 0.32204476 | I28: =+'Bal Sheet'!I17/'Bal Sheet'!I$21 -> 0.24260644 | J28: =+'Bal Sheet'!J17/'Bal Sheet'!J$21 -> 0.47079979 | ... Q28: =+'Bal Sheet'!Q17/'Bal Sheet'!Q$21 -> 0.71273525
A29: % | B29: Other assets | C29: =+('Bal Sheet'!C18+'Bal Sheet'!C19+'Bal Sheet'!C20)/'Bal Sheet'!C$21 -> -0.025726176 | D29: =+('Bal Sheet'!D18+'Bal Sheet'!D19+'Bal Sheet'!D20)/'Bal Sheet'!D$21 -> -0.014991807 | E29: =+('Bal Sheet'!E18+'Bal Sheet'!E19+'Bal Sheet'!E20)/'Bal Sheet'!E$21 -> -0.015008214 | F29: =+('Bal Sheet'!F18+'Bal Sheet'!F19+'Bal Sheet'!F20)/'Bal Sheet'!F$21 -> -0.0071637324 | G29: =+('Bal Sheet'!G18+'Bal Sheet'!G19+'Bal Sheet'!G20)/'Bal Sheet'!G$21 -> -0.0049310549 | H29: =+('Bal Sheet'!H18+'Bal Sheet'!H19+'Bal Sheet'!H20)/'Bal Sheet'!H$21 -> 0.064857638 | I29: =+('Bal Sheet'!I18+'Bal Sheet'!I19+'Bal Sheet'!I20)/'Bal Sheet'!I$21 -> 0.097626252 | J29: =+('Bal Sheet'!J18+'Bal Sheet'!J19+'Bal Sheet'!J20)/'Bal Sheet'!J$21 -> -0.00019784849 | ... Q29: =+('Bal Sheet'!Q18+'Bal Sheet'!Q19+'Bal Sheet'!Q20)/'Bal Sheet'!Q$21 -> -0.0099293856
A31: % | B31: Liabilities & equity | C31: =+'Bal Sheet'!C30/'Bal Sheet'!C$30 -> 1 | D31: =+'Bal Sheet'!D30/'Bal Sheet'!D$30 -> 1 | E31: =+'Bal Sheet'!E30/'Bal Sheet'!E$30 -> 1 | F31: =+'Bal Sheet'!F30/'Bal Sheet'!F$30 -> 1 | G31: =+'Bal Sheet'!G30/'Bal Sheet'!G$30 -> 1 | H31: =+'Bal Sheet'!H30/'Bal Sheet'!H$30 -> 1 | I31: =+'Bal Sheet'!I30/'Bal Sheet'!I$30 -> 1 | J31: =+'Bal Sheet'!J30/'Bal Sheet'!J$30 -> 1 | ... Q31: =+'Bal Sheet'!Q30/'Bal Sheet'!Q$30 -> 1
