Workbook

Sheet Instructions
A1: EQUITY RESEARCH Evaluation material
A3: Instructions:
A4: · The test contains two parts – Model Update and Report on the stock ‘Inmarsat Plc’. Please find below the instructions for each part as a separate sub-section
A5: · Please use relevant reports and presentations available on the company's website to populate the model and the report
A6: · In the event of any doubts or queries, use your best judgement to interpret. Feel free to document the same appropriately as a comment
A7: · The time limit for the test is 2 hours
A9: Model Update:
A10: In the couple of other tabs available in this spreadsheet, kindly do the following:
A11: · ‘Variance’ sheet – Update the yellow highlighted cells with company reported numbers using relevant formulae where applicable
A12: · ‘Model’ sheet – Update the FY2017 forecasts in the 'Revenue & Cost model' and 'Income Statement' with company reported numbers. BS and CF already contain the reported numbers Update the yellow highlighted cells by linking it with the appropriate line items in the model
A14: Report:
A15: Using a blank MS-Word document, kindly write a one-page investment case focusing on the following
... A18: · Interpretation of the FY 2018 guidance and its implications on our assumptions which have been highlighted in blue in the 'Model' sheet

Sheet Model
B1: Inmarsat Plc
B3: Enterprise Valuation | C3: FY2018F
B4: Share Price (GBP) | C4: 362.1
B5: Exchange rate | C5: 1.18
B6: No. of shares used to calculate mkt cap (m) | C6: =610500000 -> 610500000
B7: Total Market Cap (USDm) | C7: =C4*C6/10^6 -> 221062.05
B8: Net Debt | C8: =E148 -> 0
B9: Minority Interests | C9: =E144 -> 1
B10: Investments | C10: =E108 -> 1.2
B11: Associates | C11: =E118 -> 0
B12: Pension Liabilities | C12: =E135 -> 0
B13: Other Obligations | C13: =E137 -> 262.3
B14: Enterprise value (USDm) | C14: =C7+C8+C9-C10-C11+C12+C13 -> 221324.15
B16: ValuationSummary | C16: FY2017A | D16: FY2018F
B17: Valuation Metrics
B18: Share Price
B19: P/E (x)
B20: P/BV (x)
B21: EV/EBITDA (x)
B22: FCF Yield (%)
B23: Dividend Yield (%)
B25: Year Ending | C25: FY2016 | D25: FY2017 | E25: FY2018
B26: (USDm) | C26: A | D26: F | E26: z
B27: Revenue & Cost Model | C27: =C$25 -> FY2016 | D27: =D$25 -> FY2017 | E27: =E$25 -> FY2018
B28: Segmental Sales
B29: Maritime | C29: 575.3 | D29: 564.7 | E29: =D29*(1+E35) -> 595.1938
B30: Government | C30: 330.5 | D30: 366.7 | E30: =D30*(1+E36) -> 359.366
B31: Aviation | C31: 142.6 | D31: 195 | E31: =D31*(1+E37) -> 204.75
B32: Enterprise | C32: 144.6 | D32: 132.6 | E32: =D32*(1+E38) -> 137.904
B33: Central services | C33: 136 | D33: 141.2 | E33: =D33*(1+E39) -> 147.2716
B34: YoY Growth
B35: Maritime | C35: na | D35: =D29/C29-1 -> -0.018425169 | E35: 0.054
B36: Government | C36: na | D36: =D30/C30-1 -> 0.10953101 | E36: -0.02
B37: Aviation | C37: na | D37: =D31/C31-1 -> 0.36746143 | E37: 0.05
B38: Enterprise | C38: na | D38: =D32/C32-1 -> -0.082987552 | E38: 0.04
B39: Central services | C39: na | D39: =D33/C33-1 -> 0.038235294 | E39: 0.043
B40: Sales | C40: =SUM(C29:C33) -> 1329 | D40: =SUM(D29:D33) -> 1400.2 | E40: =SUM(E29:E33) -> 1444.4854
B41: % growth | C41: na | D41: =D40/C40-1 -> 0.053574116 | E41: =E40/D40-1 -> 0.03162791
B42: EBITDA
B43: Maritime | C43: 454.8 | D43: 441.9 | E43: =E29*E49 -> 463.06078
...

Sheet Variance
B2: Earnings Variance Table
C4: Actual | E4: y-o-y growth (%) | F4: Analyst Est | G4: Consensus | H4: Beat / (Miss) (%)
B5: USD Million | C5: FY2017A | D5: FY2016A | F5: FY2017 | G5: FY2017 | H5: vs. Analyst Est | I5: vs. Consenus
B6: Revenue | D6: =Model!C40 -> 1329 | F6: =Model!D40 -> 1400.2 | G6: 1420
B7: EBITDA | D7: =Model!C54 -> 794.8 | F7: =Model!D54 -> 1053.4 | G7: 765
B8: margin
B9: EBIT | D9: =Model!C74 -> 444.2 | F9: =Model!D74 -> 344.7 | G9: 360
B10: margin
B11: Net Profit | D11: =Model!C92 -> 242.8 | F11: =Model!D92 -> 222.1 | G11: 205
B12: EPS | D12: =Model!C101 -> 0.53518488 | F12: =Model!D101 -> 0.48487478 | G12: 0.43
